Index of /checkResults/devel/bioc-LATEST/gemini/raw-results/nebbiolo2

[ICO]NameLast modifiedSizeDescription

[DIR]Parent Directory  -  
[TXT]buildsrc-out.txt14-Jul-2024 00:39 889  
[   ]buildsrc-summary.dcf14-Jul-2024 00:39 420  
[TXT]checksrc-out.txt14-Jul-2024 00:39 4.4K 
[   ]checksrc-summary.dcf14-Jul-2024 00:39 410  
[TXT]install-out.txt14-Jul-2024 00:39 957  
[   ]install-summary.dcf14-Jul-2024 00:39 257