Back to Multiple platform build/check report for BioC 3.14
ABCDEF[G]HIJKLMNOPQRSTUVWXYZ

This page was generated on 2021-06-24 12:05:47 -0400 (Thu, 24 Jun 2021).

BUILD results for gaggle on riesling1

To the developers/maintainers of the gaggle package:
- Please allow up to 24 hours (and sometimes 48 hours) for your latest push to git@git.bioconductor.org:packages/gaggle.git to
reflect on this report. See How and When does the builder pull? When will my changes propagate? here for more information.
- Make sure to use the following settings in order to reproduce any error or warning you see on this page.

raw results

Package 665/1993HostnameOS / ArchINSTALLBUILDCHECKBUILD BIN
gaggle 1.61.0  (landing page)
Christopher Bare
Snapshot Date: 2021-06-23 14:50:10 -0400 (Wed, 23 Jun 2021)
URL: https://git.bioconductor.org/packages/gaggle
Branch: master
Last Commit: cd1a7e1
Last Changed Date: 2021-05-19 11:37:37 -0400 (Wed, 19 May 2021)
nebbiolo2Linux (Ubuntu 20.04.2 LTS) / x86_64  OK    OK    OK  UNNEEDED, same version is already published
riesling1Windows Server 2019 Standard / x64  OK    OK    OK    OK  UNNEEDED, same version is already published
merida1macOS 10.14.6 Mojave / x86_64  OK    OK    OK    OK  UNNEEDED, same version is already published

Summary

Package: gaggle
Version: 1.61.0
Command: chmod a+r gaggle -R && D:\biocbuild\bbs-3.14-bioc\R\bin\R.exe --arch x64 CMD build --keep-empty-dirs --no-resave-data gaggle
StartedAt: 2021-06-23 20:01:14 -0400 (Wed, 23 Jun 2021)
EndedAt: 2021-06-23 20:04:25 -0400 (Wed, 23 Jun 2021)
EllapsedTime: 191.1 seconds
RetCode: 0
Status:   OK  
PackageFile: gaggle_1.61.0.tar.gz
PackageFileSize: 300.9 KiB

Command output

##############################################################################
##############################################################################
###
### Running command:
###
###   chmod a+r gaggle -R && D:\biocbuild\bbs-3.14-bioc\R\bin\R.exe --arch x64 CMD build --keep-empty-dirs --no-resave-data gaggle
###
##############################################################################
##############################################################################


* checking for file 'gaggle/DESCRIPTION' ... OK
* preparing 'gaggle':
* checking DESCRIPTION meta-information ... OK
* installing the package to build vignettes
* creating vignettes ... OK
* checking for LF line-endings in source and make files and shell scripts
* checking for empty or unneeded directories
* building 'gaggle_1.61.0.tar.gz'