Back to Multiple platform build/check report for BioC 3.14
ABCDEF[G]HIJKLMNOPQRSTUVWXYZ

This page was generated on 2021-06-23 12:04:32 -0400 (Wed, 23 Jun 2021).

BUILD BIN results for gaggle on riesling1

To the developers/maintainers of the gaggle package:
- Please allow up to 24 hours (and sometimes 48 hours) for your latest push to git@git.bioconductor.org:packages/gaggle.git to
reflect on this report. See How and When does the builder pull? When will my changes propagate? here for more information.
- Make sure to use the following settings in order to reproduce any error or warning you see on this page.

raw results

Package 665/1993HostnameOS / ArchINSTALLBUILDCHECKBUILD BIN
gaggle 1.61.0  (landing page)
Christopher Bare
Snapshot Date: 2021-06-22 14:50:07 -0400 (Tue, 22 Jun 2021)
URL: https://git.bioconductor.org/packages/gaggle
Branch: master
Last Commit: cd1a7e1
Last Changed Date: 2021-05-19 11:37:37 -0400 (Wed, 19 May 2021)
nebbiolo2Linux (Ubuntu 20.04.2 LTS) / x86_64  OK    OK    OK  UNNEEDED, same version is already published
riesling1Windows Server 2019 Standard / x64  OK    OK    OK    OK  UNNEEDED, same version is already published
merida1macOS 10.14.6 Mojave / x86_64  OK    OK    OK    OK  UNNEEDED, same version is already published

Summary

Package: gaggle
Version: 1.61.0
Command: rm -rf gaggle.buildbin-libdir && mkdir gaggle.buildbin-libdir && D:\biocbuild\bbs-3.14-bioc\R\bin\R.exe --arch x64 CMD INSTALL --no-multiarch --build --library=gaggle.buildbin-libdir gaggle_1.61.0.tar.gz
StartedAt: 2021-06-23 04:12:43 -0400 (Wed, 23 Jun 2021)
EndedAt: 2021-06-23 04:16:29 -0400 (Wed, 23 Jun 2021)
EllapsedTime: 225.5 seconds
RetCode: 0
Status:   OK  
PackageFile: gaggle_1.61.0.zip
PackageFileSize: 342.6 KiB

Command output

##############################################################################
##############################################################################
###
### Running command:
###
###   rm -rf gaggle.buildbin-libdir && mkdir gaggle.buildbin-libdir && D:\biocbuild\bbs-3.14-bioc\R\bin\R.exe --arch x64 CMD INSTALL --no-multiarch --build --library=gaggle.buildbin-libdir gaggle_1.61.0.tar.gz
###
##############################################################################
##############################################################################


* installing *source* package 'gaggle' ...
** using staged installation
** R
** inst
** byte-compile and prepare package for lazy loading
** help
*** installing help indices
  converting help for package 'gaggle'
    finding HTML links ... done
    broadcast                               html  
    connectToGaggle                         html  
    disconnectFromGaggle                    html  
    gaggleInit                              html  
    geese                                   html  
    getCluster                              html  
    getJavaClassName                        html  
    getMatrix                               html  
    getNameList                             html  
    getNetwork                              html  
    getSpecies                              html  
    getTargetGoose                          html  
    getTuple                                html  
    hideGoose                               html  
    newTuple                                html  
    setSpecies                              html  
    setTargetGoose                          html  
    showGoose                               html  
    testGagglePackage                       html  
** building package indices
** installing vignettes
** testing if installed package can be loaded from temporary location

onLoad -- libname: D:/biocbuild/bbs-3.14-bioc/meat/gaggle.buildbin-libdir/00LOCK-gaggle/00new pkgname: gaggle 
path to jar: D:/biocbuild/bbs-3.14-bioc/meat/gaggle.buildbin-libdir/00LOCK-gaggle/00new/gaggle/jars/gaggleRShell.jar 
      script:  gaggle.R $Revision: 4499 $   $Date: 2010-08-10 17:15:03 -0700 (Tue, 10 Aug 2010) $ 
  os version:  Windows Server 2019 
 jvm version:  15.0.1 

   You are using the wrong version of Java.
   Please see http://gaggle.systemsbiology.org/docs/html/java

** testing if installed package can be loaded from final location

onLoad -- libname: D:/biocbuild/bbs-3.14-bioc/meat/gaggle.buildbin-libdir pkgname: gaggle 
path to jar: D:/biocbuild/bbs-3.14-bioc/meat/gaggle.buildbin-libdir/gaggle/jars/gaggleRShell.jar 
      script:  gaggle.R $Revision: 4499 $   $Date: 2010-08-10 17:15:03 -0700 (Tue, 10 Aug 2010) $ 
  os version:  Windows Server 2019 
 jvm version:  15.0.1 

   You are using the wrong version of Java.
   Please see http://gaggle.systemsbiology.org/docs/html/java

** testing if installed package keeps a record of temporary installation path
* MD5 sums
packaged installation of 'gaggle' as gaggle_1.61.0.zip
* DONE (gaggle)