Back to Multiple platform build/check report for BioC 3.14
ABCDEF[G]HIJKLMNOPQRSTUVWXYZ

This page was generated on 2021-06-17 12:05:31 -0400 (Thu, 17 Jun 2021).

INSTALL results for gage on riesling1

To the developers/maintainers of the gage package:
- Please allow up to 24 hours (and sometimes 48 hours) for your latest push to git@git.bioconductor.org:packages/gage.git to
reflect on this report. See How and When does the builder pull? When will my changes propagate? here for more information.
- Make sure to use the following settings in order to reproduce any error or warning you see on this page.

raw results

Package 664/1993HostnameOS / ArchINSTALLBUILDCHECKBUILD BIN
gage 2.43.0  (landing page)
Weijun Luo
Snapshot Date: 2021-06-16 14:50:06 -0400 (Wed, 16 Jun 2021)
URL: https://git.bioconductor.org/packages/gage
Branch: master
Last Commit: a40d2d0
Last Changed Date: 2021-05-19 11:46:29 -0400 (Wed, 19 May 2021)
nebbiolo2Linux (Ubuntu 20.04.2 LTS) / x86_64  OK    OK    WARNINGS  UNNEEDED, same version is already published
riesling1Windows Server 2019 Standard / x64  OK    OK    WARNINGS    OK  UNNEEDED, same version is already published
merida1macOS 10.14.6 Mojave / x86_64  OK    OK    WARNINGS    OK  UNNEEDED, same version is already published

Summary

Package: gage
Version: 2.43.0
Command: C:\cygwin\bin\curl.exe -O http://155.52.207.166/BBS/3.14/bioc/src/contrib/gage_2.43.0.tar.gz && rm -rf gage.buildbin-libdir && mkdir gage.buildbin-libdir && D:\biocbuild\bbs-3.14-bioc\R\bin\R.exe CMD INSTALL --merge-multiarch --build --library=gage.buildbin-libdir gage_2.43.0.tar.gz && D:\biocbuild\bbs-3.14-bioc\R\bin\R.exe CMD INSTALL gage_2.43.0.zip && rm gage_2.43.0.tar.gz gage_2.43.0.zip
StartedAt: 2021-06-16 16:59:54 -0400 (Wed, 16 Jun 2021)
EndedAt: 2021-06-16 17:02:33 -0400 (Wed, 16 Jun 2021)
EllapsedTime: 159.6 seconds
RetCode: 0
Status:   OK  

Command output

##############################################################################
##############################################################################
###
### Running command:
###
###   C:\cygwin\bin\curl.exe -O http://155.52.207.166/BBS/3.14/bioc/src/contrib/gage_2.43.0.tar.gz && rm -rf gage.buildbin-libdir && mkdir gage.buildbin-libdir && D:\biocbuild\bbs-3.14-bioc\R\bin\R.exe CMD INSTALL --merge-multiarch --build --library=gage.buildbin-libdir gage_2.43.0.tar.gz && D:\biocbuild\bbs-3.14-bioc\R\bin\R.exe CMD INSTALL gage_2.43.0.zip && rm gage_2.43.0.tar.gz gage_2.43.0.zip
###
##############################################################################
##############################################################################


  % Total    % Received % Xferd  Average Speed   Time    Time     Time  Current
                                 Dload  Upload   Total   Spent    Left  Speed

  0     0    0     0    0     0      0      0 --:--:-- --:--:-- --:--:--     0
  0 1706k    0  1135    0     0  23163      0  0:01:15 --:--:--  0:01:15 22700
100 1706k  100 1706k    0     0  6465k      0 --:--:-- --:--:-- --:--:-- 6440k

install for i386

* installing *source* package 'gage' ...
** using staged installation
** R
** data
** inst
** byte-compile and prepare package for lazy loading
** help
*** installing help indices
  converting help for package 'gage'
    finding HTML links ... done
    eg2sym                                  html  
    egSymb                                  html  
    essGene                                 html  
    esset.grp                               html  
    gage-internal                           html  
    gage                                    html  
    gageComp                                html  
    gagePipe                                html  
    geneData                                html  
    go.gsets                                html  
    gs.tTest                                html  
    gse16873                                html  
    heter.gage                              html  
    kegg.gs                                 html  
    kegg.gsets                              html  
    readExpData                             html  
    readList                                html  
    sigGeneSet                              html  
** building package indices
** installing vignettes
** testing if installed package can be loaded from temporary location
** testing if installed package can be loaded from final location
** testing if installed package keeps a record of temporary installation path

install for x64

* installing *source* package 'gage' ...
** testing if installed package can be loaded
* MD5 sums
packaged installation of 'gage' as gage_2.43.0.zip
* DONE (gage)
* installing to library 'D:/biocbuild/bbs-3.14-bioc/R/library'
package 'gage' successfully unpacked and MD5 sums checked