Back to Multiple platform build/check report for BioC 3.14
ABCDEF[G]HIJKLMNOPQRSTUVWXYZ

This page was generated on 2021-06-17 12:05:31 -0400 (Thu, 17 Jun 2021).

BUILD results for gage on riesling1

To the developers/maintainers of the gage package:
- Please allow up to 24 hours (and sometimes 48 hours) for your latest push to git@git.bioconductor.org:packages/gage.git to
reflect on this report. See How and When does the builder pull? When will my changes propagate? here for more information.
- Make sure to use the following settings in order to reproduce any error or warning you see on this page.

raw results

Package 664/1993HostnameOS / ArchINSTALLBUILDCHECKBUILD BIN
gage 2.43.0  (landing page)
Weijun Luo
Snapshot Date: 2021-06-16 14:50:06 -0400 (Wed, 16 Jun 2021)
URL: https://git.bioconductor.org/packages/gage
Branch: master
Last Commit: a40d2d0
Last Changed Date: 2021-05-19 11:46:29 -0400 (Wed, 19 May 2021)
nebbiolo2Linux (Ubuntu 20.04.2 LTS) / x86_64  OK    OK    WARNINGS  UNNEEDED, same version is already published
riesling1Windows Server 2019 Standard / x64  OK    OK    WARNINGS    OK  UNNEEDED, same version is already published
merida1macOS 10.14.6 Mojave / x86_64  OK    OK    WARNINGS    OK  UNNEEDED, same version is already published

Summary

Package: gage
Version: 2.43.0
Command: chmod a+r gage -R && D:\biocbuild\bbs-3.14-bioc\R\bin\R.exe CMD build --keep-empty-dirs --no-resave-data gage
StartedAt: 2021-06-16 19:53:32 -0400 (Wed, 16 Jun 2021)
EndedAt: 2021-06-16 19:56:10 -0400 (Wed, 16 Jun 2021)
EllapsedTime: 158.7 seconds
RetCode: 0
Status:   OK  
PackageFile: gage_2.43.0.tar.gz
PackageFileSize: 4.227 MiB

Command output

##############################################################################
##############################################################################
###
### Running command:
###
###   chmod a+r gage -R && D:\biocbuild\bbs-3.14-bioc\R\bin\R.exe CMD build --keep-empty-dirs --no-resave-data gage
###
##############################################################################
##############################################################################


* checking for file 'gage/DESCRIPTION' ... OK
* preparing 'gage':
* checking DESCRIPTION meta-information ... OK
* installing the package to build vignettes
* creating vignettes ... OK
* checking for LF line-endings in source and make files and shell scripts
* checking for empty or unneeded directories
* looking to see if a 'data/datalist' file should be added
  NB: this package now depends on R (>= 3.5.0)
  WARNING: Added dependency on R >= 3.5.0 because serialized objects in
  serialize/load version 3 cannot be read in older versions of R.
  File(s) containing such objects:
    'gage/data/khier.rda' 'gage/data/korg.rda'
* building 'gage_2.43.0.tar.gz'