Back to Multiple platform build/check report for BioC 3.14
ABCDEF[G]HIJKLMNOPQRSTUVWXYZ

BUILD BIN results for gage on riesling1

This page was generated on 2021-06-16 12:05:01 -0400 (Wed, 16 Jun 2021).

Package 664/1993HostnameOS / ArchINSTALLBUILDCHECKBUILD BIN
gage 2.43.0  (landing page)
Weijun Luo
Snapshot Date: 2021-06-15 14:50:06 -0400 (Tue, 15 Jun 2021)
URL: https://git.bioconductor.org/packages/gage
Branch: master
Last Commit: a40d2d0
Last Changed Date: 2021-05-19 11:46:29 -0400 (Wed, 19 May 2021)
nebbiolo2Linux (Ubuntu 20.04.2 LTS) / x86_64  OK    OK    WARNINGS  UNNEEDED, same version is already published
riesling1Windows Server 2019 Standard / x64  OK    OK    WARNINGS    OK  UNNEEDED, same version is already published
merida1macOS 10.14.6 Mojave / x86_64  OK    OK    WARNINGS    OK  UNNEEDED, same version is already published
To the developers/maintainers of the gage package:
- Please allow up to 24 hours (and sometimes 48 hours) for your latest push to git@git.bioconductor.org:packages/gage.git to
reflect on this report. See How and When does the builder pull? When will my changes propagate? here for more information.
- Make sure to use the following settings in order to reproduce any error or warning you see on this page.

Summary

Package: gage
Version: 2.43.0
Command: rm -rf gage.buildbin-libdir && mkdir gage.buildbin-libdir && D:\biocbuild\bbs-3.14-bioc\R\bin\R.exe CMD INSTALL --merge-multiarch --build --library=gage.buildbin-libdir gage_2.43.0.tar.gz
StartedAt: 2021-06-16 03:47:08 -0400 (Wed, 16 Jun 2021)
EndedAt: 2021-06-16 03:50:56 -0400 (Wed, 16 Jun 2021)
EllapsedTime: 227.5 seconds
RetCode: 0
Status:   OK   
PackageFile: gage_2.43.0.zip
PackageFileSize: 4.409 MiB

Command output

##############################################################################
##############################################################################
###
### Running command:
###
###   rm -rf gage.buildbin-libdir && mkdir gage.buildbin-libdir && D:\biocbuild\bbs-3.14-bioc\R\bin\R.exe CMD INSTALL --merge-multiarch --build --library=gage.buildbin-libdir gage_2.43.0.tar.gz
###
##############################################################################
##############################################################################



install for i386

* installing *source* package 'gage' ...
** using staged installation
** R
** data
** inst
** byte-compile and prepare package for lazy loading
** help
*** installing help indices
  converting help for package 'gage'
    finding HTML links ... done
    eg2sym                                  html  
    egSymb                                  html  
    essGene                                 html  
    esset.grp                               html  
    gage-internal                           html  
    gage                                    html  
    gageComp                                html  
    gagePipe                                html  
    geneData                                html  
    go.gsets                                html  
    gs.tTest                                html  
    gse16873                                html  
    heter.gage                              html  
    kegg.gs                                 html  
    kegg.gsets                              html  
    readExpData                             html  
    readList                                html  
    sigGeneSet                              html  
** building package indices
** installing vignettes
** testing if installed package can be loaded from temporary location
** testing if installed package can be loaded from final location
** testing if installed package keeps a record of temporary installation path

install for x64

* installing *source* package 'gage' ...
** testing if installed package can be loaded
* MD5 sums
packaged installation of 'gage' as gage_2.43.0.zip
* DONE (gage)