Back to Multiple platform build/check report for BioC 3.14
ABCDE[F]GHIJKLMNOPQRSTUVWXYZ

This page was generated on 2021-09-20 12:05:07 -0400 (Mon, 20 Sep 2021).

INSTALL results for flowWorkspace on riesling1

To the developers/maintainers of the flowWorkspace package:
- Please allow up to 24 hours (and sometimes 48 hours) for your latest push to git@git.bioconductor.org:packages/flowWorkspace.git to
reflect on this report. See How and When does the builder pull? When will my changes propagate? here for more information.
- Make sure to use the following settings in order to reproduce any error or warning you see on this page.

raw results

Package 661/2029HostnameOS / ArchINSTALLBUILDCHECKBUILD BIN
flowWorkspace 4.5.3  (landing page)
Greg Finak , Mike Jiang
Snapshot Date: 2021-09-19 14:50:04 -0400 (Sun, 19 Sep 2021)
git_url: https://git.bioconductor.org/packages/flowWorkspace
git_branch: master
git_last_commit: c85799e7
git_last_commit_date: 2021-07-30 13:33:21 -0400 (Fri, 30 Jul 2021)
nebbiolo2Linux (Ubuntu 20.04.2 LTS) / x86_64  OK    OK    WARNINGS  UNNEEDED, same version is already published
riesling1Windows Server 2019 Standard / x64  OK    OK    WARNINGS    OK  UNNEEDED, same version is already published
merida1macOS 10.14.6 Mojave / x86_64  OK    OK    WARNINGS    OK  UNNEEDED, same version is already published

Summary

Package: flowWorkspace
Version: 4.5.3
Command: C:\cygwin\bin\curl.exe -O http://155.52.207.166/BBS/3.14/bioc/src/contrib/flowWorkspace_4.5.3.tar.gz && rm -rf flowWorkspace.buildbin-libdir && mkdir flowWorkspace.buildbin-libdir && D:\biocbuild\bbs-3.14-bioc\R\bin\R.exe CMD INSTALL --merge-multiarch --build --library=flowWorkspace.buildbin-libdir flowWorkspace_4.5.3.tar.gz && D:\biocbuild\bbs-3.14-bioc\R\bin\R.exe CMD INSTALL flowWorkspace_4.5.3.zip && rm flowWorkspace_4.5.3.tar.gz flowWorkspace_4.5.3.zip
StartedAt: 2021-09-19 17:31:02 -0400 (Sun, 19 Sep 2021)
EndedAt: 2021-09-19 17:36:56 -0400 (Sun, 19 Sep 2021)
EllapsedTime: 353.7 seconds
RetCode: 0
Status:   OK  

Command output

##############################################################################
##############################################################################
###
### Running command:
###
###   C:\cygwin\bin\curl.exe -O http://155.52.207.166/BBS/3.14/bioc/src/contrib/flowWorkspace_4.5.3.tar.gz && rm -rf flowWorkspace.buildbin-libdir && mkdir flowWorkspace.buildbin-libdir && D:\biocbuild\bbs-3.14-bioc\R\bin\R.exe CMD INSTALL --merge-multiarch --build --library=flowWorkspace.buildbin-libdir flowWorkspace_4.5.3.tar.gz && D:\biocbuild\bbs-3.14-bioc\R\bin\R.exe CMD INSTALL flowWorkspace_4.5.3.zip && rm flowWorkspace_4.5.3.tar.gz flowWorkspace_4.5.3.zip
###
##############################################################################
##############################################################################


  % Total    % Received % Xferd  Average Speed   Time    Time     Time  Current
                                 Dload  Upload   Total   Spent    Left  Speed

  0     0    0     0    0     0      0      0 --:--:-- --:--:-- --:--:--     0
  8 4628k    8  408k    0     0  1554k      0  0:00:02 --:--:--  0:00:02 1548k
100 4628k  100 4628k    0     0  9744k      0 --:--:-- --:--:-- --:--:-- 9724k

install for i386

* installing *source* package 'flowWorkspace' ...
** using staged installation
** libs
"C:/rtools40/mingw32/bin/"g++  -std=gnu++11 -I"D:/biocbuild/bbs-3.14-bioc/R/include" -DNDEBUG -DROUT -I../inst/include -DBOOST_NO_AUTO_PTR -DRCPP_PARALLEL_USE_TBB=1 -fpermissive  -I'D:/biocbuild/bbs-3.14-bioc/R/library/Rcpp/include' -I'D:/biocbuild/bbs-3.14-bioc/R/library/BH/include' -I'D:/biocbuild/bbs-3.14-bioc/R/library/RProtoBufLib/include' -I'D:/biocbuild/bbs-3.14-bioc/R/library/cytolib/include' -I'D:/biocbuild/bbs-3.14-bioc/R/library/Rhdf5lib/include' -I'D:/biocbuild/bbs-3.14-bioc/R/library/RcppArmadillo/include' -I'D:/biocbuild/bbs-3.14-bioc/R/library/RcppParallel/include'   -I"C:/extsoft/include"     -O2 -Wall  -mfpmath=sse -msse2 -mstackrealign  -c R_API.cpp -o R_API.o
In file included from D:/biocbuild/bbs-3.14-bioc/R/library/BH/include/boost/mpl/aux_/na_assert.hpp:23,
                 from D:/biocbuild/bbs-3.14-bioc/R/library/BH/include/boost/mpl/arg.hpp:25,
                 from D:/biocbuild/bbs-3.14-bioc/R/library/BH/include/boost/mpl/placeholders.hpp:24,
                 from D:/biocbuild/bbs-3.14-bioc/R/library/BH/include/boost/iterator/iterator_categories.hpp:16,
                 from D:/biocbuild/bbs-3.14-bioc/R/library/BH/include/boost/iterator/iterator_facade.hpp:13,
                 from D:/biocbuild/bbs-3.14-bioc/R/library/BH/include/boost/range/iterator_range_core.hpp:27,
                 from D:/biocbuild/bbs-3.14-bioc/R/library/BH/include/boost/range/iterator_range.hpp:13,
                 from D:/biocbuild/bbs-3.14-bioc/R/library/BH/include/boost/range/as_literal.hpp:18,
                 from D:/biocbuild/bbs-3.14-bioc/R/library/BH/include/boost/algorithm/string/trim.hpp:19,
                 from D:/biocbuild/bbs-3.14-bioc/R/library/BH/include/boost/algorithm/string.hpp:19,
                 from D:/biocbuild/bbs-3.14-bioc/R/library/cytolib/include/cytolib/transformation.hpp:18,
                 from D:/biocbuild/bbs-3.14-bioc/R/library/cytolib/include/cytolib/compensation.hpp:15,
                 from D:/biocbuild/bbs-3.14-bioc/R/library/cytolib/include/cytolib/CytoFrame.hpp:16,
                 from D:/biocbuild/bbs-3.14-bioc/R/library/cytolib/include/cytolib/MemCytoFrame.hpp:12,
                 from D:/biocbuild/bbs-3.14-bioc/R/library/cytolib/include/cytolib/gate.hpp:12,
                 from D:/biocbuild/bbs-3.14-bioc/R/library/cytolib/include/cytolib/POPINDICES.hpp:14,
                 from D:/biocbuild/bbs-3.14-bioc/R/library/cytolib/include/cytolib/nodeProperties.hpp:13,
                 from D:/biocbuild/bbs-3.14-bioc/R/library/cytolib/include/cytolib/populationTree.hpp:13,
                 from D:/biocbuild/bbs-3.14-bioc/R/library/cytolib/include/cytolib/GatingHierarchy.hpp:17,
                 from D:/biocbuild/bbs-3.14-bioc/R/library/cytolib/include/cytolib/GatingSet.hpp:14,
                 from R_API.cpp:9:
D:/biocbuild/bbs-3.14-bioc/R/library/BH/include/boost/mpl/assert.hpp:194:21: warning: unnecessary parentheses in declaration of 'assert_arg' [-Wparentheses]
 failed ************ (Pred::************
                     ^
D:/biocbuild/bbs-3.14-bioc/R/library/BH/include/boost/mpl/assert.hpp:199:21: warning: unnecessary parentheses in declaration of 'assert_not_arg' [-Wparentheses]
 failed ************ (boost::mpl::not_<Pred>::************
                     ^
In file included from D:/biocbuild/bbs-3.14-bioc/R/library/cytolib/include/cytolib/CytoFrame.hpp:16,
                 from D:/biocbuild/bbs-3.14-bioc/R/library/cytolib/include/cytolib/MemCytoFrame.hpp:12,
                 from D:/biocbuild/bbs-3.14-bioc/R/library/cytolib/include/cytolib/gate.hpp:12,
                 from D:/biocbuild/bbs-3.14-bioc/R/library/cytolib/include/cytolib/POPINDICES.hpp:14,
                 from D:/biocbuild/bbs-3.14-bioc/R/library/cytolib/include/cytolib/nodeProperties.hpp:13,
                 from D:/biocbuild/bbs-3.14-bioc/R/library/cytolib/include/cytolib/populationTree.hpp:13,
                 from D:/biocbuild/bbs-3.14-bioc/R/library/cytolib/include/cytolib/GatingHierarchy.hpp:17,
                 from D:/biocbuild/bbs-3.14-bioc/R/library/cytolib/include/cytolib/GatingSet.hpp:14,
                 from R_API.cpp:9:
D:/biocbuild/bbs-3.14-bioc/R/library/cytolib/include/cytolib/compensation.hpp: In constructor 'cytolib::compensation::compensation(const string&)':
D:/biocbuild/bbs-3.14-bioc/R/library/cytolib/include/cytolib/compensation.hpp:58:20: warning: comparison of integer expressions of different signedness: 'std::vector<std::__cxx11::basic_string<char>, std::allocator<std::__cxx11::basic_string<char> > >::size_type' {aka 'unsigned int'} and 'int' [-Wsign-compare]
   if(valVec.size() != 1+n+n*n){
      ~~~~~~~~~~~~~~^~~~~~~~~~
D:/biocbuild/bbs-3.14-bioc/R/library/cytolib/include/cytolib/compensation.hpp:62:21: warning: comparison of integer expressions of different signedness: 'std::vector<std::__cxx11::basic_string<char>, std::allocator<std::__cxx11::basic_string<char> > >::size_type' {aka 'unsigned int'} and 'int' [-Wsign-compare]
    if(valVec.size() == 1+n+2*n*n){
       ~~~~~~~~~~~~~~^~~~~~~~~~~~
D:/biocbuild/bbs-3.14-bioc/R/library/cytolib/include/cytolib/compensation.hpp:68:33: warning: comparison of integer expressions of different signedness: 'int' and 'std::vector<std::__cxx11::basic_string<char>, std::allocator<std::__cxx11::basic_string<char> > >::size_type' {aka 'unsigned int'} [-Wsign-compare]
     for(int i = 1+n, j = 1+n; i < valVec_fixed.size(); i++, j+=2)
                               ~~^~~~~~~~~~~~~~~~~~~~~
In file included from D:/biocbuild/bbs-3.14-bioc/R/library/BH/include/boost/graph/adjacency_iterator.hpp:13,
                 from D:/biocbuild/bbs-3.14-bioc/R/library/BH/include/boost/graph/detail/adjacency_list.hpp:37,
                 from D:/biocbuild/bbs-3.14-bioc/R/library/BH/include/boost/graph/adjacency_list.hpp:255,
                 from D:/biocbuild/bbs-3.14-bioc/R/library/cytolib/include/cytolib/populationTree.hpp:14,
                 from D:/biocbuild/bbs-3.14-bioc/R/library/cytolib/include/cytolib/GatingHierarchy.hpp:17,
                 from D:/biocbuild/bbs-3.14-bioc/R/library/cytolib/include/cytolib/GatingSet.hpp:14,
                 from R_API.cpp:9:
D:/biocbuild/bbs-3.14-bioc/R/library/BH/include/boost/detail/iterator.hpp: At global scope:
D:/biocbuild/bbs-3.14-bioc/R/library/BH/include/boost/detail/iterator.hpp:13:37: note: #pragma message: This header is deprecated. Use <iterator> instead.
 BOOST_HEADER_DEPRECATED("<iterator>")
                                     ^
"C:/rtools40/mingw32/bin/"g++  -std=gnu++11 -I"D:/biocbuild/bbs-3.14-bioc/R/include" -DNDEBUG -DROUT -I../inst/include -DBOOST_NO_AUTO_PTR -DRCPP_PARALLEL_USE_TBB=1 -fpermissive  -I'D:/biocbuild/bbs-3.14-bioc/R/library/Rcpp/include' -I'D:/biocbuild/bbs-3.14-bioc/R/library/BH/include' -I'D:/biocbuild/bbs-3.14-bioc/R/library/RProtoBufLib/include' -I'D:/biocbuild/bbs-3.14-bioc/R/library/cytolib/include' -I'D:/biocbuild/bbs-3.14-bioc/R/library/Rhdf5lib/include' -I'D:/biocbuild/bbs-3.14-bioc/R/library/RcppArmadillo/include' -I'D:/biocbuild/bbs-3.14-bioc/R/library/RcppParallel/include'   -I"C:/extsoft/include"     -O2 -Wall  -mfpmath=sse -msse2 -mstackrealign  -c R_GatingHierarchy.cpp -o R_GatingHierarchy.o
In file included from D:/biocbuild/bbs-3.14-bioc/R/library/BH/include/boost/mpl/aux_/na_assert.hpp:23,
                 from D:/biocbuild/bbs-3.14-bioc/R/library/BH/include/boost/mpl/arg.hpp:25,
                 from D:/biocbuild/bbs-3.14-bioc/R/library/BH/include/boost/mpl/placeholders.hpp:24,
                 from D:/biocbuild/bbs-3.14-bioc/R/library/BH/include/boost/iterator/iterator_categories.hpp:16,
                 from D:/biocbuild/bbs-3.14-bioc/R/library/BH/include/boost/iterator/iterator_facade.hpp:13,
                 from D:/biocbuild/bbs-3.14-bioc/R/library/BH/include/boost/range/iterator_range_core.hpp:27,
                 from D:/biocbuild/bbs-3.14-bioc/R/library/BH/include/boost/range/iterator_range.hpp:13,
                 from D:/biocbuild/bbs-3.14-bioc/R/library/BH/include/boost/range/as_literal.hpp:18,
                 from D:/biocbuild/bbs-3.14-bioc/R/library/BH/include/boost/algorithm/string/trim.hpp:19,
                 from D:/biocbuild/bbs-3.14-bioc/R/library/BH/include/boost/algorithm/string.hpp:19,
                 from D:/biocbuild/bbs-3.14-bioc/R/library/cytolib/include/cytolib/transformation.hpp:18,
                 from D:/biocbuild/bbs-3.14-bioc/R/library/cytolib/include/cytolib/compensation.hpp:15,
                 from D:/biocbuild/bbs-3.14-bioc/R/library/cytolib/include/cytolib/CytoFrame.hpp:16,
                 from D:/biocbuild/bbs-3.14-bioc/R/library/cytolib/include/cytolib/MemCytoFrame.hpp:12,
                 from D:/biocbuild/bbs-3.14-bioc/R/library/cytolib/include/cytolib/gate.hpp:12,
                 from D:/biocbuild/bbs-3.14-bioc/R/library/cytolib/include/cytolib/POPINDICES.hpp:14,
                 from D:/biocbuild/bbs-3.14-bioc/R/library/cytolib/include/cytolib/nodeProperties.hpp:13,
                 from D:/biocbuild/bbs-3.14-bioc/R/library/cytolib/include/cytolib/populationTree.hpp:13,
                 from D:/biocbuild/bbs-3.14-bioc/R/library/cytolib/include/cytolib/GatingHierarchy.hpp:17,
                 from D:/biocbuild/bbs-3.14-bioc/R/library/cytolib/include/cytolib/GatingSet.hpp:14,
                 from R_GatingHierarchy.cpp:17:
D:/biocbuild/bbs-3.14-bioc/R/library/BH/include/boost/mpl/assert.hpp:194:21: warning: unnecessary parentheses in declaration of 'assert_arg' [-Wparentheses]
 failed ************ (Pred::************
                     ^
D:/biocbuild/bbs-3.14-bioc/R/library/BH/include/boost/mpl/assert.hpp:199:21: warning: unnecessary parentheses in declaration of 'assert_not_arg' [-Wparentheses]
 failed ************ (boost::mpl::not_<Pred>::************
                     ^
In file included from D:/biocbuild/bbs-3.14-bioc/R/library/cytolib/include/cytolib/CytoFrame.hpp:16,
                 from D:/biocbuild/bbs-3.14-bioc/R/library/cytolib/include/cytolib/MemCytoFrame.hpp:12,
                 from D:/biocbuild/bbs-3.14-bioc/R/library/cytolib/include/cytolib/gate.hpp:12,
                 from D:/biocbuild/bbs-3.14-bioc/R/library/cytolib/include/cytolib/POPINDICES.hpp:14,
                 from D:/biocbuild/bbs-3.14-bioc/R/library/cytolib/include/cytolib/nodeProperties.hpp:13,
                 from D:/biocbuild/bbs-3.14-bioc/R/library/cytolib/include/cytolib/populationTree.hpp:13,
                 from D:/biocbuild/bbs-3.14-bioc/R/library/cytolib/include/cytolib/GatingHierarchy.hpp:17,
                 from D:/biocbuild/bbs-3.14-bioc/R/library/cytolib/include/cytolib/GatingSet.hpp:14,
                 from R_GatingHierarchy.cpp:17:
D:/biocbuild/bbs-3.14-bioc/R/library/cytolib/include/cytolib/compensation.hpp: In constructor 'cytolib::compensation::compensation(const string&)':
D:/biocbuild/bbs-3.14-bioc/R/library/cytolib/include/cytolib/compensation.hpp:58:20: warning: comparison of integer expressions of different signedness: 'std::vector<std::__cxx11::basic_string<char>, std::allocator<std::__cxx11::basic_string<char> > >::size_type' {aka 'unsigned int'} and 'int' [-Wsign-compare]
   if(valVec.size() != 1+n+n*n){
      ~~~~~~~~~~~~~~^~~~~~~~~~
D:/biocbuild/bbs-3.14-bioc/R/library/cytolib/include/cytolib/compensation.hpp:62:21: warning: comparison of integer expressions of different signedness: 'std::vector<std::__cxx11::basic_string<char>, std::allocator<std::__cxx11::basic_string<char> > >::size_type' {aka 'unsigned int'} and 'int' [-Wsign-compare]
    if(valVec.size() == 1+n+2*n*n){
       ~~~~~~~~~~~~~~^~~~~~~~~~~~
D:/biocbuild/bbs-3.14-bioc/R/library/cytolib/include/cytolib/compensation.hpp:68:33: warning: comparison of integer expressions of different signedness: 'int' and 'std::vector<std::__cxx11::basic_string<char>, std::allocator<std::__cxx11::basic_string<char> > >::size_type' {aka 'unsigned int'} [-Wsign-compare]
     for(int i = 1+n, j = 1+n; i < valVec_fixed.size(); i++, j+=2)
                               ~~^~~~~~~~~~~~~~~~~~~~~
In file included from D:/biocbuild/bbs-3.14-bioc/R/library/BH/include/boost/graph/adjacency_iterator.hpp:13,
                 from D:/biocbuild/bbs-3.14-bioc/R/library/BH/include/boost/graph/detail/adjacency_list.hpp:37,
                 from D:/biocbuild/bbs-3.14-bioc/R/library/BH/include/boost/graph/adjacency_list.hpp:255,
                 from D:/biocbuild/bbs-3.14-bioc/R/library/cytolib/include/cytolib/populationTree.hpp:14,
                 from D:/biocbuild/bbs-3.14-bioc/R/library/cytolib/include/cytolib/GatingHierarchy.hpp:17,
                 from D:/biocbuild/bbs-3.14-bioc/R/library/cytolib/include/cytolib/GatingSet.hpp:14,
                 from R_GatingHierarchy.cpp:17:
D:/biocbuild/bbs-3.14-bioc/R/library/BH/include/boost/detail/iterator.hpp: At global scope:
D:/biocbuild/bbs-3.14-bioc/R/library/BH/include/boost/detail/iterator.hpp:13:37: note: #pragma message: This header is deprecated. Use <iterator> instead.
 BOOST_HEADER_DEPRECATED("<iterator>")
                                     ^
"C:/rtools40/mingw32/bin/"g++  -std=gnu++11 -I"D:/biocbuild/bbs-3.14-bioc/R/include" -DNDEBUG -DROUT -I../inst/include -DBOOST_NO_AUTO_PTR -DRCPP_PARALLEL_USE_TBB=1 -fpermissive  -I'D:/biocbuild/bbs-3.14-bioc/R/library/Rcpp/include' -I'D:/biocbuild/bbs-3.14-bioc/R/library/BH/include' -I'D:/biocbuild/bbs-3.14-bioc/R/library/RProtoBufLib/include' -I'D:/biocbuild/bbs-3.14-bioc/R/library/cytolib/include' -I'D:/biocbuild/bbs-3.14-bioc/R/library/Rhdf5lib/include' -I'D:/biocbuild/bbs-3.14-bioc/R/library/RcppArmadillo/include' -I'D:/biocbuild/bbs-3.14-bioc/R/library/RcppParallel/include'   -I"C:/extsoft/include"     -O2 -Wall  -mfpmath=sse -msse2 -mstackrealign  -c R_GatingSet.cpp -o R_GatingSet.o
In file included from D:/biocbuild/bbs-3.14-bioc/R/library/BH/include/boost/mpl/aux_/na_assert.hpp:23,
                 from D:/biocbuild/bbs-3.14-bioc/R/library/BH/include/boost/mpl/arg.hpp:25,
                 from D:/biocbuild/bbs-3.14-bioc/R/library/BH/include/boost/mpl/placeholders.hpp:24,
                 from D:/biocbuild/bbs-3.14-bioc/R/library/BH/include/boost/iterator/iterator_categories.hpp:16,
                 from D:/biocbuild/bbs-3.14-bioc/R/library/BH/include/boost/iterator/iterator_facade.hpp:13,
                 from D:/biocbuild/bbs-3.14-bioc/R/library/BH/include/boost/range/iterator_range_core.hpp:27,
                 from D:/biocbuild/bbs-3.14-bioc/R/library/BH/include/boost/range/iterator_range.hpp:13,
                 from D:/biocbuild/bbs-3.14-bioc/R/library/BH/include/boost/range/as_literal.hpp:18,
                 from D:/biocbuild/bbs-3.14-bioc/R/library/BH/include/boost/algorithm/string/trim.hpp:19,
                 from D:/biocbuild/bbs-3.14-bioc/R/library/BH/include/boost/algorithm/string.hpp:19,
                 from D:/biocbuild/bbs-3.14-bioc/R/library/cytolib/include/cytolib/transformation.hpp:18,
                 from D:/biocbuild/bbs-3.14-bioc/R/library/cytolib/include/cytolib/compensation.hpp:15,
                 from D:/biocbuild/bbs-3.14-bioc/R/library/cytolib/include/cytolib/CytoFrame.hpp:16,
                 from D:/biocbuild/bbs-3.14-bioc/R/library/cytolib/include/cytolib/MemCytoFrame.hpp:12,
                 from D:/biocbuild/bbs-3.14-bioc/R/library/cytolib/include/cytolib/gate.hpp:12,
                 from D:/biocbuild/bbs-3.14-bioc/R/library/cytolib/include/cytolib/POPINDICES.hpp:14,
                 from D:/biocbuild/bbs-3.14-bioc/R/library/cytolib/include/cytolib/nodeProperties.hpp:13,
                 from D:/biocbuild/bbs-3.14-bioc/R/library/cytolib/include/cytolib/populationTree.hpp:13,
                 from D:/biocbuild/bbs-3.14-bioc/R/library/cytolib/include/cytolib/GatingHierarchy.hpp:17,
                 from D:/biocbuild/bbs-3.14-bioc/R/library/cytolib/include/cytolib/GatingSet.hpp:14,
                 from ../inst/include/flowWorkspace.h:5,
                 from R_GatingSet.cpp:10:
D:/biocbuild/bbs-3.14-bioc/R/library/BH/include/boost/mpl/assert.hpp:194:21: warning: unnecessary parentheses in declaration of 'assert_arg' [-Wparentheses]
 failed ************ (Pred::************
                     ^
D:/biocbuild/bbs-3.14-bioc/R/library/BH/include/boost/mpl/assert.hpp:199:21: warning: unnecessary parentheses in declaration of 'assert_not_arg' [-Wparentheses]
 failed ************ (boost::mpl::not_<Pred>::************
                     ^
In file included from D:/biocbuild/bbs-3.14-bioc/R/library/cytolib/include/cytolib/CytoFrame.hpp:16,
                 from D:/biocbuild/bbs-3.14-bioc/R/library/cytolib/include/cytolib/MemCytoFrame.hpp:12,
                 from D:/biocbuild/bbs-3.14-bioc/R/library/cytolib/include/cytolib/gate.hpp:12,
                 from D:/biocbuild/bbs-3.14-bioc/R/library/cytolib/include/cytolib/POPINDICES.hpp:14,
                 from D:/biocbuild/bbs-3.14-bioc/R/library/cytolib/include/cytolib/nodeProperties.hpp:13,
                 from D:/biocbuild/bbs-3.14-bioc/R/library/cytolib/include/cytolib/populationTree.hpp:13,
                 from D:/biocbuild/bbs-3.14-bioc/R/library/cytolib/include/cytolib/GatingHierarchy.hpp:17,
                 from D:/biocbuild/bbs-3.14-bioc/R/library/cytolib/include/cytolib/GatingSet.hpp:14,
                 from ../inst/include/flowWorkspace.h:5,
                 from R_GatingSet.cpp:10:
D:/biocbuild/bbs-3.14-bioc/R/library/cytolib/include/cytolib/compensation.hpp: In constructor 'cytolib::compensation::compensation(const string&)':
D:/biocbuild/bbs-3.14-bioc/R/library/cytolib/include/cytolib/compensation.hpp:58:20: warning: comparison of integer expressions of different signedness: 'std::vector<std::__cxx11::basic_string<char>, std::allocator<std::__cxx11::basic_string<char> > >::size_type' {aka 'unsigned int'} and 'int' [-Wsign-compare]
   if(valVec.size() != 1+n+n*n){
      ~~~~~~~~~~~~~~^~~~~~~~~~
D:/biocbuild/bbs-3.14-bioc/R/library/cytolib/include/cytolib/compensation.hpp:62:21: warning: comparison of integer expressions of different signedness: 'std::vector<std::__cxx11::basic_string<char>, std::allocator<std::__cxx11::basic_string<char> > >::size_type' {aka 'unsigned int'} and 'int' [-Wsign-compare]
    if(valVec.size() == 1+n+2*n*n){
       ~~~~~~~~~~~~~~^~~~~~~~~~~~
D:/biocbuild/bbs-3.14-bioc/R/library/cytolib/include/cytolib/compensation.hpp:68:33: warning: comparison of integer expressions of different signedness: 'int' and 'std::vector<std::__cxx11::basic_string<char>, std::allocator<std::__cxx11::basic_string<char> > >::size_type' {aka 'unsigned int'} [-Wsign-compare]
     for(int i = 1+n, j = 1+n; i < valVec_fixed.size(); i++, j+=2)
                               ~~^~~~~~~~~~~~~~~~~~~~~
In file included from D:/biocbuild/bbs-3.14-bioc/R/library/BH/include/boost/graph/adjacency_iterator.hpp:13,
                 from D:/biocbuild/bbs-3.14-bioc/R/library/BH/include/boost/graph/detail/adjacency_list.hpp:37,
                 from D:/biocbuild/bbs-3.14-bioc/R/library/BH/include/boost/graph/adjacency_list.hpp:255,
                 from D:/biocbuild/bbs-3.14-bioc/R/library/cytolib/include/cytolib/populationTree.hpp:14,
                 from D:/biocbuild/bbs-3.14-bioc/R/library/cytolib/include/cytolib/GatingHierarchy.hpp:17,
                 from D:/biocbuild/bbs-3.14-bioc/R/library/cytolib/include/cytolib/GatingSet.hpp:14,
                 from ../inst/include/flowWorkspace.h:5,
                 from R_GatingSet.cpp:10:
D:/biocbuild/bbs-3.14-bioc/R/library/BH/include/boost/detail/iterator.hpp: At global scope:
D:/biocbuild/bbs-3.14-bioc/R/library/BH/include/boost/detail/iterator.hpp:13:37: note: #pragma message: This header is deprecated. Use <iterator> instead.
 BOOST_HEADER_DEPRECATED("<iterator>")
                                     ^
"C:/rtools40/mingw32/bin/"g++  -std=gnu++11 -I"D:/biocbuild/bbs-3.14-bioc/R/include" -DNDEBUG -DROUT -I../inst/include -DBOOST_NO_AUTO_PTR -DRCPP_PARALLEL_USE_TBB=1 -fpermissive  -I'D:/biocbuild/bbs-3.14-bioc/R/library/Rcpp/include' -I'D:/biocbuild/bbs-3.14-bioc/R/library/BH/include' -I'D:/biocbuild/bbs-3.14-bioc/R/library/RProtoBufLib/include' -I'D:/biocbuild/bbs-3.14-bioc/R/library/cytolib/include' -I'D:/biocbuild/bbs-3.14-bioc/R/library/Rhdf5lib/include' -I'D:/biocbuild/bbs-3.14-bioc/R/library/RcppArmadillo/include' -I'D:/biocbuild/bbs-3.14-bioc/R/library/RcppParallel/include'   -I"C:/extsoft/include"     -O2 -Wall  -mfpmath=sse -msse2 -mstackrealign  -c RcppExports.cpp -o RcppExports.o
In file included from D:/biocbuild/bbs-3.14-bioc/R/library/BH/include/boost/mpl/aux_/na_assert.hpp:23,
                 from D:/biocbuild/bbs-3.14-bioc/R/library/BH/include/boost/mpl/arg.hpp:25,
                 from D:/biocbuild/bbs-3.14-bioc/R/library/BH/include/boost/mpl/placeholders.hpp:24,
                 from D:/biocbuild/bbs-3.14-bioc/R/library/BH/include/boost/iterator/iterator_categories.hpp:16,
                 from D:/biocbuild/bbs-3.14-bioc/R/library/BH/include/boost/iterator/iterator_facade.hpp:13,
                 from D:/biocbuild/bbs-3.14-bioc/R/library/BH/include/boost/range/iterator_range_core.hpp:27,
                 from D:/biocbuild/bbs-3.14-bioc/R/library/BH/include/boost/range/iterator_range.hpp:13,
                 from D:/biocbuild/bbs-3.14-bioc/R/library/BH/include/boost/range/as_literal.hpp:18,
                 from D:/biocbuild/bbs-3.14-bioc/R/library/BH/include/boost/algorithm/string/trim.hpp:19,
                 from D:/biocbuild/bbs-3.14-bioc/R/library/BH/include/boost/algorithm/string.hpp:19,
                 from D:/biocbuild/bbs-3.14-bioc/R/library/cytolib/include/cytolib/transformation.hpp:18,
                 from D:/biocbuild/bbs-3.14-bioc/R/library/cytolib/include/cytolib/compensation.hpp:15,
                 from D:/biocbuild/bbs-3.14-bioc/R/library/cytolib/include/cytolib/CytoFrame.hpp:16,
                 from D:/biocbuild/bbs-3.14-bioc/R/library/cytolib/include/cytolib/MemCytoFrame.hpp:12,
                 from D:/biocbuild/bbs-3.14-bioc/R/library/cytolib/include/cytolib/gate.hpp:12,
                 from D:/biocbuild/bbs-3.14-bioc/R/library/cytolib/include/cytolib/POPINDICES.hpp:14,
                 from D:/biocbuild/bbs-3.14-bioc/R/library/cytolib/include/cytolib/nodeProperties.hpp:13,
                 from D:/biocbuild/bbs-3.14-bioc/R/library/cytolib/include/cytolib/populationTree.hpp:13,
                 from D:/biocbuild/bbs-3.14-bioc/R/library/cytolib/include/cytolib/GatingHierarchy.hpp:17,
                 from D:/biocbuild/bbs-3.14-bioc/R/library/cytolib/include/cytolib/GatingSet.hpp:14,
                 from ../inst/include/flowWorkspace.h:5,
                 from RcppExports.cpp:4:
D:/biocbuild/bbs-3.14-bioc/R/library/BH/include/boost/mpl/assert.hpp:194:21: warning: unnecessary parentheses in declaration of 'assert_arg' [-Wparentheses]
 failed ************ (Pred::************
                     ^
D:/biocbuild/bbs-3.14-bioc/R/library/BH/include/boost/mpl/assert.hpp:199:21: warning: unnecessary parentheses in declaration of 'assert_not_arg' [-Wparentheses]
 failed ************ (boost::mpl::not_<Pred>::************
                     ^
In file included from D:/biocbuild/bbs-3.14-bioc/R/library/cytolib/include/cytolib/CytoFrame.hpp:16,
                 from D:/biocbuild/bbs-3.14-bioc/R/library/cytolib/include/cytolib/MemCytoFrame.hpp:12,
                 from D:/biocbuild/bbs-3.14-bioc/R/library/cytolib/include/cytolib/gate.hpp:12,
                 from D:/biocbuild/bbs-3.14-bioc/R/library/cytolib/include/cytolib/POPINDICES.hpp:14,
                 from D:/biocbuild/bbs-3.14-bioc/R/library/cytolib/include/cytolib/nodeProperties.hpp:13,
                 from D:/biocbuild/bbs-3.14-bioc/R/library/cytolib/include/cytolib/populationTree.hpp:13,
                 from D:/biocbuild/bbs-3.14-bioc/R/library/cytolib/include/cytolib/GatingHierarchy.hpp:17,
                 from D:/biocbuild/bbs-3.14-bioc/R/library/cytolib/include/cytolib/GatingSet.hpp:14,
                 from ../inst/include/flowWorkspace.h:5,
                 from RcppExports.cpp:4:
D:/biocbuild/bbs-3.14-bioc/R/library/cytolib/include/cytolib/compensation.hpp: In constructor 'cytolib::compensation::compensation(const string&)':
D:/biocbuild/bbs-3.14-bioc/R/library/cytolib/include/cytolib/compensation.hpp:58:20: warning: comparison of integer expressions of different signedness: 'std::vector<std::__cxx11::basic_string<char>, std::allocator<std::__cxx11::basic_string<char> > >::size_type' {aka 'unsigned int'} and 'int' [-Wsign-compare]
   if(valVec.size() != 1+n+n*n){
      ~~~~~~~~~~~~~~^~~~~~~~~~
D:/biocbuild/bbs-3.14-bioc/R/library/cytolib/include/cytolib/compensation.hpp:62:21: warning: comparison of integer expressions of different signedness: 'std::vector<std::__cxx11::basic_string<char>, std::allocator<std::__cxx11::basic_string<char> > >::size_type' {aka 'unsigned int'} and 'int' [-Wsign-compare]
    if(valVec.size() == 1+n+2*n*n){
       ~~~~~~~~~~~~~~^~~~~~~~~~~~
D:/biocbuild/bbs-3.14-bioc/R/library/cytolib/include/cytolib/compensation.hpp:68:33: warning: comparison of integer expressions of different signedness: 'int' and 'std::vector<std::__cxx11::basic_string<char>, std::allocator<std::__cxx11::basic_string<char> > >::size_type' {aka 'unsigned int'} [-Wsign-compare]
     for(int i = 1+n, j = 1+n; i < valVec_fixed.size(); i++, j+=2)
                               ~~^~~~~~~~~~~~~~~~~~~~~
In file included from D:/biocbuild/bbs-3.14-bioc/R/library/BH/include/boost/graph/adjacency_iterator.hpp:13,
                 from D:/biocbuild/bbs-3.14-bioc/R/library/BH/include/boost/graph/detail/adjacency_list.hpp:37,
                 from D:/biocbuild/bbs-3.14-bioc/R/library/BH/include/boost/graph/adjacency_list.hpp:255,
                 from D:/biocbuild/bbs-3.14-bioc/R/library/cytolib/include/cytolib/populationTree.hpp:14,
                 from D:/biocbuild/bbs-3.14-bioc/R/library/cytolib/include/cytolib/GatingHierarchy.hpp:17,
                 from D:/biocbuild/bbs-3.14-bioc/R/library/cytolib/include/cytolib/GatingSet.hpp:14,
                 from ../inst/include/flowWorkspace.h:5,
                 from RcppExports.cpp:4:
D:/biocbuild/bbs-3.14-bioc/R/library/BH/include/boost/detail/iterator.hpp: At global scope:
D:/biocbuild/bbs-3.14-bioc/R/library/BH/include/boost/detail/iterator.hpp:13:37: note: #pragma message: This header is deprecated. Use <iterator> instead.
 BOOST_HEADER_DEPRECATED("<iterator>")
                                     ^
In file included from D:/biocbuild/bbs-3.14-bioc/R/library/Rcpp/include/Rcpp.h:46,
                 from D:/biocbuild/bbs-3.14-bioc/R/library/RcppArmadillo/include/RcppArmadillo.h:34,
                 from ../inst/include/flowWorkspace/pairVectorRcppWrap.h:15,
                 from ../inst/include/flowWorkspace.h:6,
                 from RcppExports.cpp:4:
D:/biocbuild/bbs-3.14-bioc/R/library/Rcpp/include/Rcpp/XPtr.h: In instantiation of 'void Rcpp::standard_delete_finalizer(T*) [with T = cytolib::CytoFrameView]':
RcppExports.cpp:629:43:   required from here
D:/biocbuild/bbs-3.14-bioc/R/library/Rcpp/include/Rcpp/XPtr.h:30:5: warning: deleting object of polymorphic class type 'cytolib::CytoFrameView' which has non-virtual destructor might cause undefined behavior [-Wdelete-non-virtual-dtor]
     delete obj;
     ^~~~~~
"C:/rtools40/mingw32/bin/"g++  -std=gnu++11 -I"D:/biocbuild/bbs-3.14-bioc/R/include" -DNDEBUG -DROUT -I../inst/include -DBOOST_NO_AUTO_PTR -DRCPP_PARALLEL_USE_TBB=1 -fpermissive  -I'D:/biocbuild/bbs-3.14-bioc/R/library/Rcpp/include' -I'D:/biocbuild/bbs-3.14-bioc/R/library/BH/include' -I'D:/biocbuild/bbs-3.14-bioc/R/library/RProtoBufLib/include' -I'D:/biocbuild/bbs-3.14-bioc/R/library/cytolib/include' -I'D:/biocbuild/bbs-3.14-bioc/R/library/Rhdf5lib/include' -I'D:/biocbuild/bbs-3.14-bioc/R/library/RcppArmadillo/include' -I'D:/biocbuild/bbs-3.14-bioc/R/library/RcppParallel/include'   -I"C:/extsoft/include"     -O2 -Wall  -mfpmath=sse -msse2 -mstackrealign  -c cytoctxAPI.cpp -o cytoctxAPI.o
In file included from D:/biocbuild/bbs-3.14-bioc/R/library/BH/include/boost/mpl/aux_/na_assert.hpp:23,
                 from D:/biocbuild/bbs-3.14-bioc/R/library/BH/include/boost/mpl/arg.hpp:25,
                 from D:/biocbuild/bbs-3.14-bioc/R/library/BH/include/boost/mpl/placeholders.hpp:24,
                 from D:/biocbuild/bbs-3.14-bioc/R/library/BH/include/boost/iterator/iterator_categories.hpp:16,
                 from D:/biocbuild/bbs-3.14-bioc/R/library/BH/include/boost/iterator/iterator_facade.hpp:13,
                 from D:/biocbuild/bbs-3.14-bioc/R/library/BH/include/boost/range/iterator_range_core.hpp:27,
                 from D:/biocbuild/bbs-3.14-bioc/R/library/BH/include/boost/range/iterator_range.hpp:13,
                 from D:/biocbuild/bbs-3.14-bioc/R/library/BH/include/boost/range/as_literal.hpp:18,
                 from D:/biocbuild/bbs-3.14-bioc/R/library/BH/include/boost/algorithm/string/trim.hpp:19,
                 from D:/biocbuild/bbs-3.14-bioc/R/library/BH/include/boost/algorithm/string.hpp:19,
                 from D:/biocbuild/bbs-3.14-bioc/R/library/cytolib/include/cytolib/transformation.hpp:18,
                 from D:/biocbuild/bbs-3.14-bioc/R/library/cytolib/include/cytolib/compensation.hpp:15,
                 from D:/biocbuild/bbs-3.14-bioc/R/library/cytolib/include/cytolib/CytoFrame.hpp:16,
                 from D:/biocbuild/bbs-3.14-bioc/R/library/cytolib/include/cytolib/MemCytoFrame.hpp:12,
                 from D:/biocbuild/bbs-3.14-bioc/R/library/cytolib/include/cytolib/gate.hpp:12,
                 from D:/biocbuild/bbs-3.14-bioc/R/library/cytolib/include/cytolib/POPINDICES.hpp:14,
                 from D:/biocbuild/bbs-3.14-bioc/R/library/cytolib/include/cytolib/nodeProperties.hpp:13,
                 from D:/biocbuild/bbs-3.14-bioc/R/library/cytolib/include/cytolib/populationTree.hpp:13,
                 from D:/biocbuild/bbs-3.14-bioc/R/library/cytolib/include/cytolib/GatingHierarchy.hpp:17,
                 from D:/biocbuild/bbs-3.14-bioc/R/library/cytolib/include/cytolib/GatingSet.hpp:14,
                 from ../inst/include/flowWorkspace/pairVectorRcppWrap.h:12,
                 from cytoctxAPI.cpp:1:
D:/biocbuild/bbs-3.14-bioc/R/library/BH/include/boost/mpl/assert.hpp:194:21: warning: unnecessary parentheses in declaration of 'assert_arg' [-Wparentheses]
 failed ************ (Pred::************
                     ^
D:/biocbuild/bbs-3.14-bioc/R/library/BH/include/boost/mpl/assert.hpp:199:21: warning: unnecessary parentheses in declaration of 'assert_not_arg' [-Wparentheses]
 failed ************ (boost::mpl::not_<Pred>::************
                     ^
In file included from D:/biocbuild/bbs-3.14-bioc/R/library/cytolib/include/cytolib/CytoFrame.hpp:16,
                 from D:/biocbuild/bbs-3.14-bioc/R/library/cytolib/include/cytolib/MemCytoFrame.hpp:12,
                 from D:/biocbuild/bbs-3.14-bioc/R/library/cytolib/include/cytolib/gate.hpp:12,
                 from D:/biocbuild/bbs-3.14-bioc/R/library/cytolib/include/cytolib/POPINDICES.hpp:14,
                 from D:/biocbuild/bbs-3.14-bioc/R/library/cytolib/include/cytolib/nodeProperties.hpp:13,
                 from D:/biocbuild/bbs-3.14-bioc/R/library/cytolib/include/cytolib/populationTree.hpp:13,
                 from D:/biocbuild/bbs-3.14-bioc/R/library/cytolib/include/cytolib/GatingHierarchy.hpp:17,
                 from D:/biocbuild/bbs-3.14-bioc/R/library/cytolib/include/cytolib/GatingSet.hpp:14,
                 from ../inst/include/flowWorkspace/pairVectorRcppWrap.h:12,
                 from cytoctxAPI.cpp:1:
D:/biocbuild/bbs-3.14-bioc/R/library/cytolib/include/cytolib/compensation.hpp: In constructor 'cytolib::compensation::compensation(const string&)':
D:/biocbuild/bbs-3.14-bioc/R/library/cytolib/include/cytolib/compensation.hpp:58:20: warning: comparison of integer expressions of different signedness: 'std::vector<std::__cxx11::basic_string<char>, std::allocator<std::__cxx11::basic_string<char> > >::size_type' {aka 'unsigned int'} and 'int' [-Wsign-compare]
   if(valVec.size() != 1+n+n*n){
      ~~~~~~~~~~~~~~^~~~~~~~~~
D:/biocbuild/bbs-3.14-bioc/R/library/cytolib/include/cytolib/compensation.hpp:62:21: warning: comparison of integer expressions of different signedness: 'std::vector<std::__cxx11::basic_string<char>, std::allocator<std::__cxx11::basic_string<char> > >::size_type' {aka 'unsigned int'} and 'int' [-Wsign-compare]
    if(valVec.size() == 1+n+2*n*n){
       ~~~~~~~~~~~~~~^~~~~~~~~~~~
D:/biocbuild/bbs-3.14-bioc/R/library/cytolib/include/cytolib/compensation.hpp:68:33: warning: comparison of integer expressions of different signedness: 'int' and 'std::vector<std::__cxx11::basic_string<char>, std::allocator<std::__cxx11::basic_string<char> > >::size_type' {aka 'unsigned int'} [-Wsign-compare]
     for(int i = 1+n, j = 1+n; i < valVec_fixed.size(); i++, j+=2)
                               ~~^~~~~~~~~~~~~~~~~~~~~
In file included from D:/biocbuild/bbs-3.14-bioc/R/library/BH/include/boost/graph/adjacency_iterator.hpp:13,
                 from D:/biocbuild/bbs-3.14-bioc/R/library/BH/include/boost/graph/detail/adjacency_list.hpp:37,
                 from D:/biocbuild/bbs-3.14-bioc/R/library/BH/include/boost/graph/adjacency_list.hpp:255,
                 from D:/biocbuild/bbs-3.14-bioc/R/library/cytolib/include/cytolib/populationTree.hpp:14,
                 from D:/biocbuild/bbs-3.14-bioc/R/library/cytolib/include/cytolib/GatingHierarchy.hpp:17,
                 from D:/biocbuild/bbs-3.14-bioc/R/library/cytolib/include/cytolib/GatingSet.hpp:14,
                 from ../inst/include/flowWorkspace/pairVectorRcppWrap.h:12,
                 from cytoctxAPI.cpp:1:
D:/biocbuild/bbs-3.14-bioc/R/library/BH/include/boost/detail/iterator.hpp: At global scope:
D:/biocbuild/bbs-3.14-bioc/R/library/BH/include/boost/detail/iterator.hpp:13:37: note: #pragma message: This header is deprecated. Use <iterator> instead.
 BOOST_HEADER_DEPRECATED("<iterator>")
                                     ^
"C:/rtools40/mingw32/bin/"g++  -std=gnu++11 -I"D:/biocbuild/bbs-3.14-bioc/R/include" -DNDEBUG -DROUT -I../inst/include -DBOOST_NO_AUTO_PTR -DRCPP_PARALLEL_USE_TBB=1 -fpermissive  -I'D:/biocbuild/bbs-3.14-bioc/R/library/Rcpp/include' -I'D:/biocbuild/bbs-3.14-bioc/R/library/BH/include' -I'D:/biocbuild/bbs-3.14-bioc/R/library/RProtoBufLib/include' -I'D:/biocbuild/bbs-3.14-bioc/R/library/cytolib/include' -I'D:/biocbuild/bbs-3.14-bioc/R/library/Rhdf5lib/include' -I'D:/biocbuild/bbs-3.14-bioc/R/library/RcppArmadillo/include' -I'D:/biocbuild/bbs-3.14-bioc/R/library/RcppParallel/include'   -I"C:/extsoft/include"     -O2 -Wall  -mfpmath=sse -msse2 -mstackrealign  -c cytoframeAPI.cpp -o cytoframeAPI.o
In file included from D:/biocbuild/bbs-3.14-bioc/R/library/BH/include/boost/mpl/aux_/na_assert.hpp:23,
                 from D:/biocbuild/bbs-3.14-bioc/R/library/BH/include/boost/mpl/arg.hpp:25,
                 from D:/biocbuild/bbs-3.14-bioc/R/library/BH/include/boost/mpl/placeholders.hpp:24,
                 from D:/biocbuild/bbs-3.14-bioc/R/library/BH/include/boost/iterator/iterator_categories.hpp:16,
                 from D:/biocbuild/bbs-3.14-bioc/R/library/BH/include/boost/iterator/iterator_facade.hpp:13,
                 from D:/biocbuild/bbs-3.14-bioc/R/library/BH/include/boost/range/iterator_range_core.hpp:27,
                 from D:/biocbuild/bbs-3.14-bioc/R/library/BH/include/boost/range/iterator_range.hpp:13,
                 from D:/biocbuild/bbs-3.14-bioc/R/library/BH/include/boost/range/as_literal.hpp:18,
                 from D:/biocbuild/bbs-3.14-bioc/R/library/BH/include/boost/algorithm/string/trim.hpp:19,
                 from D:/biocbuild/bbs-3.14-bioc/R/library/BH/include/boost/algorithm/string.hpp:19,
                 from D:/biocbuild/bbs-3.14-bioc/R/library/cytolib/include/cytolib/transformation.hpp:18,
                 from D:/biocbuild/bbs-3.14-bioc/R/library/cytolib/include/cytolib/compensation.hpp:15,
                 from D:/biocbuild/bbs-3.14-bioc/R/library/cytolib/include/cytolib/CytoFrame.hpp:16,
                 from D:/biocbuild/bbs-3.14-bioc/R/library/cytolib/include/cytolib/MemCytoFrame.hpp:12,
                 from D:/biocbuild/bbs-3.14-bioc/R/library/cytolib/include/cytolib/H5CytoFrame.hpp:12,
                 from cytoframeAPI.cpp:1:
D:/biocbuild/bbs-3.14-bioc/R/library/BH/include/boost/mpl/assert.hpp:194:21: warning: unnecessary parentheses in declaration of 'assert_arg' [-Wparentheses]
 failed ************ (Pred::************
                     ^
D:/biocbuild/bbs-3.14-bioc/R/library/BH/include/boost/mpl/assert.hpp:199:21: warning: unnecessary parentheses in declaration of 'assert_not_arg' [-Wparentheses]
 failed ************ (boost::mpl::not_<Pred>::************
                     ^
In file included from D:/biocbuild/bbs-3.14-bioc/R/library/cytolib/include/cytolib/CytoFrame.hpp:16,
                 from D:/biocbuild/bbs-3.14-bioc/R/library/cytolib/include/cytolib/MemCytoFrame.hpp:12,
                 from D:/biocbuild/bbs-3.14-bioc/R/library/cytolib/include/cytolib/H5CytoFrame.hpp:12,
                 from cytoframeAPI.cpp:1:
D:/biocbuild/bbs-3.14-bioc/R/library/cytolib/include/cytolib/compensation.hpp: In constructor 'cytolib::compensation::compensation(const string&)':
D:/biocbuild/bbs-3.14-bioc/R/library/cytolib/include/cytolib/compensation.hpp:58:20: warning: comparison of integer expressions of different signedness: 'std::vector<std::__cxx11::basic_string<char>, std::allocator<std::__cxx11::basic_string<char> > >::size_type' {aka 'unsigned int'} and 'int' [-Wsign-compare]
   if(valVec.size() != 1+n+n*n){
      ~~~~~~~~~~~~~~^~~~~~~~~~
D:/biocbuild/bbs-3.14-bioc/R/library/cytolib/include/cytolib/compensation.hpp:62:21: warning: comparison of integer expressions of different signedness: 'std::vector<std::__cxx11::basic_string<char>, std::allocator<std::__cxx11::basic_string<char> > >::size_type' {aka 'unsigned int'} and 'int' [-Wsign-compare]
    if(valVec.size() == 1+n+2*n*n){
       ~~~~~~~~~~~~~~^~~~~~~~~~~~
D:/biocbuild/bbs-3.14-bioc/R/library/cytolib/include/cytolib/compensation.hpp:68:33: warning: comparison of integer expressions of different signedness: 'int' and 'std::vector<std::__cxx11::basic_string<char>, std::allocator<std::__cxx11::basic_string<char> > >::size_type' {aka 'unsigned int'} [-Wsign-compare]
     for(int i = 1+n, j = 1+n; i < valVec_fixed.size(); i++, j+=2)
                               ~~^~~~~~~~~~~~~~~~~~~~~
In file included from D:/biocbuild/bbs-3.14-bioc/R/library/BH/include/boost/graph/adjacency_iterator.hpp:13,
                 from D:/biocbuild/bbs-3.14-bioc/R/library/BH/include/boost/graph/detail/adjacency_list.hpp:37,
                 from D:/biocbuild/bbs-3.14-bioc/R/library/BH/include/boost/graph/adjacency_list.hpp:255,
                 from D:/biocbuild/bbs-3.14-bioc/R/library/cytolib/include/cytolib/populationTree.hpp:14,
                 from D:/biocbuild/bbs-3.14-bioc/R/library/cytolib/include/cytolib/GatingHierarchy.hpp:17,
                 from D:/biocbuild/bbs-3.14-bioc/R/library/cytolib/include/cytolib/GatingSet.hpp:14,
                 from ../inst/include/flowWorkspace/pairVectorRcppWrap.h:12,
                 from cytoframeAPI.cpp:3:
D:/biocbuild/bbs-3.14-bioc/R/library/BH/include/boost/detail/iterator.hpp: At global scope:
D:/biocbuild/bbs-3.14-bioc/R/library/BH/include/boost/detail/iterator.hpp:13:37: note: #pragma message: This header is deprecated. Use <iterator> instead.
 BOOST_HEADER_DEPRECATED("<iterator>")
                                     ^
In file included from D:/biocbuild/bbs-3.14-bioc/R/library/Rcpp/include/Rcpp.h:46,
                 from D:/biocbuild/bbs-3.14-bioc/R/library/RcppArmadillo/include/RcppArmadillo.h:34,
                 from ../inst/include/flowWorkspace/pairVectorRcppWrap.h:15,
                 from cytoframeAPI.cpp:3:
D:/biocbuild/bbs-3.14-bioc/R/library/Rcpp/include/Rcpp/XPtr.h: In instantiation of 'void Rcpp::standard_delete_finalizer(T*) [with T = cytolib::CytoFrameView]':
cytoframeAPI.cpp:9:43:   required from here
D:/biocbuild/bbs-3.14-bioc/R/library/Rcpp/include/Rcpp/XPtr.h:30:5: warning: deleting object of polymorphic class type 'cytolib::CytoFrameView' which has non-virtual destructor might cause undefined behavior [-Wdelete-non-virtual-dtor]
     delete obj;
     ^~~~~~
"C:/rtools40/mingw32/bin/"g++  -std=gnu++11 -I"D:/biocbuild/bbs-3.14-bioc/R/include" -DNDEBUG -DROUT -I../inst/include -DBOOST_NO_AUTO_PTR -DRCPP_PARALLEL_USE_TBB=1 -fpermissive  -I'D:/biocbuild/bbs-3.14-bioc/R/library/Rcpp/include' -I'D:/biocbuild/bbs-3.14-bioc/R/library/BH/include' -I'D:/biocbuild/bbs-3.14-bioc/R/library/RProtoBufLib/include' -I'D:/biocbuild/bbs-3.14-bioc/R/library/cytolib/include' -I'D:/biocbuild/bbs-3.14-bioc/R/library/Rhdf5lib/include' -I'D:/biocbuild/bbs-3.14-bioc/R/library/RcppArmadillo/include' -I'D:/biocbuild/bbs-3.14-bioc/R/library/RcppParallel/include'   -I"C:/extsoft/include"     -O2 -Wall  -mfpmath=sse -msse2 -mstackrealign  -c cytosetAPI.cpp -o cytosetAPI.o
In file included from D:/biocbuild/bbs-3.14-bioc/R/library/BH/include/boost/mpl/aux_/na_assert.hpp:23,
                 from D:/biocbuild/bbs-3.14-bioc/R/library/BH/include/boost/mpl/arg.hpp:25,
                 from D:/biocbuild/bbs-3.14-bioc/R/library/BH/include/boost/mpl/placeholders.hpp:24,
                 from D:/biocbuild/bbs-3.14-bioc/R/library/BH/include/boost/iterator/iterator_categories.hpp:16,
                 from D:/biocbuild/bbs-3.14-bioc/R/library/BH/include/boost/iterator/iterator_facade.hpp:13,
                 from D:/biocbuild/bbs-3.14-bioc/R/library/BH/include/boost/range/iterator_range_core.hpp:27,
                 from D:/biocbuild/bbs-3.14-bioc/R/library/BH/include/boost/range/iterator_range.hpp:13,
                 from D:/biocbuild/bbs-3.14-bioc/R/library/BH/include/boost/range/as_literal.hpp:18,
                 from D:/biocbuild/bbs-3.14-bioc/R/library/BH/include/boost/algorithm/string/trim.hpp:19,
                 from D:/biocbuild/bbs-3.14-bioc/R/library/BH/include/boost/algorithm/string.hpp:19,
                 from D:/biocbuild/bbs-3.14-bioc/R/library/cytolib/include/cytolib/transformation.hpp:18,
                 from D:/biocbuild/bbs-3.14-bioc/R/library/cytolib/include/cytolib/compensation.hpp:15,
                 from D:/biocbuild/bbs-3.14-bioc/R/library/cytolib/include/cytolib/CytoFrame.hpp:16,
                 from D:/biocbuild/bbs-3.14-bioc/R/library/cytolib/include/cytolib/MemCytoFrame.hpp:12,
                 from D:/biocbuild/bbs-3.14-bioc/R/library/cytolib/include/cytolib/H5CytoFrame.hpp:12,
                 from cytosetAPI.cpp:1:
D:/biocbuild/bbs-3.14-bioc/R/library/BH/include/boost/mpl/assert.hpp:194:21: warning: unnecessary parentheses in declaration of 'assert_arg' [-Wparentheses]
 failed ************ (Pred::************
                     ^
D:/biocbuild/bbs-3.14-bioc/R/library/BH/include/boost/mpl/assert.hpp:199:21: warning: unnecessary parentheses in declaration of 'assert_not_arg' [-Wparentheses]
 failed ************ (boost::mpl::not_<Pred>::************
                     ^
In file included from D:/biocbuild/bbs-3.14-bioc/R/library/cytolib/include/cytolib/CytoFrame.hpp:16,
                 from D:/biocbuild/bbs-3.14-bioc/R/library/cytolib/include/cytolib/MemCytoFrame.hpp:12,
                 from D:/biocbuild/bbs-3.14-bioc/R/library/cytolib/include/cytolib/H5CytoFrame.hpp:12,
                 from cytosetAPI.cpp:1:
D:/biocbuild/bbs-3.14-bioc/R/library/cytolib/include/cytolib/compensation.hpp: In constructor 'cytolib::compensation::compensation(const string&)':
D:/biocbuild/bbs-3.14-bioc/R/library/cytolib/include/cytolib/compensation.hpp:58:20: warning: comparison of integer expressions of different signedness: 'std::vector<std::__cxx11::basic_string<char>, std::allocator<std::__cxx11::basic_string<char> > >::size_type' {aka 'unsigned int'} and 'int' [-Wsign-compare]
   if(valVec.size() != 1+n+n*n){
      ~~~~~~~~~~~~~~^~~~~~~~~~
D:/biocbuild/bbs-3.14-bioc/R/library/cytolib/include/cytolib/compensation.hpp:62:21: warning: comparison of integer expressions of different signedness: 'std::vector<std::__cxx11::basic_string<char>, std::allocator<std::__cxx11::basic_string<char> > >::size_type' {aka 'unsigned int'} and 'int' [-Wsign-compare]
    if(valVec.size() == 1+n+2*n*n){
       ~~~~~~~~~~~~~~^~~~~~~~~~~~
D:/biocbuild/bbs-3.14-bioc/R/library/cytolib/include/cytolib/compensation.hpp:68:33: warning: comparison of integer expressions of different signedness: 'int' and 'std::vector<std::__cxx11::basic_string<char>, std::allocator<std::__cxx11::basic_string<char> > >::size_type' {aka 'unsigned int'} [-Wsign-compare]
     for(int i = 1+n, j = 1+n; i < valVec_fixed.size(); i++, j+=2)
                               ~~^~~~~~~~~~~~~~~~~~~~~
In file included from D:/biocbuild/bbs-3.14-bioc/R/library/BH/include/boost/graph/adjacency_iterator.hpp:13,
                 from D:/biocbuild/bbs-3.14-bioc/R/library/BH/include/boost/graph/detail/adjacency_list.hpp:37,
                 from D:/biocbuild/bbs-3.14-bioc/R/library/BH/include/boost/graph/adjacency_list.hpp:255,
                 from D:/biocbuild/bbs-3.14-bioc/R/library/cytolib/include/cytolib/populationTree.hpp:14,
                 from D:/biocbuild/bbs-3.14-bioc/R/library/cytolib/include/cytolib/GatingHierarchy.hpp:17,
                 from D:/biocbuild/bbs-3.14-bioc/R/library/cytolib/include/cytolib/GatingSet.hpp:14,
                 from ../inst/include/flowWorkspace/pairVectorRcppWrap.h:12,
                 from cytosetAPI.cpp:2:
D:/biocbuild/bbs-3.14-bioc/R/library/BH/include/boost/detail/iterator.hpp: At global scope:
D:/biocbuild/bbs-3.14-bioc/R/library/BH/include/boost/detail/iterator.hpp:13:37: note: #pragma message: This header is deprecated. Use <iterator> instead.
 BOOST_HEADER_DEPRECATED("<iterator>")
                                     ^
cytosetAPI.cpp: In function 'Rcpp::XPtr<cytolib::CytoFrameView> get_cytoframe(Rcpp::XPtr<cytolib::GatingSet>, Rcpp::RObject, Rcpp::RObject)':
cytosetAPI.cpp:206:29: warning: comparison of integer expressions of different signedness: 'unsigned int' and 'R_xlen_t' {aka 'int'} [-Wsign-compare]
       for(unsigned i = 0; i < j_val.size(); i++){
                           ~~^~~~~~~~~~~~~~
In file included from D:/biocbuild/bbs-3.14-bioc/R/library/Rcpp/include/Rcpp.h:46,
                 from D:/biocbuild/bbs-3.14-bioc/R/library/RcppArmadillo/include/RcppArmadillo.h:34,
                 from ../inst/include/flowWorkspace/pairVectorRcppWrap.h:15,
                 from cytosetAPI.cpp:2:
D:/biocbuild/bbs-3.14-bioc/R/library/Rcpp/include/Rcpp/XPtr.h: In instantiation of 'void Rcpp::standard_delete_finalizer(T*) [with T = cytolib::CytoFrameView]':
cytosetAPI.cpp:38:81:   required from here
D:/biocbuild/bbs-3.14-bioc/R/library/Rcpp/include/Rcpp/XPtr.h:30:5: warning: deleting object of polymorphic class type 'cytolib::CytoFrameView' which has non-virtual destructor might cause undefined behavior [-Wdelete-non-virtual-dtor]
     delete obj;
     ^~~~~~
"C:/rtools40/mingw32/bin/"g++  -std=gnu++11 -I"D:/biocbuild/bbs-3.14-bioc/R/include" -DNDEBUG -DROUT -I../inst/include -DBOOST_NO_AUTO_PTR -DRCPP_PARALLEL_USE_TBB=1 -fpermissive  -I'D:/biocbuild/bbs-3.14-bioc/R/library/Rcpp/include' -I'D:/biocbuild/bbs-3.14-bioc/R/library/BH/include' -I'D:/biocbuild/bbs-3.14-bioc/R/library/RProtoBufLib/include' -I'D:/biocbuild/bbs-3.14-bioc/R/library/cytolib/include' -I'D:/biocbuild/bbs-3.14-bioc/R/library/Rhdf5lib/include' -I'D:/biocbuild/bbs-3.14-bioc/R/library/RcppArmadillo/include' -I'D:/biocbuild/bbs-3.14-bioc/R/library/RcppParallel/include'   -I"C:/extsoft/include"     -O2 -Wall  -mfpmath=sse -msse2 -mstackrealign  -c getDescendants.cpp -o getDescendants.o
In file included from D:/biocbuild/bbs-3.14-bioc/R/library/BH/include/boost/mpl/aux_/na_assert.hpp:23,
                 from D:/biocbuild/bbs-3.14-bioc/R/library/BH/include/boost/mpl/arg.hpp:25,
                 from D:/biocbuild/bbs-3.14-bioc/R/library/BH/include/boost/mpl/placeholders.hpp:24,
                 from D:/biocbuild/bbs-3.14-bioc/R/library/BH/include/boost/iterator/iterator_categories.hpp:16,
                 from D:/biocbuild/bbs-3.14-bioc/R/library/BH/include/boost/iterator/iterator_facade.hpp:13,
                 from D:/biocbuild/bbs-3.14-bioc/R/library/BH/include/boost/range/iterator_range_core.hpp:27,
                 from D:/biocbuild/bbs-3.14-bioc/R/library/BH/include/boost/range/iterator_range.hpp:13,
                 from D:/biocbuild/bbs-3.14-bioc/R/library/BH/include/boost/range/as_literal.hpp:18,
                 from D:/biocbuild/bbs-3.14-bioc/R/library/BH/include/boost/algorithm/string/trim.hpp:19,
                 from D:/biocbuild/bbs-3.14-bioc/R/library/BH/include/boost/algorithm/string.hpp:19,
                 from D:/biocbuild/bbs-3.14-bioc/R/library/cytolib/include/cytolib/transformation.hpp:18,
                 from D:/biocbuild/bbs-3.14-bioc/R/library/cytolib/include/cytolib/compensation.hpp:15,
                 from D:/biocbuild/bbs-3.14-bioc/R/library/cytolib/include/cytolib/CytoFrame.hpp:16,
                 from D:/biocbuild/bbs-3.14-bioc/R/library/cytolib/include/cytolib/MemCytoFrame.hpp:12,
                 from D:/biocbuild/bbs-3.14-bioc/R/library/cytolib/include/cytolib/gate.hpp:12,
                 from D:/biocbuild/bbs-3.14-bioc/R/library/cytolib/include/cytolib/POPINDICES.hpp:14,
                 from D:/biocbuild/bbs-3.14-bioc/R/library/cytolib/include/cytolib/nodeProperties.hpp:13,
                 from D:/biocbuild/bbs-3.14-bioc/R/library/cytolib/include/cytolib/populationTree.hpp:13,
                 from D:/biocbuild/bbs-3.14-bioc/R/library/cytolib/include/cytolib/GatingHierarchy.hpp:17,
                 from D:/biocbuild/bbs-3.14-bioc/R/library/cytolib/include/cytolib/GatingSet.hpp:14,
                 from getDescendants.cpp:1:
D:/biocbuild/bbs-3.14-bioc/R/library/BH/include/boost/mpl/assert.hpp:194:21: warning: unnecessary parentheses in declaration of 'assert_arg' [-Wparentheses]
 failed ************ (Pred::************
                     ^
D:/biocbuild/bbs-3.14-bioc/R/library/BH/include/boost/mpl/assert.hpp:199:21: warning: unnecessary parentheses in declaration of 'assert_not_arg' [-Wparentheses]
 failed ************ (boost::mpl::not_<Pred>::************
                     ^
In file included from D:/biocbuild/bbs-3.14-bioc/R/library/cytolib/include/cytolib/CytoFrame.hpp:16,
                 from D:/biocbuild/bbs-3.14-bioc/R/library/cytolib/include/cytolib/MemCytoFrame.hpp:12,
                 from D:/biocbuild/bbs-3.14-bioc/R/library/cytolib/include/cytolib/gate.hpp:12,
                 from D:/biocbuild/bbs-3.14-bioc/R/library/cytolib/include/cytolib/POPINDICES.hpp:14,
                 from D:/biocbuild/bbs-3.14-bioc/R/library/cytolib/include/cytolib/nodeProperties.hpp:13,
                 from D:/biocbuild/bbs-3.14-bioc/R/library/cytolib/include/cytolib/populationTree.hpp:13,
                 from D:/biocbuild/bbs-3.14-bioc/R/library/cytolib/include/cytolib/GatingHierarchy.hpp:17,
                 from D:/biocbuild/bbs-3.14-bioc/R/library/cytolib/include/cytolib/GatingSet.hpp:14,
                 from getDescendants.cpp:1:
D:/biocbuild/bbs-3.14-bioc/R/library/cytolib/include/cytolib/compensation.hpp: In constructor 'cytolib::compensation::compensation(const string&)':
D:/biocbuild/bbs-3.14-bioc/R/library/cytolib/include/cytolib/compensation.hpp:58:20: warning: comparison of integer expressions of different signedness: 'std::vector<std::__cxx11::basic_string<char>, std::allocator<std::__cxx11::basic_string<char> > >::size_type' {aka 'unsigned int'} and 'int' [-Wsign-compare]
   if(valVec.size() != 1+n+n*n){
      ~~~~~~~~~~~~~~^~~~~~~~~~
D:/biocbuild/bbs-3.14-bioc/R/library/cytolib/include/cytolib/compensation.hpp:62:21: warning: comparison of integer expressions of different signedness: 'std::vector<std::__cxx11::basic_string<char>, std::allocator<std::__cxx11::basic_string<char> > >::size_type' {aka 'unsigned int'} and 'int' [-Wsign-compare]
    if(valVec.size() == 1+n+2*n*n){
       ~~~~~~~~~~~~~~^~~~~~~~~~~~
D:/biocbuild/bbs-3.14-bioc/R/library/cytolib/include/cytolib/compensation.hpp:68:33: warning: comparison of integer expressions of different signedness: 'int' and 'std::vector<std::__cxx11::basic_string<char>, std::allocator<std::__cxx11::basic_string<char> > >::size_type' {aka 'unsigned int'} [-Wsign-compare]
     for(int i = 1+n, j = 1+n; i < valVec_fixed.size(); i++, j+=2)
                               ~~^~~~~~~~~~~~~~~~~~~~~
In file included from D:/biocbuild/bbs-3.14-bioc/R/library/BH/include/boost/graph/adjacency_iterator.hpp:13,
                 from D:/biocbuild/bbs-3.14-bioc/R/library/BH/include/boost/graph/detail/adjacency_list.hpp:37,
                 from D:/biocbuild/bbs-3.14-bioc/R/library/BH/include/boost/graph/adjacency_list.hpp:255,
                 from D:/biocbuild/bbs-3.14-bioc/R/library/cytolib/include/cytolib/populationTree.hpp:14,
                 from D:/biocbuild/bbs-3.14-bioc/R/library/cytolib/include/cytolib/GatingHierarchy.hpp:17,
                 from D:/biocbuild/bbs-3.14-bioc/R/library/cytolib/include/cytolib/GatingSet.hpp:14,
                 from getDescendants.cpp:1:
D:/biocbuild/bbs-3.14-bioc/R/library/BH/include/boost/detail/iterator.hpp: At global scope:
D:/biocbuild/bbs-3.14-bioc/R/library/BH/include/boost/detail/iterator.hpp:13:37: note: #pragma message: This header is deprecated. Use <iterator> instead.
 BOOST_HEADER_DEPRECATED("<iterator>")
                                     ^
"C:/rtools40/mingw32/bin/"g++  -std=gnu++11 -I"D:/biocbuild/bbs-3.14-bioc/R/include" -DNDEBUG -DROUT -I../inst/include -DBOOST_NO_AUTO_PTR -DRCPP_PARALLEL_USE_TBB=1 -fpermissive  -I'D:/biocbuild/bbs-3.14-bioc/R/library/Rcpp/include' -I'D:/biocbuild/bbs-3.14-bioc/R/library/BH/include' -I'D:/biocbuild/bbs-3.14-bioc/R/library/RProtoBufLib/include' -I'D:/biocbuild/bbs-3.14-bioc/R/library/cytolib/include' -I'D:/biocbuild/bbs-3.14-bioc/R/library/Rhdf5lib/include' -I'D:/biocbuild/bbs-3.14-bioc/R/library/RcppArmadillo/include' -I'D:/biocbuild/bbs-3.14-bioc/R/library/RcppParallel/include'   -I"C:/extsoft/include"     -O2 -Wall  -mfpmath=sse -msse2 -mstackrealign  -c getPopStats.cpp -o getPopStats.o
In file included from D:/biocbuild/bbs-3.14-bioc/R/library/BH/include/boost/mpl/aux_/na_assert.hpp:23,
                 from D:/biocbuild/bbs-3.14-bioc/R/library/BH/include/boost/mpl/arg.hpp:25,
                 from D:/biocbuild/bbs-3.14-bioc/R/library/BH/include/boost/mpl/placeholders.hpp:24,
                 from D:/biocbuild/bbs-3.14-bioc/R/library/BH/include/boost/iterator/iterator_categories.hpp:16,
                 from D:/biocbuild/bbs-3.14-bioc/R/library/BH/include/boost/iterator/iterator_facade.hpp:13,
                 from D:/biocbuild/bbs-3.14-bioc/R/library/BH/include/boost/range/iterator_range_core.hpp:27,
                 from D:/biocbuild/bbs-3.14-bioc/R/library/BH/include/boost/range/iterator_range.hpp:13,
                 from D:/biocbuild/bbs-3.14-bioc/R/library/BH/include/boost/range/as_literal.hpp:18,
                 from D:/biocbuild/bbs-3.14-bioc/R/library/BH/include/boost/algorithm/string/trim.hpp:19,
                 from D:/biocbuild/bbs-3.14-bioc/R/library/BH/include/boost/algorithm/string.hpp:19,
                 from D:/biocbuild/bbs-3.14-bioc/R/library/cytolib/include/cytolib/transformation.hpp:18,
                 from D:/biocbuild/bbs-3.14-bioc/R/library/cytolib/include/cytolib/compensation.hpp:15,
                 from D:/biocbuild/bbs-3.14-bioc/R/library/cytolib/include/cytolib/CytoFrame.hpp:16,
                 from D:/biocbuild/bbs-3.14-bioc/R/library/cytolib/include/cytolib/MemCytoFrame.hpp:12,
                 from D:/biocbuild/bbs-3.14-bioc/R/library/cytolib/include/cytolib/gate.hpp:12,
                 from D:/biocbuild/bbs-3.14-bioc/R/library/cytolib/include/cytolib/POPINDICES.hpp:14,
                 from D:/biocbuild/bbs-3.14-bioc/R/library/cytolib/include/cytolib/nodeProperties.hpp:13,
                 from D:/biocbuild/bbs-3.14-bioc/R/library/cytolib/include/cytolib/populationTree.hpp:13,
                 from D:/biocbuild/bbs-3.14-bioc/R/library/cytolib/include/cytolib/GatingHierarchy.hpp:17,
                 from D:/biocbuild/bbs-3.14-bioc/R/library/cytolib/include/cytolib/GatingSet.hpp:14,
                 from getPopStats.cpp:1:
D:/biocbuild/bbs-3.14-bioc/R/library/BH/include/boost/mpl/assert.hpp:194:21: warning: unnecessary parentheses in declaration of 'assert_arg' [-Wparentheses]
 failed ************ (Pred::************
                     ^
D:/biocbuild/bbs-3.14-bioc/R/library/BH/include/boost/mpl/assert.hpp:199:21: warning: unnecessary parentheses in declaration of 'assert_not_arg' [-Wparentheses]
 failed ************ (boost::mpl::not_<Pred>::************
                     ^
In file included from D:/biocbuild/bbs-3.14-bioc/R/library/cytolib/include/cytolib/CytoFrame.hpp:16,
                 from D:/biocbuild/bbs-3.14-bioc/R/library/cytolib/include/cytolib/MemCytoFrame.hpp:12,
                 from D:/biocbuild/bbs-3.14-bioc/R/library/cytolib/include/cytolib/gate.hpp:12,
                 from D:/biocbuild/bbs-3.14-bioc/R/library/cytolib/include/cytolib/POPINDICES.hpp:14,
                 from D:/biocbuild/bbs-3.14-bioc/R/library/cytolib/include/cytolib/nodeProperties.hpp:13,
                 from D:/biocbuild/bbs-3.14-bioc/R/library/cytolib/include/cytolib/populationTree.hpp:13,
                 from D:/biocbuild/bbs-3.14-bioc/R/library/cytolib/include/cytolib/GatingHierarchy.hpp:17,
                 from D:/biocbuild/bbs-3.14-bioc/R/library/cytolib/include/cytolib/GatingSet.hpp:14,
                 from getPopStats.cpp:1:
D:/biocbuild/bbs-3.14-bioc/R/library/cytolib/include/cytolib/compensation.hpp: In constructor 'cytolib::compensation::compensation(const string&)':
D:/biocbuild/bbs-3.14-bioc/R/library/cytolib/include/cytolib/compensation.hpp:58:20: warning: comparison of integer expressions of different signedness: 'std::vector<std::__cxx11::basic_string<char>, std::allocator<std::__cxx11::basic_string<char> > >::size_type' {aka 'unsigned int'} and 'int' [-Wsign-compare]
   if(valVec.size() != 1+n+n*n){
      ~~~~~~~~~~~~~~^~~~~~~~~~
D:/biocbuild/bbs-3.14-bioc/R/library/cytolib/include/cytolib/compensation.hpp:62:21: warning: comparison of integer expressions of different signedness: 'std::vector<std::__cxx11::basic_string<char>, std::allocator<std::__cxx11::basic_string<char> > >::size_type' {aka 'unsigned int'} and 'int' [-Wsign-compare]
    if(valVec.size() == 1+n+2*n*n){
       ~~~~~~~~~~~~~~^~~~~~~~~~~~
D:/biocbuild/bbs-3.14-bioc/R/library/cytolib/include/cytolib/compensation.hpp:68:33: warning: comparison of integer expressions of different signedness: 'int' and 'std::vector<std::__cxx11::basic_string<char>, std::allocator<std::__cxx11::basic_string<char> > >::size_type' {aka 'unsigned int'} [-Wsign-compare]
     for(int i = 1+n, j = 1+n; i < valVec_fixed.size(); i++, j+=2)
                               ~~^~~~~~~~~~~~~~~~~~~~~
In file included from D:/biocbuild/bbs-3.14-bioc/R/library/BH/include/boost/graph/adjacency_iterator.hpp:13,
                 from D:/biocbuild/bbs-3.14-bioc/R/library/BH/include/boost/graph/detail/adjacency_list.hpp:37,
                 from D:/biocbuild/bbs-3.14-bioc/R/library/BH/include/boost/graph/adjacency_list.hpp:255,
                 from D:/biocbuild/bbs-3.14-bioc/R/library/cytolib/include/cytolib/populationTree.hpp:14,
                 from D:/biocbuild/bbs-3.14-bioc/R/library/cytolib/include/cytolib/GatingHierarchy.hpp:17,
                 from D:/biocbuild/bbs-3.14-bioc/R/library/cytolib/include/cytolib/GatingSet.hpp:14,
                 from getPopStats.cpp:1:
D:/biocbuild/bbs-3.14-bioc/R/library/BH/include/boost/detail/iterator.hpp: At global scope:
D:/biocbuild/bbs-3.14-bioc/R/library/BH/include/boost/detail/iterator.hpp:13:37: note: #pragma message: This header is deprecated. Use <iterator> instead.
 BOOST_HEADER_DEPRECATED("<iterator>")
                                     ^
"C:/rtools40/mingw32/bin/"g++  -std=gnu++11 -I"D:/biocbuild/bbs-3.14-bioc/R/include" -DNDEBUG -DROUT -I../inst/include -DBOOST_NO_AUTO_PTR -DRCPP_PARALLEL_USE_TBB=1 -fpermissive  -I'D:/biocbuild/bbs-3.14-bioc/R/library/Rcpp/include' -I'D:/biocbuild/bbs-3.14-bioc/R/library/BH/include' -I'D:/biocbuild/bbs-3.14-bioc/R/library/RProtoBufLib/include' -I'D:/biocbuild/bbs-3.14-bioc/R/library/cytolib/include' -I'D:/biocbuild/bbs-3.14-bioc/R/library/Rhdf5lib/include' -I'D:/biocbuild/bbs-3.14-bioc/R/library/RcppArmadillo/include' -I'D:/biocbuild/bbs-3.14-bioc/R/library/RcppParallel/include'   -I"C:/extsoft/include"     -O2 -Wall  -mfpmath=sse -msse2 -mstackrealign  -c getSingleCellExpression.cpp -o getSingleCellExpression.o
In file included from D:/biocbuild/bbs-3.14-bioc/R/library/BH/include/boost/mpl/aux_/na_assert.hpp:23,
                 from D:/biocbuild/bbs-3.14-bioc/R/library/BH/include/boost/mpl/arg.hpp:25,
                 from D:/biocbuild/bbs-3.14-bioc/R/library/BH/include/boost/mpl/placeholders.hpp:24,
                 from D:/biocbuild/bbs-3.14-bioc/R/library/BH/include/boost/iterator/iterator_categories.hpp:16,
                 from D:/biocbuild/bbs-3.14-bioc/R/library/BH/include/boost/iterator/iterator_facade.hpp:13,
                 from D:/biocbuild/bbs-3.14-bioc/R/library/BH/include/boost/range/iterator_range_core.hpp:27,
                 from D:/biocbuild/bbs-3.14-bioc/R/library/BH/include/boost/range/iterator_range.hpp:13,
                 from D:/biocbuild/bbs-3.14-bioc/R/library/BH/include/boost/range/as_literal.hpp:18,
                 from D:/biocbuild/bbs-3.14-bioc/R/library/BH/include/boost/algorithm/string/trim.hpp:19,
                 from D:/biocbuild/bbs-3.14-bioc/R/library/BH/include/boost/algorithm/string.hpp:19,
                 from D:/biocbuild/bbs-3.14-bioc/R/library/cytolib/include/cytolib/transformation.hpp:18,
                 from D:/biocbuild/bbs-3.14-bioc/R/library/cytolib/include/cytolib/compensation.hpp:15,
                 from D:/biocbuild/bbs-3.14-bioc/R/library/cytolib/include/cytolib/CytoFrame.hpp:16,
                 from D:/biocbuild/bbs-3.14-bioc/R/library/cytolib/include/cytolib/MemCytoFrame.hpp:12,
                 from D:/biocbuild/bbs-3.14-bioc/R/library/cytolib/include/cytolib/gate.hpp:12,
                 from D:/biocbuild/bbs-3.14-bioc/R/library/cytolib/include/cytolib/POPINDICES.hpp:14,
                 from D:/biocbuild/bbs-3.14-bioc/R/library/cytolib/include/cytolib/nodeProperties.hpp:13,
                 from D:/biocbuild/bbs-3.14-bioc/R/library/cytolib/include/cytolib/populationTree.hpp:13,
                 from D:/biocbuild/bbs-3.14-bioc/R/library/cytolib/include/cytolib/GatingHierarchy.hpp:17,
                 from D:/biocbuild/bbs-3.14-bioc/R/library/cytolib/include/cytolib/GatingSet.hpp:14,
                 from getSingleCellExpression.cpp:1:
D:/biocbuild/bbs-3.14-bioc/R/library/BH/include/boost/mpl/assert.hpp:194:21: warning: unnecessary parentheses in declaration of 'assert_arg' [-Wparentheses]
 failed ************ (Pred::************
                     ^
D:/biocbuild/bbs-3.14-bioc/R/library/BH/include/boost/mpl/assert.hpp:199:21: warning: unnecessary parentheses in declaration of 'assert_not_arg' [-Wparentheses]
 failed ************ (boost::mpl::not_<Pred>::************
                     ^
In file included from D:/biocbuild/bbs-3.14-bioc/R/library/cytolib/include/cytolib/CytoFrame.hpp:16,
                 from D:/biocbuild/bbs-3.14-bioc/R/library/cytolib/include/cytolib/MemCytoFrame.hpp:12,
                 from D:/biocbuild/bbs-3.14-bioc/R/library/cytolib/include/cytolib/gate.hpp:12,
                 from D:/biocbuild/bbs-3.14-bioc/R/library/cytolib/include/cytolib/POPINDICES.hpp:14,
                 from D:/biocbuild/bbs-3.14-bioc/R/library/cytolib/include/cytolib/nodeProperties.hpp:13,
                 from D:/biocbuild/bbs-3.14-bioc/R/library/cytolib/include/cytolib/populationTree.hpp:13,
                 from D:/biocbuild/bbs-3.14-bioc/R/library/cytolib/include/cytolib/GatingHierarchy.hpp:17,
                 from D:/biocbuild/bbs-3.14-bioc/R/library/cytolib/include/cytolib/GatingSet.hpp:14,
                 from getSingleCellExpression.cpp:1:
D:/biocbuild/bbs-3.14-bioc/R/library/cytolib/include/cytolib/compensation.hpp: In constructor 'cytolib::compensation::compensation(const string&)':
D:/biocbuild/bbs-3.14-bioc/R/library/cytolib/include/cytolib/compensation.hpp:58:20: warning: comparison of integer expressions of different signedness: 'std::vector<std::__cxx11::basic_string<char>, std::allocator<std::__cxx11::basic_string<char> > >::size_type' {aka 'unsigned int'} and 'int' [-Wsign-compare]
   if(valVec.size() != 1+n+n*n){
      ~~~~~~~~~~~~~~^~~~~~~~~~
D:/biocbuild/bbs-3.14-bioc/R/library/cytolib/include/cytolib/compensation.hpp:62:21: warning: comparison of integer expressions of different signedness: 'std::vector<std::__cxx11::basic_string<char>, std::allocator<std::__cxx11::basic_string<char> > >::size_type' {aka 'unsigned int'} and 'int' [-Wsign-compare]
    if(valVec.size() == 1+n+2*n*n){
       ~~~~~~~~~~~~~~^~~~~~~~~~~~
D:/biocbuild/bbs-3.14-bioc/R/library/cytolib/include/cytolib/compensation.hpp:68:33: warning: comparison of integer expressions of different signedness: 'int' and 'std::vector<std::__cxx11::basic_string<char>, std::allocator<std::__cxx11::basic_string<char> > >::size_type' {aka 'unsigned int'} [-Wsign-compare]
     for(int i = 1+n, j = 1+n; i < valVec_fixed.size(); i++, j+=2)
                               ~~^~~~~~~~~~~~~~~~~~~~~
In file included from D:/biocbuild/bbs-3.14-bioc/R/library/BH/include/boost/graph/adjacency_iterator.hpp:13,
                 from D:/biocbuild/bbs-3.14-bioc/R/library/BH/include/boost/graph/detail/adjacency_list.hpp:37,
                 from D:/biocbuild/bbs-3.14-bioc/R/library/BH/include/boost/graph/adjacency_list.hpp:255,
                 from D:/biocbuild/bbs-3.14-bioc/R/library/cytolib/include/cytolib/populationTree.hpp:14,
                 from D:/biocbuild/bbs-3.14-bioc/R/library/cytolib/include/cytolib/GatingHierarchy.hpp:17,
                 from D:/biocbuild/bbs-3.14-bioc/R/library/cytolib/include/cytolib/GatingSet.hpp:14,
                 from getSingleCellExpression.cpp:1:
D:/biocbuild/bbs-3.14-bioc/R/library/BH/include/boost/detail/iterator.hpp: At global scope:
D:/biocbuild/bbs-3.14-bioc/R/library/BH/include/boost/detail/iterator.hpp:13:37: note: #pragma message: This header is deprecated. Use <iterator> instead.
 BOOST_HEADER_DEPRECATED("<iterator>")
                                     ^
getSingleCellExpression.cpp: In function 'Rcpp::NumericMatrix getSingleCellExpressionByGate(Rcpp::XPtr<cytolib::GatingSet>, std::__cxx11::string, Rcpp::List, Rcpp::NumericMatrix, Rcpp::CharacterVector, bool)':
getSingleCellExpression.cpp:74:27: warning: comparison of integer expressions of different signedness: 'unsigned int' and 'R_xlen_t' {aka 'int'} [-Wsign-compare]
     for(unsigned j = 0; j < pops.size(); ++j){
                         ~~^~~~~~~~~~~~~
"C:/rtools40/mingw32/bin/"g++  -std=gnu++11 -I"D:/biocbuild/bbs-3.14-bioc/R/include" -DNDEBUG -DROUT -I../inst/include -DBOOST_NO_AUTO_PTR -DRCPP_PARALLEL_USE_TBB=1 -fpermissive  -I'D:/biocbuild/bbs-3.14-bioc/R/library/Rcpp/include' -I'D:/biocbuild/bbs-3.14-bioc/R/library/BH/include' -I'D:/biocbuild/bbs-3.14-bioc/R/library/RProtoBufLib/include' -I'D:/biocbuild/bbs-3.14-bioc/R/library/cytolib/include' -I'D:/biocbuild/bbs-3.14-bioc/R/library/Rhdf5lib/include' -I'D:/biocbuild/bbs-3.14-bioc/R/library/RcppArmadillo/include' -I'D:/biocbuild/bbs-3.14-bioc/R/library/RcppParallel/include'   -I"C:/extsoft/include"     -O2 -Wall  -mfpmath=sse -msse2 -mstackrealign  -c h5_error_r_handler.cpp -o h5_error_r_handler.o
In file included from D:/biocbuild/bbs-3.14-bioc/R/library/BH/include/boost/mpl/aux_/na_assert.hpp:23,
                 from D:/biocbuild/bbs-3.14-bioc/R/library/BH/include/boost/mpl/arg.hpp:25,
                 from D:/biocbuild/bbs-3.14-bioc/R/library/BH/include/boost/mpl/placeholders.hpp:24,
                 from D:/biocbuild/bbs-3.14-bioc/R/library/BH/include/boost/iterator/iterator_categories.hpp:16,
                 from D:/biocbuild/bbs-3.14-bioc/R/library/BH/include/boost/iterator/iterator_facade.hpp:13,
                 from D:/biocbuild/bbs-3.14-bioc/R/library/BH/include/boost/range/iterator_range_core.hpp:27,
                 from D:/biocbuild/bbs-3.14-bioc/R/library/BH/include/boost/range/iterator_range.hpp:13,
                 from D:/biocbuild/bbs-3.14-bioc/R/library/BH/include/boost/range/as_literal.hpp:18,
                 from D:/biocbuild/bbs-3.14-bioc/R/library/BH/include/boost/algorithm/string/trim.hpp:19,
                 from D:/biocbuild/bbs-3.14-bioc/R/library/BH/include/boost/algorithm/string.hpp:19,
                 from D:/biocbuild/bbs-3.14-bioc/R/library/cytolib/include/cytolib/transformation.hpp:18,
                 from D:/biocbuild/bbs-3.14-bioc/R/library/cytolib/include/cytolib/compensation.hpp:15,
                 from D:/biocbuild/bbs-3.14-bioc/R/library/cytolib/include/cytolib/CytoFrame.hpp:16,
                 from D:/biocbuild/bbs-3.14-bioc/R/library/cytolib/include/cytolib/MemCytoFrame.hpp:12,
                 from D:/biocbuild/bbs-3.14-bioc/R/library/cytolib/include/cytolib/gate.hpp:12,
                 from D:/biocbuild/bbs-3.14-bioc/R/library/cytolib/include/cytolib/POPINDICES.hpp:14,
                 from D:/biocbuild/bbs-3.14-bioc/R/library/cytolib/include/cytolib/nodeProperties.hpp:13,
                 from D:/biocbuild/bbs-3.14-bioc/R/library/cytolib/include/cytolib/populationTree.hpp:13,
                 from D:/biocbuild/bbs-3.14-bioc/R/library/cytolib/include/cytolib/GatingHierarchy.hpp:17,
                 from D:/biocbuild/bbs-3.14-bioc/R/library/cytolib/include/cytolib/GatingSet.hpp:14,
                 from ../inst/include/flowWorkspace/pairVectorRcppWrap.h:12,
                 from h5_error_r_handler.cpp:8:
D:/biocbuild/bbs-3.14-bioc/R/library/BH/include/boost/mpl/assert.hpp:194:21: warning: unnecessary parentheses in declaration of 'assert_arg' [-Wparentheses]
 failed ************ (Pred::************
                     ^
D:/biocbuild/bbs-3.14-bioc/R/library/BH/include/boost/mpl/assert.hpp:199:21: warning: unnecessary parentheses in declaration of 'assert_not_arg' [-Wparentheses]
 failed ************ (boost::mpl::not_<Pred>::************
                     ^
In file included from D:/biocbuild/bbs-3.14-bioc/R/library/cytolib/include/cytolib/CytoFrame.hpp:16,
                 from D:/biocbuild/bbs-3.14-bioc/R/library/cytolib/include/cytolib/MemCytoFrame.hpp:12,
                 from D:/biocbuild/bbs-3.14-bioc/R/library/cytolib/include/cytolib/gate.hpp:12,
                 from D:/biocbuild/bbs-3.14-bioc/R/library/cytolib/include/cytolib/POPINDICES.hpp:14,
                 from D:/biocbuild/bbs-3.14-bioc/R/library/cytolib/include/cytolib/nodeProperties.hpp:13,
                 from D:/biocbuild/bbs-3.14-bioc/R/library/cytolib/include/cytolib/populationTree.hpp:13,
                 from D:/biocbuild/bbs-3.14-bioc/R/library/cytolib/include/cytolib/GatingHierarchy.hpp:17,
                 from D:/biocbuild/bbs-3.14-bioc/R/library/cytolib/include/cytolib/GatingSet.hpp:14,
                 from ../inst/include/flowWorkspace/pairVectorRcppWrap.h:12,
                 from h5_error_r_handler.cpp:8:
D:/biocbuild/bbs-3.14-bioc/R/library/cytolib/include/cytolib/compensation.hpp: In constructor 'cytolib::compensation::compensation(const string&)':
D:/biocbuild/bbs-3.14-bioc/R/library/cytolib/include/cytolib/compensation.hpp:58:20: warning: comparison of integer expressions of different signedness: 'std::vector<std::__cxx11::basic_string<char>, std::allocator<std::__cxx11::basic_string<char> > >::size_type' {aka 'unsigned int'} and 'int' [-Wsign-compare]
   if(valVec.size() != 1+n+n*n){
      ~~~~~~~~~~~~~~^~~~~~~~~~
D:/biocbuild/bbs-3.14-bioc/R/library/cytolib/include/cytolib/compensation.hpp:62:21: warning: comparison of integer expressions of different signedness: 'std::vector<std::__cxx11::basic_string<char>, std::allocator<std::__cxx11::basic_string<char> > >::size_type' {aka 'unsigned int'} and 'int' [-Wsign-compare]
    if(valVec.size() == 1+n+2*n*n){
       ~~~~~~~~~~~~~~^~~~~~~~~~~~
D:/biocbuild/bbs-3.14-bioc/R/library/cytolib/include/cytolib/compensation.hpp:68:33: warning: comparison of integer expressions of different signedness: 'int' and 'std::vector<std::__cxx11::basic_string<char>, std::allocator<std::__cxx11::basic_string<char> > >::size_type' {aka 'unsigned int'} [-Wsign-compare]
     for(int i = 1+n, j = 1+n; i < valVec_fixed.size(); i++, j+=2)
                               ~~^~~~~~~~~~~~~~~~~~~~~
In file included from D:/biocbuild/bbs-3.14-bioc/R/library/BH/include/boost/graph/adjacency_iterator.hpp:13,
                 from D:/biocbuild/bbs-3.14-bioc/R/library/BH/include/boost/graph/detail/adjacency_list.hpp:37,
                 from D:/biocbuild/bbs-3.14-bioc/R/library/BH/include/boost/graph/adjacency_list.hpp:255,
                 from D:/biocbuild/bbs-3.14-bioc/R/library/cytolib/include/cytolib/populationTree.hpp:14,
                 from D:/biocbuild/bbs-3.14-bioc/R/library/cytolib/include/cytolib/GatingHierarchy.hpp:17,
                 from D:/biocbuild/bbs-3.14-bioc/R/library/cytolib/include/cytolib/GatingSet.hpp:14,
                 from ../inst/include/flowWorkspace/pairVectorRcppWrap.h:12,
                 from h5_error_r_handler.cpp:8:
D:/biocbuild/bbs-3.14-bioc/R/library/BH/include/boost/detail/iterator.hpp: At global scope:
D:/biocbuild/bbs-3.14-bioc/R/library/BH/include/boost/detail/iterator.hpp:13:37: note: #pragma message: This header is deprecated. Use <iterator> instead.
 BOOST_HEADER_DEPRECATED("<iterator>")
                                     ^
"C:/rtools40/mingw32/bin/"g++  -std=gnu++11 -I"D:/biocbuild/bbs-3.14-bioc/R/include" -DNDEBUG -DROUT -I../inst/include -DBOOST_NO_AUTO_PTR -DRCPP_PARALLEL_USE_TBB=1 -fpermissive  -I'D:/biocbuild/bbs-3.14-bioc/R/library/Rcpp/include' -I'D:/biocbuild/bbs-3.14-bioc/R/library/BH/include' -I'D:/biocbuild/bbs-3.14-bioc/R/library/RProtoBufLib/include' -I'D:/biocbuild/bbs-3.14-bioc/R/library/cytolib/include' -I'D:/biocbuild/bbs-3.14-bioc/R/library/Rhdf5lib/include' -I'D:/biocbuild/bbs-3.14-bioc/R/library/RcppArmadillo/include' -I'D:/biocbuild/bbs-3.14-bioc/R/library/RcppParallel/include'   -I"C:/extsoft/include"     -O2 -Wall  -mfpmath=sse -msse2 -mstackrealign  -c setCounts.cpp -o setCounts.o
In file included from D:/biocbuild/bbs-3.14-bioc/R/library/BH/include/boost/mpl/aux_/na_assert.hpp:23,
                 from D:/biocbuild/bbs-3.14-bioc/R/library/BH/include/boost/mpl/arg.hpp:25,
                 from D:/biocbuild/bbs-3.14-bioc/R/library/BH/include/boost/mpl/placeholders.hpp:24,
                 from D:/biocbuild/bbs-3.14-bioc/R/library/BH/include/boost/iterator/iterator_categories.hpp:16,
                 from D:/biocbuild/bbs-3.14-bioc/R/library/BH/include/boost/iterator/iterator_facade.hpp:13,
                 from D:/biocbuild/bbs-3.14-bioc/R/library/BH/include/boost/range/iterator_range_core.hpp:27,
                 from D:/biocbuild/bbs-3.14-bioc/R/library/BH/include/boost/range/iterator_range.hpp:13,
                 from D:/biocbuild/bbs-3.14-bioc/R/library/BH/include/boost/range/as_literal.hpp:18,
                 from D:/biocbuild/bbs-3.14-bioc/R/library/BH/include/boost/algorithm/string/trim.hpp:19,
                 from D:/biocbuild/bbs-3.14-bioc/R/library/BH/include/boost/algorithm/string.hpp:19,
                 from D:/biocbuild/bbs-3.14-bioc/R/library/cytolib/include/cytolib/transformation.hpp:18,
                 from D:/biocbuild/bbs-3.14-bioc/R/library/cytolib/include/cytolib/compensation.hpp:15,
                 from D:/biocbuild/bbs-3.14-bioc/R/library/cytolib/include/cytolib/CytoFrame.hpp:16,
                 from D:/biocbuild/bbs-3.14-bioc/R/library/cytolib/include/cytolib/MemCytoFrame.hpp:12,
                 from D:/biocbuild/bbs-3.14-bioc/R/library/cytolib/include/cytolib/gate.hpp:12,
                 from D:/biocbuild/bbs-3.14-bioc/R/library/cytolib/include/cytolib/POPINDICES.hpp:14,
                 from D:/biocbuild/bbs-3.14-bioc/R/library/cytolib/include/cytolib/nodeProperties.hpp:13,
                 from D:/biocbuild/bbs-3.14-bioc/R/library/cytolib/include/cytolib/populationTree.hpp:13,
                 from D:/biocbuild/bbs-3.14-bioc/R/library/cytolib/include/cytolib/GatingHierarchy.hpp:17,
                 from D:/biocbuild/bbs-3.14-bioc/R/library/cytolib/include/cytolib/GatingSet.hpp:14,
                 from setCounts.cpp:1:
D:/biocbuild/bbs-3.14-bioc/R/library/BH/include/boost/mpl/assert.hpp:194:21: warning: unnecessary parentheses in declaration of 'assert_arg' [-Wparentheses]
 failed ************ (Pred::************
                     ^
D:/biocbuild/bbs-3.14-bioc/R/library/BH/include/boost/mpl/assert.hpp:199:21: warning: unnecessary parentheses in declaration of 'assert_not_arg' [-Wparentheses]
 failed ************ (boost::mpl::not_<Pred>::************
                     ^
In file included from D:/biocbuild/bbs-3.14-bioc/R/library/cytolib/include/cytolib/CytoFrame.hpp:16,
                 from D:/biocbuild/bbs-3.14-bioc/R/library/cytolib/include/cytolib/MemCytoFrame.hpp:12,
                 from D:/biocbuild/bbs-3.14-bioc/R/library/cytolib/include/cytolib/gate.hpp:12,
                 from D:/biocbuild/bbs-3.14-bioc/R/library/cytolib/include/cytolib/POPINDICES.hpp:14,
                 from D:/biocbuild/bbs-3.14-bioc/R/library/cytolib/include/cytolib/nodeProperties.hpp:13,
                 from D:/biocbuild/bbs-3.14-bioc/R/library/cytolib/include/cytolib/populationTree.hpp:13,
                 from D:/biocbuild/bbs-3.14-bioc/R/library/cytolib/include/cytolib/GatingHierarchy.hpp:17,
                 from D:/biocbuild/bbs-3.14-bioc/R/library/cytolib/include/cytolib/GatingSet.hpp:14,
                 from setCounts.cpp:1:
D:/biocbuild/bbs-3.14-bioc/R/library/cytolib/include/cytolib/compensation.hpp: In constructor 'cytolib::compensation::compensation(const string&)':
D:/biocbuild/bbs-3.14-bioc/R/library/cytolib/include/cytolib/compensation.hpp:58:20: warning: comparison of integer expressions of different signedness: 'std::vector<std::__cxx11::basic_string<char>, std::allocator<std::__cxx11::basic_string<char> > >::size_type' {aka 'unsigned int'} and 'int' [-Wsign-compare]
   if(valVec.size() != 1+n+n*n){
      ~~~~~~~~~~~~~~^~~~~~~~~~
D:/biocbuild/bbs-3.14-bioc/R/library/cytolib/include/cytolib/compensation.hpp:62:21: warning: comparison of integer expressions of different signedness: 'std::vector<std::__cxx11::basic_string<char>, std::allocator<std::__cxx11::basic_string<char> > >::size_type' {aka 'unsigned int'} and 'int' [-Wsign-compare]
    if(valVec.size() == 1+n+2*n*n){
       ~~~~~~~~~~~~~~^~~~~~~~~~~~
D:/biocbuild/bbs-3.14-bioc/R/library/cytolib/include/cytolib/compensation.hpp:68:33: warning: comparison of integer expressions of different signedness: 'int' and 'std::vector<std::__cxx11::basic_string<char>, std::allocator<std::__cxx11::basic_string<char> > >::size_type' {aka 'unsigned int'} [-Wsign-compare]
     for(int i = 1+n, j = 1+n; i < valVec_fixed.size(); i++, j+=2)
                               ~~^~~~~~~~~~~~~~~~~~~~~
In file included from D:/biocbuild/bbs-3.14-bioc/R/library/BH/include/boost/graph/adjacency_iterator.hpp:13,
                 from D:/biocbuild/bbs-3.14-bioc/R/library/BH/include/boost/graph/detail/adjacency_list.hpp:37,
                 from D:/biocbuild/bbs-3.14-bioc/R/library/BH/include/boost/graph/adjacency_list.hpp:255,
                 from D:/biocbuild/bbs-3.14-bioc/R/library/cytolib/include/cytolib/populationTree.hpp:14,
                 from D:/biocbuild/bbs-3.14-bioc/R/library/cytolib/include/cytolib/GatingHierarchy.hpp:17,
                 from D:/biocbuild/bbs-3.14-bioc/R/library/cytolib/include/cytolib/GatingSet.hpp:14,
                 from setCounts.cpp:1:
D:/biocbuild/bbs-3.14-bioc/R/library/BH/include/boost/detail/iterator.hpp: At global scope:
D:/biocbuild/bbs-3.14-bioc/R/library/BH/include/boost/detail/iterator.hpp:13:37: note: #pragma message: This header is deprecated. Use <iterator> instead.
 BOOST_HEADER_DEPRECATED("<iterator>")
                                     ^
mkdir -p "D:/biocbuild/bbs-3.14-bioc/meat/flowWorkspace.buildbin-libdir/00LOCK-flowWorkspace/00new/flowWorkspace/lib/i386"
"C:/rtools40/mingw32/bin/"ar rs "D:/biocbuild/bbs-3.14-bioc/meat/flowWorkspace.buildbin-libdir/00LOCK-flowWorkspace/00new/flowWorkspace/lib/i386/libflowWorkspace.a" R_API.o R_GatingHierarchy.o R_GatingSet.o RcppExports.o cytoctxAPI.o cytoframeAPI.o cytosetAPI.o getDescendants.o getPopStats.o getSingleCellExpression.o h5_error_r_handler.o setCounts.o
C:\rtools40\mingw32\bin\ar.exe: creating D:/biocbuild/bbs-3.14-bioc/meat/flowWorkspace.buildbin-libdir/00LOCK-flowWorkspace/00new/flowWorkspace/lib/i386/libflowWorkspace.a
C:/rtools40/mingw32/bin/g++ -shared -s -static-libgcc -o flowWorkspace.dll tmp.def R_API.o R_GatingHierarchy.o R_GatingSet.o RcppExports.o cytoctxAPI.o cytoframeAPI.o cytosetAPI.o getDescendants.o getPopStats.o getSingleCellExpression.o h5_error_r_handler.o setCounts.o -LD:/biocbuild/bbs-3.14-bioc/R/bin/i386 -lRlapack -LD:/biocbuild/bbs-3.14-bioc/R/bin/i386 -lRblas -lgfortran -lm -lquadmath D:/biocbuild/bbs-3.14-bioc/R/library/cytolib/lib/i386/libcytolib.a D:/biocbuild/bbs-3.14-bioc/R/library/RProtoBufLib/lib/i386/GatingSet.pb.o -LD:/biocbuild/bbs-3.14-bioc/R/library/RProtoBufLib/lib/i386 -lprotobuf -LD:/biocbuild/bbs-3.14-bioc/R/library/RcppParallel/lib/i386 -ltbb -ltbbmalloc -LD:/biocbuild/bbs-3.14-bioc/R/library/Rhdf5lib/lib/i386 -lhdf5_cpp -lhdf5 -lcurl -lssh2 -lssl -lcrypto -lwldap32 -lws2_32 -lcrypt32 -lszip -lz -lpsapi -lws2_32 -LC:/extsoft/lib/i386 -LC:/extsoft/lib -LD:/biocbuild/bbs-3.14-bioc/R/bin/i386 -lR
installing to D:/biocbuild/bbs-3.14-bioc/meat/flowWorkspace.buildbin-libdir/00LOCK-flowWorkspace/00new/flowWorkspace/libs/i386
** R
** inst
** byte-compile and prepare package for lazy loading
** help
*** installing help indices
  converting help for package 'flowWorkspace'
    finding HTML links ... done
    GatingHierarchy-class                   html  
    GatingSet-class                         html  
    GatingSet-methods                       html  
    GatingSetList-class                     html  
    asinh_Gml2                              html  
    asinhtGml2_trans                        html  
    booleanFilter-class                     html  
    finding level-2 HTML links ... done

    brackets                                html  
    cf_append_cols                          html  
    cf_backend_type                         html  
    cf_get_uri                              html  
    cf_write_disk                           html  
    cf_write_h5                             html  
    cf_write_tile                           html  
    cleanup                                 html  
    cleanup_temp                            html  
    compensate                              html  
    convert                                 html  
    convert_backend                         html  
    convert_legacy                          html  
    cs_add_cytoframe                        html  
    cs_get_uri                              html  
    cs_set_cytoframe                        html  
    cytoctx                                 html  
    cytoframe-labels                        html  
    cytoframe                               html  
    cytoset                                 html  
    default_backend                         html  
    delete_gs                               html  
    estimateLogicle                         html  
    extract_cluster_pop_name_from_node      html  
    filter_to_list                          html  
    flowWorkspace-deprecated                html  
    flowWorkspace-package                   html  
    flow_breaks                             html  
    flow_trans                              html  
    flowjo_biexp                            html  
    flowjo_biexp_trans                      html  
REDIRECT:topic	 Previous alias or file overwritten by alias: D:/biocbuild/bbs-3.14-bioc/meat/flowWorkspace.buildbin-libdir/00LOCK-flowWorkspace/00new/flowWorkspace/help/flowJo_biexp_trans.html
    flowjo_fasinh                           html  
    flowjo_fasinh_trans                     html  
REDIRECT:topic	 Previous alias or file overwritten by alias: D:/biocbuild/bbs-3.14-bioc/meat/flowWorkspace.buildbin-libdir/00LOCK-flowWorkspace/00new/flowWorkspace/help/flowJo_fasinh_trans.html
    flowjo_log_trans                        html  
    gh_apply_to_cs                          html  
    gh_apply_to_new_fcs                     html  
    gh_copy_gate                            html  
    gh_get_cluster_labels                   html  
    gh_get_compensations                    html  
    gh_get_transformations                  html  
    gh_pop_compare_stats                    html  
    gh_pop_get_cluster_name                 html  
    gh_pop_get_data                         html  
    gh_pop_get_descendants                  html  
    gh_pop_get_full_path                    html  
    gh_pop_get_indices                      html  
    gh_pop_get_indices_mat                  html  
    gh_pop_get_proportion                   html  
    gh_pop_move                             html  
    gh_pop_set_indices                      html  
    gh_pop_set_xml_count                    html  
    gs_check_redundant_nodes                html  
    gs_cyto_data                            html  
    gs_get_compensation_internal            html  
    gs_get_leaf_nodes                       html  
    gs_get_pop_paths                        html  
    gs_get_singlecell_expression            html  
    gs_is_persistent                        html  
    gs_plot_diff_tree                       html  
    gs_plot_pop_count_cv                    html  
    gs_pop_add                              html  
    gs_pop_get_children                     html  
    gs_pop_get_count_fast                   html  
    gs_pop_get_gate                         html  
    gs_pop_get_gs                           html  
    gs_pop_get_stats                        html  
    gs_pop_get_stats_tfilter                html  
    gs_pop_set_gate                         html  
    gs_pop_set_name                         html  
    gs_pop_set_visibility                   html  
    gs_remove_redundant_channels            html  
    gs_remove_redundant_nodes               html  
    gs_split_by_channels                    html  
    gs_split_by_tree                        html  
    gs_update_channels                      html  
    gslist_to_gs                            html  
    identifier-methods                      html  
    is_subsetted                            html  
    is_tiledb_support                       html  
    keyword-mutators                        html  
    keyword                                 html  
    lapply-methods                          html  
    length                                  html  
    load_cytoframe                          html  
    load_cytoframe_from_fcs                 html  
    load_cytoset_from_fcs                   html  
    load_meta                               html  
    lock                                    html  
    logicleGml2_trans                       html  
    logicle_trans                           html  
    loglevel                                html  
    logtGml2_trans                          html  
    markernames                             html  
    merge_list_to_gs                        html  
    ncFlowSet-methods                       html  
    nodeflags                               html  
    openWorkspace                           html  
    pData-methods                           html  
    plot-methods                            html  
    plotGate-methods-defunct                html  
    pop_add                                 html  
    prettyAxis                              html  
    recompute                               html  
    rotate_gate                             html  
    sampleNames                             html  
    save_cytoset                            html  
    save_gs                                 html  
    scale_gate                              html  
    shift_gate                              html  
    standardize-GatingSet                   html  
    stats.fun                               html  
    subset                                  html  
    swap_data_cols                          html  
    transform                               html  
    transform_gate                          html  
    transformerList                         html  
** building package indices
** installing vignettes
** testing if installed package can be loaded from temporary location
** testing if installed package can be loaded from final location
** testing if installed package keeps a record of temporary installation path

install for x64

* installing *source* package 'flowWorkspace' ...
** libs
"C:/rtools40/mingw64/bin/"g++  -std=gnu++11 -I"D:/biocbuild/bbs-3.14-bioc/R/include" -DNDEBUG -DROUT -I../inst/include -DBOOST_NO_AUTO_PTR -DRCPP_PARALLEL_USE_TBB=1 -fpermissive  -I'D:/biocbuild/bbs-3.14-bioc/R/library/Rcpp/include' -I'D:/biocbuild/bbs-3.14-bioc/R/library/BH/include' -I'D:/biocbuild/bbs-3.14-bioc/R/library/RProtoBufLib/include' -I'D:/biocbuild/bbs-3.14-bioc/R/library/cytolib/include' -I'D:/biocbuild/bbs-3.14-bioc/R/library/Rhdf5lib/include' -I'D:/biocbuild/bbs-3.14-bioc/R/library/RcppArmadillo/include' -I'D:/biocbuild/bbs-3.14-bioc/R/library/RcppParallel/include'   -I"C:/extsoft/include"     -O2 -Wall  -mfpmath=sse -msse2 -mstackrealign  -c R_API.cpp -o R_API.o
In file included from D:/biocbuild/bbs-3.14-bioc/R/library/BH/include/boost/mpl/aux_/na_assert.hpp:23,
                 from D:/biocbuild/bbs-3.14-bioc/R/library/BH/include/boost/mpl/arg.hpp:25,
                 from D:/biocbuild/bbs-3.14-bioc/R/library/BH/include/boost/mpl/placeholders.hpp:24,
                 from D:/biocbuild/bbs-3.14-bioc/R/library/BH/include/boost/iterator/iterator_categories.hpp:16,
                 from D:/biocbuild/bbs-3.14-bioc/R/library/BH/include/boost/iterator/iterator_facade.hpp:13,
                 from D:/biocbuild/bbs-3.14-bioc/R/library/BH/include/boost/range/iterator_range_core.hpp:27,
                 from D:/biocbuild/bbs-3.14-bioc/R/library/BH/include/boost/range/iterator_range.hpp:13,
                 from D:/biocbuild/bbs-3.14-bioc/R/library/BH/include/boost/range/as_literal.hpp:18,
                 from D:/biocbuild/bbs-3.14-bioc/R/library/BH/include/boost/algorithm/string/trim.hpp:19,
                 from D:/biocbuild/bbs-3.14-bioc/R/library/BH/include/boost/algorithm/string.hpp:19,
                 from D:/biocbuild/bbs-3.14-bioc/R/library/cytolib/include/cytolib/transformation.hpp:18,
                 from D:/biocbuild/bbs-3.14-bioc/R/library/cytolib/include/cytolib/compensation.hpp:15,
                 from D:/biocbuild/bbs-3.14-bioc/R/library/cytolib/include/cytolib/CytoFrame.hpp:16,
                 from D:/biocbuild/bbs-3.14-bioc/R/library/cytolib/include/cytolib/MemCytoFrame.hpp:12,
                 from D:/biocbuild/bbs-3.14-bioc/R/library/cytolib/include/cytolib/gate.hpp:12,
                 from D:/biocbuild/bbs-3.14-bioc/R/library/cytolib/include/cytolib/POPINDICES.hpp:14,
                 from D:/biocbuild/bbs-3.14-bioc/R/library/cytolib/include/cytolib/nodeProperties.hpp:13,
                 from D:/biocbuild/bbs-3.14-bioc/R/library/cytolib/include/cytolib/populationTree.hpp:13,
                 from D:/biocbuild/bbs-3.14-bioc/R/library/cytolib/include/cytolib/GatingHierarchy.hpp:17,
                 from D:/biocbuild/bbs-3.14-bioc/R/library/cytolib/include/cytolib/GatingSet.hpp:14,
                 from R_API.cpp:9:
D:/biocbuild/bbs-3.14-bioc/R/library/BH/include/boost/mpl/assert.hpp:194:21: warning: unnecessary parentheses in declaration of 'assert_arg' [-Wparentheses]
 failed ************ (Pred::************
                     ^
D:/biocbuild/bbs-3.14-bioc/R/library/BH/include/boost/mpl/assert.hpp:199:21: warning: unnecessary parentheses in declaration of 'assert_not_arg' [-Wparentheses]
 failed ************ (boost::mpl::not_<Pred>::************
                     ^
In file included from D:/biocbuild/bbs-3.14-bioc/R/library/cytolib/include/cytolib/CytoFrame.hpp:16,
                 from D:/biocbuild/bbs-3.14-bioc/R/library/cytolib/include/cytolib/MemCytoFrame.hpp:12,
                 from D:/biocbuild/bbs-3.14-bioc/R/library/cytolib/include/cytolib/gate.hpp:12,
                 from D:/biocbuild/bbs-3.14-bioc/R/library/cytolib/include/cytolib/POPINDICES.hpp:14,
                 from D:/biocbuild/bbs-3.14-bioc/R/library/cytolib/include/cytolib/nodeProperties.hpp:13,
                 from D:/biocbuild/bbs-3.14-bioc/R/library/cytolib/include/cytolib/populationTree.hpp:13,
                 from D:/biocbuild/bbs-3.14-bioc/R/library/cytolib/include/cytolib/GatingHierarchy.hpp:17,
                 from D:/biocbuild/bbs-3.14-bioc/R/library/cytolib/include/cytolib/GatingSet.hpp:14,
                 from R_API.cpp:9:
D:/biocbuild/bbs-3.14-bioc/R/library/cytolib/include/cytolib/compensation.hpp: In constructor 'cytolib::compensation::compensation(const string&)':
D:/biocbuild/bbs-3.14-bioc/R/library/cytolib/include/cytolib/compensation.hpp:58:20: warning: comparison of integer expressions of different signedness: 'std::vector<std::__cxx11::basic_string<char>, std::allocator<std::__cxx11::basic_string<char> > >::size_type' {aka 'long long unsigned int'} and 'int' [-Wsign-compare]
   if(valVec.size() != 1+n+n*n){
      ~~~~~~~~~~~~~~^~~~~~~~~~
D:/biocbuild/bbs-3.14-bioc/R/library/cytolib/include/cytolib/compensation.hpp:62:21: warning: comparison of integer expressions of different signedness: 'std::vector<std::__cxx11::basic_string<char>, std::allocator<std::__cxx11::basic_string<char> > >::size_type' {aka 'long long unsigned int'} and 'int' [-Wsign-compare]
    if(valVec.size() == 1+n+2*n*n){
       ~~~~~~~~~~~~~~^~~~~~~~~~~~
D:/biocbuild/bbs-3.14-bioc/R/library/cytolib/include/cytolib/compensation.hpp:68:33: warning: comparison of integer expressions of different signedness: 'int' and 'std::vector<std::__cxx11::basic_string<char>, std::allocator<std::__cxx11::basic_string<char> > >::size_type' {aka 'long long unsigned int'} [-Wsign-compare]
     for(int i = 1+n, j = 1+n; i < valVec_fixed.size(); i++, j+=2)
                               ~~^~~~~~~~~~~~~~~~~~~~~
In file included from D:/biocbuild/bbs-3.14-bioc/R/library/BH/include/boost/graph/adjacency_iterator.hpp:13,
                 from D:/biocbuild/bbs-3.14-bioc/R/library/BH/include/boost/graph/detail/adjacency_list.hpp:37,
                 from D:/biocbuild/bbs-3.14-bioc/R/library/BH/include/boost/graph/adjacency_list.hpp:255,
                 from D:/biocbuild/bbs-3.14-bioc/R/library/cytolib/include/cytolib/populationTree.hpp:14,
                 from D:/biocbuild/bbs-3.14-bioc/R/library/cytolib/include/cytolib/GatingHierarchy.hpp:17,
                 from D:/biocbuild/bbs-3.14-bioc/R/library/cytolib/include/cytolib/GatingSet.hpp:14,
                 from R_API.cpp:9:
D:/biocbuild/bbs-3.14-bioc/R/library/BH/include/boost/detail/iterator.hpp: At global scope:
D:/biocbuild/bbs-3.14-bioc/R/library/BH/include/boost/detail/iterator.hpp:13:37: note: #pragma message: This header is deprecated. Use <iterator> instead.
 BOOST_HEADER_DEPRECATED("<iterator>")
                                     ^
"C:/rtools40/mingw64/bin/"g++  -std=gnu++11 -I"D:/biocbuild/bbs-3.14-bioc/R/include" -DNDEBUG -DROUT -I../inst/include -DBOOST_NO_AUTO_PTR -DRCPP_PARALLEL_USE_TBB=1 -fpermissive  -I'D:/biocbuild/bbs-3.14-bioc/R/library/Rcpp/include' -I'D:/biocbuild/bbs-3.14-bioc/R/library/BH/include' -I'D:/biocbuild/bbs-3.14-bioc/R/library/RProtoBufLib/include' -I'D:/biocbuild/bbs-3.14-bioc/R/library/cytolib/include' -I'D:/biocbuild/bbs-3.14-bioc/R/library/Rhdf5lib/include' -I'D:/biocbuild/bbs-3.14-bioc/R/library/RcppArmadillo/include' -I'D:/biocbuild/bbs-3.14-bioc/R/library/RcppParallel/include'   -I"C:/extsoft/include"     -O2 -Wall  -mfpmath=sse -msse2 -mstackrealign  -c R_GatingHierarchy.cpp -o R_GatingHierarchy.o
In file included from D:/biocbuild/bbs-3.14-bioc/R/library/BH/include/boost/mpl/aux_/na_assert.hpp:23,
                 from D:/biocbuild/bbs-3.14-bioc/R/library/BH/include/boost/mpl/arg.hpp:25,
                 from D:/biocbuild/bbs-3.14-bioc/R/library/BH/include/boost/mpl/placeholders.hpp:24,
                 from D:/biocbuild/bbs-3.14-bioc/R/library/BH/include/boost/iterator/iterator_categories.hpp:16,
                 from D:/biocbuild/bbs-3.14-bioc/R/library/BH/include/boost/iterator/iterator_facade.hpp:13,
                 from D:/biocbuild/bbs-3.14-bioc/R/library/BH/include/boost/range/iterator_range_core.hpp:27,
                 from D:/biocbuild/bbs-3.14-bioc/R/library/BH/include/boost/range/iterator_range.hpp:13,
                 from D:/biocbuild/bbs-3.14-bioc/R/library/BH/include/boost/range/as_literal.hpp:18,
                 from D:/biocbuild/bbs-3.14-bioc/R/library/BH/include/boost/algorithm/string/trim.hpp:19,
                 from D:/biocbuild/bbs-3.14-bioc/R/library/BH/include/boost/algorithm/string.hpp:19,
                 from D:/biocbuild/bbs-3.14-bioc/R/library/cytolib/include/cytolib/transformation.hpp:18,
                 from D:/biocbuild/bbs-3.14-bioc/R/library/cytolib/include/cytolib/compensation.hpp:15,
                 from D:/biocbuild/bbs-3.14-bioc/R/library/cytolib/include/cytolib/CytoFrame.hpp:16,
                 from D:/biocbuild/bbs-3.14-bioc/R/library/cytolib/include/cytolib/MemCytoFrame.hpp:12,
                 from D:/biocbuild/bbs-3.14-bioc/R/library/cytolib/include/cytolib/gate.hpp:12,
                 from D:/biocbuild/bbs-3.14-bioc/R/library/cytolib/include/cytolib/POPINDICES.hpp:14,
                 from D:/biocbuild/bbs-3.14-bioc/R/library/cytolib/include/cytolib/nodeProperties.hpp:13,
                 from D:/biocbuild/bbs-3.14-bioc/R/library/cytolib/include/cytolib/populationTree.hpp:13,
                 from D:/biocbuild/bbs-3.14-bioc/R/library/cytolib/include/cytolib/GatingHierarchy.hpp:17,
                 from D:/biocbuild/bbs-3.14-bioc/R/library/cytolib/include/cytolib/GatingSet.hpp:14,
                 from R_GatingHierarchy.cpp:17:
D:/biocbuild/bbs-3.14-bioc/R/library/BH/include/boost/mpl/assert.hpp:194:21: warning: unnecessary parentheses in declaration of 'assert_arg' [-Wparentheses]
 failed ************ (Pred::************
                     ^
D:/biocbuild/bbs-3.14-bioc/R/library/BH/include/boost/mpl/assert.hpp:199:21: warning: unnecessary parentheses in declaration of 'assert_not_arg' [-Wparentheses]
 failed ************ (boost::mpl::not_<Pred>::************
                     ^
In file included from D:/biocbuild/bbs-3.14-bioc/R/library/cytolib/include/cytolib/CytoFrame.hpp:16,
                 from D:/biocbuild/bbs-3.14-bioc/R/library/cytolib/include/cytolib/MemCytoFrame.hpp:12,
                 from D:/biocbuild/bbs-3.14-bioc/R/library/cytolib/include/cytolib/gate.hpp:12,
                 from D:/biocbuild/bbs-3.14-bioc/R/library/cytolib/include/cytolib/POPINDICES.hpp:14,
                 from D:/biocbuild/bbs-3.14-bioc/R/library/cytolib/include/cytolib/nodeProperties.hpp:13,
                 from D:/biocbuild/bbs-3.14-bioc/R/library/cytolib/include/cytolib/populationTree.hpp:13,
                 from D:/biocbuild/bbs-3.14-bioc/R/library/cytolib/include/cytolib/GatingHierarchy.hpp:17,
                 from D:/biocbuild/bbs-3.14-bioc/R/library/cytolib/include/cytolib/GatingSet.hpp:14,
                 from R_GatingHierarchy.cpp:17:
D:/biocbuild/bbs-3.14-bioc/R/library/cytolib/include/cytolib/compensation.hpp: In constructor 'cytolib::compensation::compensation(const string&)':
D:/biocbuild/bbs-3.14-bioc/R/library/cytolib/include/cytolib/compensation.hpp:58:20: warning: comparison of integer expressions of different signedness: 'std::vector<std::__cxx11::basic_string<char>, std::allocator<std::__cxx11::basic_string<char> > >::size_type' {aka 'long long unsigned int'} and 'int' [-Wsign-compare]
   if(valVec.size() != 1+n+n*n){
      ~~~~~~~~~~~~~~^~~~~~~~~~
D:/biocbuild/bbs-3.14-bioc/R/library/cytolib/include/cytolib/compensation.hpp:62:21: warning: comparison of integer expressions of different signedness: 'std::vector<std::__cxx11::basic_string<char>, std::allocator<std::__cxx11::basic_string<char> > >::size_type' {aka 'long long unsigned int'} and 'int' [-Wsign-compare]
    if(valVec.size() == 1+n+2*n*n){
       ~~~~~~~~~~~~~~^~~~~~~~~~~~
D:/biocbuild/bbs-3.14-bioc/R/library/cytolib/include/cytolib/compensation.hpp:68:33: warning: comparison of integer expressions of different signedness: 'int' and 'std::vector<std::__cxx11::basic_string<char>, std::allocator<std::__cxx11::basic_string<char> > >::size_type' {aka 'long long unsigned int'} [-Wsign-compare]
     for(int i = 1+n, j = 1+n; i < valVec_fixed.size(); i++, j+=2)
                               ~~^~~~~~~~~~~~~~~~~~~~~
In file included from D:/biocbuild/bbs-3.14-bioc/R/library/BH/include/boost/graph/adjacency_iterator.hpp:13,
                 from D:/biocbuild/bbs-3.14-bioc/R/library/BH/include/boost/graph/detail/adjacency_list.hpp:37,
                 from D:/biocbuild/bbs-3.14-bioc/R/library/BH/include/boost/graph/adjacency_list.hpp:255,
                 from D:/biocbuild/bbs-3.14-bioc/R/library/cytolib/include/cytolib/populationTree.hpp:14,
                 from D:/biocbuild/bbs-3.14-bioc/R/library/cytolib/include/cytolib/GatingHierarchy.hpp:17,
                 from D:/biocbuild/bbs-3.14-bioc/R/library/cytolib/include/cytolib/GatingSet.hpp:14,
                 from R_GatingHierarchy.cpp:17:
D:/biocbuild/bbs-3.14-bioc/R/library/BH/include/boost/detail/iterator.hpp: At global scope:
D:/biocbuild/bbs-3.14-bioc/R/library/BH/include/boost/detail/iterator.hpp:13:37: note: #pragma message: This header is deprecated. Use <iterator> instead.
 BOOST_HEADER_DEPRECATED("<iterator>")
                                     ^
"C:/rtools40/mingw64/bin/"g++  -std=gnu++11 -I"D:/biocbuild/bbs-3.14-bioc/R/include" -DNDEBUG -DROUT -I../inst/include -DBOOST_NO_AUTO_PTR -DRCPP_PARALLEL_USE_TBB=1 -fpermissive  -I'D:/biocbuild/bbs-3.14-bioc/R/library/Rcpp/include' -I'D:/biocbuild/bbs-3.14-bioc/R/library/BH/include' -I'D:/biocbuild/bbs-3.14-bioc/R/library/RProtoBufLib/include' -I'D:/biocbuild/bbs-3.14-bioc/R/library/cytolib/include' -I'D:/biocbuild/bbs-3.14-bioc/R/library/Rhdf5lib/include' -I'D:/biocbuild/bbs-3.14-bioc/R/library/RcppArmadillo/include' -I'D:/biocbuild/bbs-3.14-bioc/R/library/RcppParallel/include'   -I"C:/extsoft/include"     -O2 -Wall  -mfpmath=sse -msse2 -mstackrealign  -c R_GatingSet.cpp -o R_GatingSet.o
In file included from D:/biocbuild/bbs-3.14-bioc/R/library/BH/include/boost/mpl/aux_/na_assert.hpp:23,
                 from D:/biocbuild/bbs-3.14-bioc/R/library/BH/include/boost/mpl/arg.hpp:25,
                 from D:/biocbuild/bbs-3.14-bioc/R/library/BH/include/boost/mpl/placeholders.hpp:24,
                 from D:/biocbuild/bbs-3.14-bioc/R/library/BH/include/boost/iterator/iterator_categories.hpp:16,
                 from D:/biocbuild/bbs-3.14-bioc/R/library/BH/include/boost/iterator/iterator_facade.hpp:13,
                 from D:/biocbuild/bbs-3.14-bioc/R/library/BH/include/boost/range/iterator_range_core.hpp:27,
                 from D:/biocbuild/bbs-3.14-bioc/R/library/BH/include/boost/range/iterator_range.hpp:13,
                 from D:/biocbuild/bbs-3.14-bioc/R/library/BH/include/boost/range/as_literal.hpp:18,
                 from D:/biocbuild/bbs-3.14-bioc/R/library/BH/include/boost/algorithm/string/trim.hpp:19,
                 from D:/biocbuild/bbs-3.14-bioc/R/library/BH/include/boost/algorithm/string.hpp:19,
                 from D:/biocbuild/bbs-3.14-bioc/R/library/cytolib/include/cytolib/transformation.hpp:18,
                 from D:/biocbuild/bbs-3.14-bioc/R/library/cytolib/include/cytolib/compensation.hpp:15,
                 from D:/biocbuild/bbs-3.14-bioc/R/library/cytolib/include/cytolib/CytoFrame.hpp:16,
                 from D:/biocbuild/bbs-3.14-bioc/R/library/cytolib/include/cytolib/MemCytoFrame.hpp:12,
                 from D:/biocbuild/bbs-3.14-bioc/R/library/cytolib/include/cytolib/gate.hpp:12,
                 from D:/biocbuild/bbs-3.14-bioc/R/library/cytolib/include/cytolib/POPINDICES.hpp:14,
                 from D:/biocbuild/bbs-3.14-bioc/R/library/cytolib/include/cytolib/nodeProperties.hpp:13,
                 from D:/biocbuild/bbs-3.14-bioc/R/library/cytolib/include/cytolib/populationTree.hpp:13,
                 from D:/biocbuild/bbs-3.14-bioc/R/library/cytolib/include/cytolib/GatingHierarchy.hpp:17,
                 from D:/biocbuild/bbs-3.14-bioc/R/library/cytolib/include/cytolib/GatingSet.hpp:14,
                 from ../inst/include/flowWorkspace.h:5,
                 from R_GatingSet.cpp:10:
D:/biocbuild/bbs-3.14-bioc/R/library/BH/include/boost/mpl/assert.hpp:194:21: warning: unnecessary parentheses in declaration of 'assert_arg' [-Wparentheses]
 failed ************ (Pred::************
                     ^
D:/biocbuild/bbs-3.14-bioc/R/library/BH/include/boost/mpl/assert.hpp:199:21: warning: unnecessary parentheses in declaration of 'assert_not_arg' [-Wparentheses]
 failed ************ (boost::mpl::not_<Pred>::************
                     ^
In file included from D:/biocbuild/bbs-3.14-bioc/R/library/cytolib/include/cytolib/CytoFrame.hpp:16,
                 from D:/biocbuild/bbs-3.14-bioc/R/library/cytolib/include/cytolib/MemCytoFrame.hpp:12,
                 from D:/biocbuild/bbs-3.14-bioc/R/library/cytolib/include/cytolib/gate.hpp:12,
                 from D:/biocbuild/bbs-3.14-bioc/R/library/cytolib/include/cytolib/POPINDICES.hpp:14,
                 from D:/biocbuild/bbs-3.14-bioc/R/library/cytolib/include/cytolib/nodeProperties.hpp:13,
                 from D:/biocbuild/bbs-3.14-bioc/R/library/cytolib/include/cytolib/populationTree.hpp:13,
                 from D:/biocbuild/bbs-3.14-bioc/R/library/cytolib/include/cytolib/GatingHierarchy.hpp:17,
                 from D:/biocbuild/bbs-3.14-bioc/R/library/cytolib/include/cytolib/GatingSet.hpp:14,
                 from ../inst/include/flowWorkspace.h:5,
                 from R_GatingSet.cpp:10:
D:/biocbuild/bbs-3.14-bioc/R/library/cytolib/include/cytolib/compensation.hpp: In constructor 'cytolib::compensation::compensation(const string&)':
D:/biocbuild/bbs-3.14-bioc/R/library/cytolib/include/cytolib/compensation.hpp:58:20: warning: comparison of integer expressions of different signedness: 'std::vector<std::__cxx11::basic_string<char>, std::allocator<std::__cxx11::basic_string<char> > >::size_type' {aka 'long long unsigned int'} and 'int' [-Wsign-compare]
   if(valVec.size() != 1+n+n*n){
      ~~~~~~~~~~~~~~^~~~~~~~~~
D:/biocbuild/bbs-3.14-bioc/R/library/cytolib/include/cytolib/compensation.hpp:62:21: warning: comparison of integer expressions of different signedness: 'std::vector<std::__cxx11::basic_string<char>, std::allocator<std::__cxx11::basic_string<char> > >::size_type' {aka 'long long unsigned int'} and 'int' [-Wsign-compare]
    if(valVec.size() == 1+n+2*n*n){
       ~~~~~~~~~~~~~~^~~~~~~~~~~~
D:/biocbuild/bbs-3.14-bioc/R/library/cytolib/include/cytolib/compensation.hpp:68:33: warning: comparison of integer expressions of different signedness: 'int' and 'std::vector<std::__cxx11::basic_string<char>, std::allocator<std::__cxx11::basic_string<char> > >::size_type' {aka 'long long unsigned int'} [-Wsign-compare]
     for(int i = 1+n, j = 1+n; i < valVec_fixed.size(); i++, j+=2)
                               ~~^~~~~~~~~~~~~~~~~~~~~
In file included from D:/biocbuild/bbs-3.14-bioc/R/library/BH/include/boost/graph/adjacency_iterator.hpp:13,
                 from D:/biocbuild/bbs-3.14-bioc/R/library/BH/include/boost/graph/detail/adjacency_list.hpp:37,
                 from D:/biocbuild/bbs-3.14-bioc/R/library/BH/include/boost/graph/adjacency_list.hpp:255,
                 from D:/biocbuild/bbs-3.14-bioc/R/library/cytolib/include/cytolib/populationTree.hpp:14,
                 from D:/biocbuild/bbs-3.14-bioc/R/library/cytolib/include/cytolib/GatingHierarchy.hpp:17,
                 from D:/biocbuild/bbs-3.14-bioc/R/library/cytolib/include/cytolib/GatingSet.hpp:14,
                 from ../inst/include/flowWorkspace.h:5,
                 from R_GatingSet.cpp:10:
D:/biocbuild/bbs-3.14-bioc/R/library/BH/include/boost/detail/iterator.hpp: At global scope:
D:/biocbuild/bbs-3.14-bioc/R/library/BH/include/boost/detail/iterator.hpp:13:37: note: #pragma message: This header is deprecated. Use <iterator> instead.
 BOOST_HEADER_DEPRECATED("<iterator>")
                                     ^
"C:/rtools40/mingw64/bin/"g++  -std=gnu++11 -I"D:/biocbuild/bbs-3.14-bioc/R/include" -DNDEBUG -DROUT -I../inst/include -DBOOST_NO_AUTO_PTR -DRCPP_PARALLEL_USE_TBB=1 -fpermissive  -I'D:/biocbuild/bbs-3.14-bioc/R/library/Rcpp/include' -I'D:/biocbuild/bbs-3.14-bioc/R/library/BH/include' -I'D:/biocbuild/bbs-3.14-bioc/R/library/RProtoBufLib/include' -I'D:/biocbuild/bbs-3.14-bioc/R/library/cytolib/include' -I'D:/biocbuild/bbs-3.14-bioc/R/library/Rhdf5lib/include' -I'D:/biocbuild/bbs-3.14-bioc/R/library/RcppArmadillo/include' -I'D:/biocbuild/bbs-3.14-bioc/R/library/RcppParallel/include'   -I"C:/extsoft/include"     -O2 -Wall  -mfpmath=sse -msse2 -mstackrealign  -c RcppExports.cpp -o RcppExports.o
In file included from D:/biocbuild/bbs-3.14-bioc/R/library/BH/include/boost/mpl/aux_/na_assert.hpp:23,
                 from D:/biocbuild/bbs-3.14-bioc/R/library/BH/include/boost/mpl/arg.hpp:25,
                 from D:/biocbuild/bbs-3.14-bioc/R/library/BH/include/boost/mpl/placeholders.hpp:24,
                 from D:/biocbuild/bbs-3.14-bioc/R/library/BH/include/boost/iterator/iterator_categories.hpp:16,
                 from D:/biocbuild/bbs-3.14-bioc/R/library/BH/include/boost/iterator/iterator_facade.hpp:13,
                 from D:/biocbuild/bbs-3.14-bioc/R/library/BH/include/boost/range/iterator_range_core.hpp:27,
                 from D:/biocbuild/bbs-3.14-bioc/R/library/BH/include/boost/range/iterator_range.hpp:13,
                 from D:/biocbuild/bbs-3.14-bioc/R/library/BH/include/boost/range/as_literal.hpp:18,
                 from D:/biocbuild/bbs-3.14-bioc/R/library/BH/include/boost/algorithm/string/trim.hpp:19,
                 from D:/biocbuild/bbs-3.14-bioc/R/library/BH/include/boost/algorithm/string.hpp:19,
                 from D:/biocbuild/bbs-3.14-bioc/R/library/cytolib/include/cytolib/transformation.hpp:18,
                 from D:/biocbuild/bbs-3.14-bioc/R/library/cytolib/include/cytolib/compensation.hpp:15,
                 from D:/biocbuild/bbs-3.14-bioc/R/library/cytolib/include/cytolib/CytoFrame.hpp:16,
                 from D:/biocbuild/bbs-3.14-bioc/R/library/cytolib/include/cytolib/MemCytoFrame.hpp:12,
                 from D:/biocbuild/bbs-3.14-bioc/R/library/cytolib/include/cytolib/gate.hpp:12,
                 from D:/biocbuild/bbs-3.14-bioc/R/library/cytolib/include/cytolib/POPINDICES.hpp:14,
                 from D:/biocbuild/bbs-3.14-bioc/R/library/cytolib/include/cytolib/nodeProperties.hpp:13,
                 from D:/biocbuild/bbs-3.14-bioc/R/library/cytolib/include/cytolib/populationTree.hpp:13,
                 from D:/biocbuild/bbs-3.14-bioc/R/library/cytolib/include/cytolib/GatingHierarchy.hpp:17,
                 from D:/biocbuild/bbs-3.14-bioc/R/library/cytolib/include/cytolib/GatingSet.hpp:14,
                 from ../inst/include/flowWorkspace.h:5,
                 from RcppExports.cpp:4:
D:/biocbuild/bbs-3.14-bioc/R/library/BH/include/boost/mpl/assert.hpp:194:21: warning: unnecessary parentheses in declaration of 'assert_arg' [-Wparentheses]
 failed ************ (Pred::************
                     ^
D:/biocbuild/bbs-3.14-bioc/R/library/BH/include/boost/mpl/assert.hpp:199:21: warning: unnecessary parentheses in declaration of 'assert_not_arg' [-Wparentheses]
 failed ************ (boost::mpl::not_<Pred>::************
                     ^
In file included from D:/biocbuild/bbs-3.14-bioc/R/library/cytolib/include/cytolib/CytoFrame.hpp:16,
                 from D:/biocbuild/bbs-3.14-bioc/R/library/cytolib/include/cytolib/MemCytoFrame.hpp:12,
                 from D:/biocbuild/bbs-3.14-bioc/R/library/cytolib/include/cytolib/gate.hpp:12,
                 from D:/biocbuild/bbs-3.14-bioc/R/library/cytolib/include/cytolib/POPINDICES.hpp:14,
                 from D:/biocbuild/bbs-3.14-bioc/R/library/cytolib/include/cytolib/nodeProperties.hpp:13,
                 from D:/biocbuild/bbs-3.14-bioc/R/library/cytolib/include/cytolib/populationTree.hpp:13,
                 from D:/biocbuild/bbs-3.14-bioc/R/library/cytolib/include/cytolib/GatingHierarchy.hpp:17,
                 from D:/biocbuild/bbs-3.14-bioc/R/library/cytolib/include/cytolib/GatingSet.hpp:14,
                 from ../inst/include/flowWorkspace.h:5,
                 from RcppExports.cpp:4:
D:/biocbuild/bbs-3.14-bioc/R/library/cytolib/include/cytolib/compensation.hpp: In constructor 'cytolib::compensation::compensation(const string&)':
D:/biocbuild/bbs-3.14-bioc/R/library/cytolib/include/cytolib/compensation.hpp:58:20: warning: comparison of integer expressions of different signedness: 'std::vector<std::__cxx11::basic_string<char>, std::allocator<std::__cxx11::basic_string<char> > >::size_type' {aka 'long long unsigned int'} and 'int' [-Wsign-compare]
   if(valVec.size() != 1+n+n*n){
      ~~~~~~~~~~~~~~^~~~~~~~~~
D:/biocbuild/bbs-3.14-bioc/R/library/cytolib/include/cytolib/compensation.hpp:62:21: warning: comparison of integer expressions of different signedness: 'std::vector<std::__cxx11::basic_string<char>, std::allocator<std::__cxx11::basic_string<char> > >::size_type' {aka 'long long unsigned int'} and 'int' [-Wsign-compare]
    if(valVec.size() == 1+n+2*n*n){
       ~~~~~~~~~~~~~~^~~~~~~~~~~~
D:/biocbuild/bbs-3.14-bioc/R/library/cytolib/include/cytolib/compensation.hpp:68:33: warning: comparison of integer expressions of different signedness: 'int' and 'std::vector<std::__cxx11::basic_string<char>, std::allocator<std::__cxx11::basic_string<char> > >::size_type' {aka 'long long unsigned int'} [-Wsign-compare]
     for(int i = 1+n, j = 1+n; i < valVec_fixed.size(); i++, j+=2)
                               ~~^~~~~~~~~~~~~~~~~~~~~
In file included from D:/biocbuild/bbs-3.14-bioc/R/library/BH/include/boost/graph/adjacency_iterator.hpp:13,
                 from D:/biocbuild/bbs-3.14-bioc/R/library/BH/include/boost/graph/detail/adjacency_list.hpp:37,
                 from D:/biocbuild/bbs-3.14-bioc/R/library/BH/include/boost/graph/adjacency_list.hpp:255,
                 from D:/biocbuild/bbs-3.14-bioc/R/library/cytolib/include/cytolib/populationTree.hpp:14,
                 from D:/biocbuild/bbs-3.14-bioc/R/library/cytolib/include/cytolib/GatingHierarchy.hpp:17,
                 from D:/biocbuild/bbs-3.14-bioc/R/library/cytolib/include/cytolib/GatingSet.hpp:14,
                 from ../inst/include/flowWorkspace.h:5,
                 from RcppExports.cpp:4:
D:/biocbuild/bbs-3.14-bioc/R/library/BH/include/boost/detail/iterator.hpp: At global scope:
D:/biocbuild/bbs-3.14-bioc/R/library/BH/include/boost/detail/iterator.hpp:13:37: note: #pragma message: This header is deprecated. Use <iterator> instead.
 BOOST_HEADER_DEPRECATED("<iterator>")
                                     ^
In file included from D:/biocbuild/bbs-3.14-bioc/R/library/Rcpp/include/Rcpp.h:46,
                 from D:/biocbuild/bbs-3.14-bioc/R/library/RcppArmadillo/include/RcppArmadillo.h:34,
                 from ../inst/include/flowWorkspace/pairVectorRcppWrap.h:15,
                 from ../inst/include/flowWorkspace.h:6,
                 from RcppExports.cpp:4:
D:/biocbuild/bbs-3.14-bioc/R/library/Rcpp/include/Rcpp/XPtr.h: In instantiation of 'void Rcpp::standard_delete_finalizer(T*) [with T = cytolib::CytoFrameView]':
RcppExports.cpp:629:43:   required from here
D:/biocbuild/bbs-3.14-bioc/R/library/Rcpp/include/Rcpp/XPtr.h:30:5: warning: deleting object of polymorphic class type 'cytolib::CytoFrameView' which has non-virtual destructor might cause undefined behavior [-Wdelete-non-virtual-dtor]
     delete obj;
     ^~~~~~
"C:/rtools40/mingw64/bin/"g++  -std=gnu++11 -I"D:/biocbuild/bbs-3.14-bioc/R/include" -DNDEBUG -DROUT -I../inst/include -DBOOST_NO_AUTO_PTR -DRCPP_PARALLEL_USE_TBB=1 -fpermissive  -I'D:/biocbuild/bbs-3.14-bioc/R/library/Rcpp/include' -I'D:/biocbuild/bbs-3.14-bioc/R/library/BH/include' -I'D:/biocbuild/bbs-3.14-bioc/R/library/RProtoBufLib/include' -I'D:/biocbuild/bbs-3.14-bioc/R/library/cytolib/include' -I'D:/biocbuild/bbs-3.14-bioc/R/library/Rhdf5lib/include' -I'D:/biocbuild/bbs-3.14-bioc/R/library/RcppArmadillo/include' -I'D:/biocbuild/bbs-3.14-bioc/R/library/RcppParallel/include'   -I"C:/extsoft/include"     -O2 -Wall  -mfpmath=sse -msse2 -mstackrealign  -c cytoctxAPI.cpp -o cytoctxAPI.o
In file included from D:/biocbuild/bbs-3.14-bioc/R/library/BH/include/boost/mpl/aux_/na_assert.hpp:23,
                 from D:/biocbuild/bbs-3.14-bioc/R/library/BH/include/boost/mpl/arg.hpp:25,
                 from D:/biocbuild/bbs-3.14-bioc/R/library/BH/include/boost/mpl/placeholders.hpp:24,
                 from D:/biocbuild/bbs-3.14-bioc/R/library/BH/include/boost/iterator/iterator_categories.hpp:16,
                 from D:/biocbuild/bbs-3.14-bioc/R/library/BH/include/boost/iterator/iterator_facade.hpp:13,
                 from D:/biocbuild/bbs-3.14-bioc/R/library/BH/include/boost/range/iterator_range_core.hpp:27,
                 from D:/biocbuild/bbs-3.14-bioc/R/library/BH/include/boost/range/iterator_range.hpp:13,
                 from D:/biocbuild/bbs-3.14-bioc/R/library/BH/include/boost/range/as_literal.hpp:18,
                 from D:/biocbuild/bbs-3.14-bioc/R/library/BH/include/boost/algorithm/string/trim.hpp:19,
                 from D:/biocbuild/bbs-3.14-bioc/R/library/BH/include/boost/algorithm/string.hpp:19,
                 from D:/biocbuild/bbs-3.14-bioc/R/library/cytolib/include/cytolib/transformation.hpp:18,
                 from D:/biocbuild/bbs-3.14-bioc/R/library/cytolib/include/cytolib/compensation.hpp:15,
                 from D:/biocbuild/bbs-3.14-bioc/R/library/cytolib/include/cytolib/CytoFrame.hpp:16,
                 from D:/biocbuild/bbs-3.14-bioc/R/library/cytolib/include/cytolib/MemCytoFrame.hpp:12,
                 from D:/biocbuild/bbs-3.14-bioc/R/library/cytolib/include/cytolib/gate.hpp:12,
                 from D:/biocbuild/bbs-3.14-bioc/R/library/cytolib/include/cytolib/POPINDICES.hpp:14,
                 from D:/biocbuild/bbs-3.14-bioc/R/library/cytolib/include/cytolib/nodeProperties.hpp:13,
                 from D:/biocbuild/bbs-3.14-bioc/R/library/cytolib/include/cytolib/populationTree.hpp:13,
                 from D:/biocbuild/bbs-3.14-bioc/R/library/cytolib/include/cytolib/GatingHierarchy.hpp:17,
                 from D:/biocbuild/bbs-3.14-bioc/R/library/cytolib/include/cytolib/GatingSet.hpp:14,
                 from ../inst/include/flowWorkspace/pairVectorRcppWrap.h:12,
                 from cytoctxAPI.cpp:1:
D:/biocbuild/bbs-3.14-bioc/R/library/BH/include/boost/mpl/assert.hpp:194:21: warning: unnecessary parentheses in declaration of 'assert_arg' [-Wparentheses]
 failed ************ (Pred::************
                     ^
D:/biocbuild/bbs-3.14-bioc/R/library/BH/include/boost/mpl/assert.hpp:199:21: warning: unnecessary parentheses in declaration of 'assert_not_arg' [-Wparentheses]
 failed ************ (boost::mpl::not_<Pred>::************
                     ^
In file included from D:/biocbuild/bbs-3.14-bioc/R/library/cytolib/include/cytolib/CytoFrame.hpp:16,
                 from D:/biocbuild/bbs-3.14-bioc/R/library/cytolib/include/cytolib/MemCytoFrame.hpp:12,
                 from D:/biocbuild/bbs-3.14-bioc/R/library/cytolib/include/cytolib/gate.hpp:12,
                 from D:/biocbuild/bbs-3.14-bioc/R/library/cytolib/include/cytolib/POPINDICES.hpp:14,
                 from D:/biocbuild/bbs-3.14-bioc/R/library/cytolib/include/cytolib/nodeProperties.hpp:13,
                 from D:/biocbuild/bbs-3.14-bioc/R/library/cytolib/include/cytolib/populationTree.hpp:13,
                 from D:/biocbuild/bbs-3.14-bioc/R/library/cytolib/include/cytolib/GatingHierarchy.hpp:17,
                 from D:/biocbuild/bbs-3.14-bioc/R/library/cytolib/include/cytolib/GatingSet.hpp:14,
                 from ../inst/include/flowWorkspace/pairVectorRcppWrap.h:12,
                 from cytoctxAPI.cpp:1:
D:/biocbuild/bbs-3.14-bioc/R/library/cytolib/include/cytolib/compensation.hpp: In constructor 'cytolib::compensation::compensation(const string&)':
D:/biocbuild/bbs-3.14-bioc/R/library/cytolib/include/cytolib/compensation.hpp:58:20: warning: comparison of integer expressions of different signedness: 'std::vector<std::__cxx11::basic_string<char>, std::allocator<std::__cxx11::basic_string<char> > >::size_type' {aka 'long long unsigned int'} and 'int' [-Wsign-compare]
   if(valVec.size() != 1+n+n*n){
      ~~~~~~~~~~~~~~^~~~~~~~~~
D:/biocbuild/bbs-3.14-bioc/R/library/cytolib/include/cytolib/compensation.hpp:62:21: warning: comparison of integer expressions of different signedness: 'std::vector<std::__cxx11::basic_string<char>, std::allocator<std::__cxx11::basic_string<char> > >::size_type' {aka 'long long unsigned int'} and 'int' [-Wsign-compare]
    if(valVec.size() == 1+n+2*n*n){
       ~~~~~~~~~~~~~~^~~~~~~~~~~~
D:/biocbuild/bbs-3.14-bioc/R/library/cytolib/include/cytolib/compensation.hpp:68:33: warning: comparison of integer expressions of different signedness: 'int' and 'std::vector<std::__cxx11::basic_string<char>, std::allocator<std::__cxx11::basic_string<char> > >::size_type' {aka 'long long unsigned int'} [-Wsign-compare]
     for(int i = 1+n, j = 1+n; i < valVec_fixed.size(); i++, j+=2)
                               ~~^~~~~~~~~~~~~~~~~~~~~
In file included from D:/biocbuild/bbs-3.14-bioc/R/library/BH/include/boost/graph/adjacency_iterator.hpp:13,
                 from D:/biocbuild/bbs-3.14-bioc/R/library/BH/include/boost/graph/detail/adjacency_list.hpp:37,
                 from D:/biocbuild/bbs-3.14-bioc/R/library/BH/include/boost/graph/adjacency_list.hpp:255,
                 from D:/biocbuild/bbs-3.14-bioc/R/library/cytolib/include/cytolib/populationTree.hpp:14,
                 from D:/biocbuild/bbs-3.14-bioc/R/library/cytolib/include/cytolib/GatingHierarchy.hpp:17,
                 from D:/biocbuild/bbs-3.14-bioc/R/library/cytolib/include/cytolib/GatingSet.hpp:14,
                 from ../inst/include/flowWorkspace/pairVectorRcppWrap.h:12,
                 from cytoctxAPI.cpp:1:
D:/biocbuild/bbs-3.14-bioc/R/library/BH/include/boost/detail/iterator.hpp: At global scope:
D:/biocbuild/bbs-3.14-bioc/R/library/BH/include/boost/detail/iterator.hpp:13:37: note: #pragma message: This header is deprecated. Use <iterator> instead.
 BOOST_HEADER_DEPRECATED("<iterator>")
                                     ^
"C:/rtools40/mingw64/bin/"g++  -std=gnu++11 -I"D:/biocbuild/bbs-3.14-bioc/R/include" -DNDEBUG -DROUT -I../inst/include -DBOOST_NO_AUTO_PTR -DRCPP_PARALLEL_USE_TBB=1 -fpermissive  -I'D:/biocbuild/bbs-3.14-bioc/R/library/Rcpp/include' -I'D:/biocbuild/bbs-3.14-bioc/R/library/BH/include' -I'D:/biocbuild/bbs-3.14-bioc/R/library/RProtoBufLib/include' -I'D:/biocbuild/bbs-3.14-bioc/R/library/cytolib/include' -I'D:/biocbuild/bbs-3.14-bioc/R/library/Rhdf5lib/include' -I'D:/biocbuild/bbs-3.14-bioc/R/library/RcppArmadillo/include' -I'D:/biocbuild/bbs-3.14-bioc/R/library/RcppParallel/include'   -I"C:/extsoft/include"     -O2 -Wall  -mfpmath=sse -msse2 -mstackrealign  -c cytoframeAPI.cpp -o cytoframeAPI.o
In file included from D:/biocbuild/bbs-3.14-bioc/R/library/BH/include/boost/mpl/aux_/na_assert.hpp:23,
                 from D:/biocbuild/bbs-3.14-bioc/R/library/BH/include/boost/mpl/arg.hpp:25,
                 from D:/biocbuild/bbs-3.14-bioc/R/library/BH/include/boost/mpl/placeholders.hpp:24,
                 from D:/biocbuild/bbs-3.14-bioc/R/library/BH/include/boost/iterator/iterator_categories.hpp:16,
                 from D:/biocbuild/bbs-3.14-bioc/R/library/BH/include/boost/iterator/iterator_facade.hpp:13,
                 from D:/biocbuild/bbs-3.14-bioc/R/library/BH/include/boost/range/iterator_range_core.hpp:27,
                 from D:/biocbuild/bbs-3.14-bioc/R/library/BH/include/boost/range/iterator_range.hpp:13,
                 from D:/biocbuild/bbs-3.14-bioc/R/library/BH/include/boost/range/as_literal.hpp:18,
                 from D:/biocbuild/bbs-3.14-bioc/R/library/BH/include/boost/algorithm/string/trim.hpp:19,
                 from D:/biocbuild/bbs-3.14-bioc/R/library/BH/include/boost/algorithm/string.hpp:19,
                 from D:/biocbuild/bbs-3.14-bioc/R/library/cytolib/include/cytolib/transformation.hpp:18,
                 from D:/biocbuild/bbs-3.14-bioc/R/library/cytolib/include/cytolib/compensation.hpp:15,
                 from D:/biocbuild/bbs-3.14-bioc/R/library/cytolib/include/cytolib/CytoFrame.hpp:16,
                 from D:/biocbuild/bbs-3.14-bioc/R/library/cytolib/include/cytolib/MemCytoFrame.hpp:12,
                 from D:/biocbuild/bbs-3.14-bioc/R/library/cytolib/include/cytolib/H5CytoFrame.hpp:12,
                 from cytoframeAPI.cpp:1:
D:/biocbuild/bbs-3.14-bioc/R/library/BH/include/boost/mpl/assert.hpp:194:21: warning: unnecessary parentheses in declaration of 'assert_arg' [-Wparentheses]
 failed ************ (Pred::************
                     ^
D:/biocbuild/bbs-3.14-bioc/R/library/BH/include/boost/mpl/assert.hpp:199:21: warning: unnecessary parentheses in declaration of 'assert_not_arg' [-Wparentheses]
 failed ************ (boost::mpl::not_<Pred>::************
                     ^
In file included from D:/biocbuild/bbs-3.14-bioc/R/library/cytolib/include/cytolib/CytoFrame.hpp:16,
                 from D:/biocbuild/bbs-3.14-bioc/R/library/cytolib/include/cytolib/MemCytoFrame.hpp:12,
                 from D:/biocbuild/bbs-3.14-bioc/R/library/cytolib/include/cytolib/H5CytoFrame.hpp:12,
                 from cytoframeAPI.cpp:1:
D:/biocbuild/bbs-3.14-bioc/R/library/cytolib/include/cytolib/compensation.hpp: In constructor 'cytolib::compensation::compensation(const string&)':
D:/biocbuild/bbs-3.14-bioc/R/library/cytolib/include/cytolib/compensation.hpp:58:20: warning: comparison of integer expressions of different signedness: 'std::vector<std::__cxx11::basic_string<char>, std::allocator<std::__cxx11::basic_string<char> > >::size_type' {aka 'long long unsigned int'} and 'int' [-Wsign-compare]
   if(valVec.size() != 1+n+n*n){
      ~~~~~~~~~~~~~~^~~~~~~~~~
D:/biocbuild/bbs-3.14-bioc/R/library/cytolib/include/cytolib/compensation.hpp:62:21: warning: comparison of integer expressions of different signedness: 'std::vector<std::__cxx11::basic_string<char>, std::allocator<std::__cxx11::basic_string<char> > >::size_type' {aka 'long long unsigned int'} and 'int' [-Wsign-compare]
    if(valVec.size() == 1+n+2*n*n){
       ~~~~~~~~~~~~~~^~~~~~~~~~~~
D:/biocbuild/bbs-3.14-bioc/R/library/cytolib/include/cytolib/compensation.hpp:68:33: warning: comparison of integer expressions of different signedness: 'int' and 'std::vector<std::__cxx11::basic_string<char>, std::allocator<std::__cxx11::basic_string<char> > >::size_type' {aka 'long long unsigned int'} [-Wsign-compare]
     for(int i = 1+n, j = 1+n; i < valVec_fixed.size(); i++, j+=2)
                               ~~^~~~~~~~~~~~~~~~~~~~~
In file included from D:/biocbuild/bbs-3.14-bioc/R/library/BH/include/boost/graph/adjacency_iterator.hpp:13,
                 from D:/biocbuild/bbs-3.14-bioc/R/library/BH/include/boost/graph/detail/adjacency_list.hpp:37,
                 from D:/biocbuild/bbs-3.14-bioc/R/library/BH/include/boost/graph/adjacency_list.hpp:255,
                 from D:/biocbuild/bbs-3.14-bioc/R/library/cytolib/include/cytolib/populationTree.hpp:14,
                 from D:/biocbuild/bbs-3.14-bioc/R/library/cytolib/include/cytolib/GatingHierarchy.hpp:17,
                 from D:/biocbuild/bbs-3.14-bioc/R/library/cytolib/include/cytolib/GatingSet.hpp:14,
                 from ../inst/include/flowWorkspace/pairVectorRcppWrap.h:12,
                 from cytoframeAPI.cpp:3:
D:/biocbuild/bbs-3.14-bioc/R/library/BH/include/boost/detail/iterator.hpp: At global scope:
D:/biocbuild/bbs-3.14-bioc/R/library/BH/include/boost/detail/iterator.hpp:13:37: note: #pragma message: This header is deprecated. Use <iterator> instead.
 BOOST_HEADER_DEPRECATED("<iterator>")
                                     ^
In file included from D:/biocbuild/bbs-3.14-bioc/R/library/Rcpp/include/Rcpp.h:46,
                 from D:/biocbuild/bbs-3.14-bioc/R/library/RcppArmadillo/include/RcppArmadillo.h:34,
                 from ../inst/include/flowWorkspace/pairVectorRcppWrap.h:15,
                 from cytoframeAPI.cpp:3:
D:/biocbuild/bbs-3.14-bioc/R/library/Rcpp/include/Rcpp/XPtr.h: In instantiation of 'void Rcpp::standard_delete_finalizer(T*) [with T = cytolib::CytoFrameView]':
cytoframeAPI.cpp:9:43:   required from here
D:/biocbuild/bbs-3.14-bioc/R/library/Rcpp/include/Rcpp/XPtr.h:30:5: warning: deleting object of polymorphic class type 'cytolib::CytoFrameView' which has non-virtual destructor might cause undefined behavior [-Wdelete-non-virtual-dtor]
     delete obj;
     ^~~~~~
"C:/rtools40/mingw64/bin/"g++  -std=gnu++11 -I"D:/biocbuild/bbs-3.14-bioc/R/include" -DNDEBUG -DROUT -I../inst/include -DBOOST_NO_AUTO_PTR -DRCPP_PARALLEL_USE_TBB=1 -fpermissive  -I'D:/biocbuild/bbs-3.14-bioc/R/library/Rcpp/include' -I'D:/biocbuild/bbs-3.14-bioc/R/library/BH/include' -I'D:/biocbuild/bbs-3.14-bioc/R/library/RProtoBufLib/include' -I'D:/biocbuild/bbs-3.14-bioc/R/library/cytolib/include' -I'D:/biocbuild/bbs-3.14-bioc/R/library/Rhdf5lib/include' -I'D:/biocbuild/bbs-3.14-bioc/R/library/RcppArmadillo/include' -I'D:/biocbuild/bbs-3.14-bioc/R/library/RcppParallel/include'   -I"C:/extsoft/include"     -O2 -Wall  -mfpmath=sse -msse2 -mstackrealign  -c cytosetAPI.cpp -o cytosetAPI.o
In file included from D:/biocbuild/bbs-3.14-bioc/R/library/BH/include/boost/mpl/aux_/na_assert.hpp:23,
                 from D:/biocbuild/bbs-3.14-bioc/R/library/BH/include/boost/mpl/arg.hpp:25,
                 from D:/biocbuild/bbs-3.14-bioc/R/library/BH/include/boost/mpl/placeholders.hpp:24,
                 from D:/biocbuild/bbs-3.14-bioc/R/library/BH/include/boost/iterator/iterator_categories.hpp:16,
                 from D:/biocbuild/bbs-3.14-bioc/R/library/BH/include/boost/iterator/iterator_facade.hpp:13,
                 from D:/biocbuild/bbs-3.14-bioc/R/library/BH/include/boost/range/iterator_range_core.hpp:27,
                 from D:/biocbuild/bbs-3.14-bioc/R/library/BH/include/boost/range/iterator_range.hpp:13,
                 from D:/biocbuild/bbs-3.14-bioc/R/library/BH/include/boost/range/as_literal.hpp:18,
                 from D:/biocbuild/bbs-3.14-bioc/R/library/BH/include/boost/algorithm/string/trim.hpp:19,
                 from D:/biocbuild/bbs-3.14-bioc/R/library/BH/include/boost/algorithm/string.hpp:19,
                 from D:/biocbuild/bbs-3.14-bioc/R/library/cytolib/include/cytolib/transformation.hpp:18,
                 from D:/biocbuild/bbs-3.14-bioc/R/library/cytolib/include/cytolib/compensation.hpp:15,
                 from D:/biocbuild/bbs-3.14-bioc/R/library/cytolib/include/cytolib/CytoFrame.hpp:16,
                 from D:/biocbuild/bbs-3.14-bioc/R/library/cytolib/include/cytolib/MemCytoFrame.hpp:12,
                 from D:/biocbuild/bbs-3.14-bioc/R/library/cytolib/include/cytolib/H5CytoFrame.hpp:12,
                 from cytosetAPI.cpp:1:
D:/biocbuild/bbs-3.14-bioc/R/library/BH/include/boost/mpl/assert.hpp:194:21: warning: unnecessary parentheses in declaration of 'assert_arg' [-Wparentheses]
 failed ************ (Pred::************
                     ^
D:/biocbuild/bbs-3.14-bioc/R/library/BH/include/boost/mpl/assert.hpp:199:21: warning: unnecessary parentheses in declaration of 'assert_not_arg' [-Wparentheses]
 failed ************ (boost::mpl::not_<Pred>::************
                     ^
In file included from D:/biocbuild/bbs-3.14-bioc/R/library/cytolib/include/cytolib/CytoFrame.hpp:16,
                 from D:/biocbuild/bbs-3.14-bioc/R/library/cytolib/include/cytolib/MemCytoFrame.hpp:12,
                 from D:/biocbuild/bbs-3.14-bioc/R/library/cytolib/include/cytolib/H5CytoFrame.hpp:12,
                 from cytosetAPI.cpp:1:
D:/biocbuild/bbs-3.14-bioc/R/library/cytolib/include/cytolib/compensation.hpp: In constructor 'cytolib::compensation::compensation(const string&)':
D:/biocbuild/bbs-3.14-bioc/R/library/cytolib/include/cytolib/compensation.hpp:58:20: warning: comparison of integer expressions of different signedness: 'std::vector<std::__cxx11::basic_string<char>, std::allocator<std::__cxx11::basic_string<char> > >::size_type' {aka 'long long unsigned int'} and 'int' [-Wsign-compare]
   if(valVec.size() != 1+n+n*n){
      ~~~~~~~~~~~~~~^~~~~~~~~~
D:/biocbuild/bbs-3.14-bioc/R/library/cytolib/include/cytolib/compensation.hpp:62:21: warning: comparison of integer expressions of different signedness: 'std::vector<std::__cxx11::basic_string<char>, std::allocator<std::__cxx11::basic_string<char> > >::size_type' {aka 'long long unsigned int'} and 'int' [-Wsign-compare]
    if(valVec.size() == 1+n+2*n*n){
       ~~~~~~~~~~~~~~^~~~~~~~~~~~
D:/biocbuild/bbs-3.14-bioc/R/library/cytolib/include/cytolib/compensation.hpp:68:33: warning: comparison of integer expressions of different signedness: 'int' and 'std::vector<std::__cxx11::basic_string<char>, std::allocator<std::__cxx11::basic_string<char> > >::size_type' {aka 'long long unsigned int'} [-Wsign-compare]
     for(int i = 1+n, j = 1+n; i < valVec_fixed.size(); i++, j+=2)
                               ~~^~~~~~~~~~~~~~~~~~~~~
In file included from D:/biocbuild/bbs-3.14-bioc/R/library/BH/include/boost/graph/adjacency_iterator.hpp:13,
                 from D:/biocbuild/bbs-3.14-bioc/R/library/BH/include/boost/graph/detail/adjacency_list.hpp:37,
                 from D:/biocbuild/bbs-3.14-bioc/R/library/BH/include/boost/graph/adjacency_list.hpp:255,
                 from D:/biocbuild/bbs-3.14-bioc/R/library/cytolib/include/cytolib/populationTree.hpp:14,
                 from D:/biocbuild/bbs-3.14-bioc/R/library/cytolib/include/cytolib/GatingHierarchy.hpp:17,
                 from D:/biocbuild/bbs-3.14-bioc/R/library/cytolib/include/cytolib/GatingSet.hpp:14,
                 from ../inst/include/flowWorkspace/pairVectorRcppWrap.h:12,
                 from cytosetAPI.cpp:2:
D:/biocbuild/bbs-3.14-bioc/R/library/BH/include/boost/detail/iterator.hpp: At global scope:
D:/biocbuild/bbs-3.14-bioc/R/library/BH/include/boost/detail/iterator.hpp:13:37: note: #pragma message: This header is deprecated. Use <iterator> instead.
 BOOST_HEADER_DEPRECATED("<iterator>")
                                     ^
In file included from D:/biocbuild/bbs-3.14-bioc/R/library/Rcpp/include/Rcpp.h:46,
                 from D:/biocbuild/bbs-3.14-bioc/R/library/RcppArmadillo/include/RcppArmadillo.h:34,
                 from ../inst/include/flowWorkspace/pairVectorRcppWrap.h:15,
                 from cytosetAPI.cpp:2:
D:/biocbuild/bbs-3.14-bioc/R/library/Rcpp/include/Rcpp/XPtr.h: In instantiation of 'void Rcpp::standard_delete_finalizer(T*) [with T = cytolib::CytoFrameView]':
cytosetAPI.cpp:38:81:   required from here
D:/biocbuild/bbs-3.14-bioc/R/library/Rcpp/include/Rcpp/XPtr.h:30:5: warning: deleting object of polymorphic class type 'cytolib::CytoFrameView' which has non-virtual destructor might cause undefined behavior [-Wdelete-non-virtual-dtor]
     delete obj;
     ^~~~~~
"C:/rtools40/mingw64/bin/"g++  -std=gnu++11 -I"D:/biocbuild/bbs-3.14-bioc/R/include" -DNDEBUG -DROUT -I../inst/include -DBOOST_NO_AUTO_PTR -DRCPP_PARALLEL_USE_TBB=1 -fpermissive  -I'D:/biocbuild/bbs-3.14-bioc/R/library/Rcpp/include' -I'D:/biocbuild/bbs-3.14-bioc/R/library/BH/include' -I'D:/biocbuild/bbs-3.14-bioc/R/library/RProtoBufLib/include' -I'D:/biocbuild/bbs-3.14-bioc/R/library/cytolib/include' -I'D:/biocbuild/bbs-3.14-bioc/R/library/Rhdf5lib/include' -I'D:/biocbuild/bbs-3.14-bioc/R/library/RcppArmadillo/include' -I'D:/biocbuild/bbs-3.14-bioc/R/library/RcppParallel/include'   -I"C:/extsoft/include"     -O2 -Wall  -mfpmath=sse -msse2 -mstackrealign  -c getDescendants.cpp -o getDescendants.o
In file included from D:/biocbuild/bbs-3.14-bioc/R/library/BH/include/boost/mpl/aux_/na_assert.hpp:23,
                 from D:/biocbuild/bbs-3.14-bioc/R/library/BH/include/boost/mpl/arg.hpp:25,
                 from D:/biocbuild/bbs-3.14-bioc/R/library/BH/include/boost/mpl/placeholders.hpp:24,
                 from D:/biocbuild/bbs-3.14-bioc/R/library/BH/include/boost/iterator/iterator_categories.hpp:16,
                 from D:/biocbuild/bbs-3.14-bioc/R/library/BH/include/boost/iterator/iterator_facade.hpp:13,
                 from D:/biocbuild/bbs-3.14-bioc/R/library/BH/include/boost/range/iterator_range_core.hpp:27,
                 from D:/biocbuild/bbs-3.14-bioc/R/library/BH/include/boost/range/iterator_range.hpp:13,
                 from D:/biocbuild/bbs-3.14-bioc/R/library/BH/include/boost/range/as_literal.hpp:18,
                 from D:/biocbuild/bbs-3.14-bioc/R/library/BH/include/boost/algorithm/string/trim.hpp:19,
                 from D:/biocbuild/bbs-3.14-bioc/R/library/BH/include/boost/algorithm/string.hpp:19,
                 from D:/biocbuild/bbs-3.14-bioc/R/library/cytolib/include/cytolib/transformation.hpp:18,
                 from D:/biocbuild/bbs-3.14-bioc/R/library/cytolib/include/cytolib/compensation.hpp:15,
                 from D:/biocbuild/bbs-3.14-bioc/R/library/cytolib/include/cytolib/CytoFrame.hpp:16,
                 from D:/biocbuild/bbs-3.14-bioc/R/library/cytolib/include/cytolib/MemCytoFrame.hpp:12,
                 from D:/biocbuild/bbs-3.14-bioc/R/library/cytolib/include/cytolib/gate.hpp:12,
                 from D:/biocbuild/bbs-3.14-bioc/R/library/cytolib/include/cytolib/POPINDICES.hpp:14,
                 from D:/biocbuild/bbs-3.14-bioc/R/library/cytolib/include/cytolib/nodeProperties.hpp:13,
                 from D:/biocbuild/bbs-3.14-bioc/R/library/cytolib/include/cytolib/populationTree.hpp:13,
                 from D:/biocbuild/bbs-3.14-bioc/R/library/cytolib/include/cytolib/GatingHierarchy.hpp:17,
                 from D:/biocbuild/bbs-3.14-bioc/R/library/cytolib/include/cytolib/GatingSet.hpp:14,
                 from getDescendants.cpp:1:
D:/biocbuild/bbs-3.14-bioc/R/library/BH/include/boost/mpl/assert.hpp:194:21: warning: unnecessary parentheses in declaration of 'assert_arg' [-Wparentheses]
 failed ************ (Pred::************
                     ^
D:/biocbuild/bbs-3.14-bioc/R/library/BH/include/boost/mpl/assert.hpp:199:21: warning: unnecessary parentheses in declaration of 'assert_not_arg' [-Wparentheses]
 failed ************ (boost::mpl::not_<Pred>::************
                     ^
In file included from D:/biocbuild/bbs-3.14-bioc/R/library/cytolib/include/cytolib/CytoFrame.hpp:16,
                 from D:/biocbuild/bbs-3.14-bioc/R/library/cytolib/include/cytolib/MemCytoFrame.hpp:12,
                 from D:/biocbuild/bbs-3.14-bioc/R/library/cytolib/include/cytolib/gate.hpp:12,
                 from D:/biocbuild/bbs-3.14-bioc/R/library/cytolib/include/cytolib/POPINDICES.hpp:14,
                 from D:/biocbuild/bbs-3.14-bioc/R/library/cytolib/include/cytolib/nodeProperties.hpp:13,
                 from D:/biocbuild/bbs-3.14-bioc/R/library/cytolib/include/cytolib/populationTree.hpp:13,
                 from D:/biocbuild/bbs-3.14-bioc/R/library/cytolib/include/cytolib/GatingHierarchy.hpp:17,
                 from D:/biocbuild/bbs-3.14-bioc/R/library/cytolib/include/cytolib/GatingSet.hpp:14,
                 from getDescendants.cpp:1:
D:/biocbuild/bbs-3.14-bioc/R/library/cytolib/include/cytolib/compensation.hpp: In constructor 'cytolib::compensation::compensation(const string&)':
D:/biocbuild/bbs-3.14-bioc/R/library/cytolib/include/cytolib/compensation.hpp:58:20: warning: comparison of integer expressions of different signedness: 'std::vector<std::__cxx11::basic_string<char>, std::allocator<std::__cxx11::basic_string<char> > >::size_type' {aka 'long long unsigned int'} and 'int' [-Wsign-compare]
   if(valVec.size() != 1+n+n*n){
      ~~~~~~~~~~~~~~^~~~~~~~~~
D:/biocbuild/bbs-3.14-bioc/R/library/cytolib/include/cytolib/compensation.hpp:62:21: warning: comparison of integer expressions of different signedness: 'std::vector<std::__cxx11::basic_string<char>, std::allocator<std::__cxx11::basic_string<char> > >::size_type' {aka 'long long unsigned int'} and 'int' [-Wsign-compare]
    if(valVec.size() == 1+n+2*n*n){
       ~~~~~~~~~~~~~~^~~~~~~~~~~~
D:/biocbuild/bbs-3.14-bioc/R/library/cytolib/include/cytolib/compensation.hpp:68:33: warning: comparison of integer expressions of different signedness: 'int' and 'std::vector<std::__cxx11::basic_string<char>, std::allocator<std::__cxx11::basic_string<char> > >::size_type' {aka 'long long unsigned int'} [-Wsign-compare]
     for(int i = 1+n, j = 1+n; i < valVec_fixed.size(); i++, j+=2)
                               ~~^~~~~~~~~~~~~~~~~~~~~
In file included from D:/biocbuild/bbs-3.14-bioc/R/library/BH/include/boost/graph/adjacency_iterator.hpp:13,
                 from D:/biocbuild/bbs-3.14-bioc/R/library/BH/include/boost/graph/detail/adjacency_list.hpp:37,
                 from D:/biocbuild/bbs-3.14-bioc/R/library/BH/include/boost/graph/adjacency_list.hpp:255,
                 from D:/biocbuild/bbs-3.14-bioc/R/library/cytolib/include/cytolib/populationTree.hpp:14,
                 from D:/biocbuild/bbs-3.14-bioc/R/library/cytolib/include/cytolib/GatingHierarchy.hpp:17,
                 from D:/biocbuild/bbs-3.14-bioc/R/library/cytolib/include/cytolib/GatingSet.hpp:14,
                 from getDescendants.cpp:1:
D:/biocbuild/bbs-3.14-bioc/R/library/BH/include/boost/detail/iterator.hpp: At global scope:
D:/biocbuild/bbs-3.14-bioc/R/library/BH/include/boost/detail/iterator.hpp:13:37: note: #pragma message: This header is deprecated. Use <iterator> instead.
 BOOST_HEADER_DEPRECATED("<iterator>")
                                     ^
"C:/rtools40/mingw64/bin/"g++  -std=gnu++11 -I"D:/biocbuild/bbs-3.14-bioc/R/include" -DNDEBUG -DROUT -I../inst/include -DBOOST_NO_AUTO_PTR -DRCPP_PARALLEL_USE_TBB=1 -fpermissive  -I'D:/biocbuild/bbs-3.14-bioc/R/library/Rcpp/include' -I'D:/biocbuild/bbs-3.14-bioc/R/library/BH/include' -I'D:/biocbuild/bbs-3.14-bioc/R/library/RProtoBufLib/include' -I'D:/biocbuild/bbs-3.14-bioc/R/library/cytolib/include' -I'D:/biocbuild/bbs-3.14-bioc/R/library/Rhdf5lib/include' -I'D:/biocbuild/bbs-3.14-bioc/R/library/RcppArmadillo/include' -I'D:/biocbuild/bbs-3.14-bioc/R/library/RcppParallel/include'   -I"C:/extsoft/include"     -O2 -Wall  -mfpmath=sse -msse2 -mstackrealign  -c getPopStats.cpp -o getPopStats.o
In file included from D:/biocbuild/bbs-3.14-bioc/R/library/BH/include/boost/mpl/aux_/na_assert.hpp:23,
                 from D:/biocbuild/bbs-3.14-bioc/R/library/BH/include/boost/mpl/arg.hpp:25,
                 from D:/biocbuild/bbs-3.14-bioc/R/library/BH/include/boost/mpl/placeholders.hpp:24,
                 from D:/biocbuild/bbs-3.14-bioc/R/library/BH/include/boost/iterator/iterator_categories.hpp:16,
                 from D:/biocbuild/bbs-3.14-bioc/R/library/BH/include/boost/iterator/iterator_facade.hpp:13,
                 from D:/biocbuild/bbs-3.14-bioc/R/library/BH/include/boost/range/iterator_range_core.hpp:27,
                 from D:/biocbuild/bbs-3.14-bioc/R/library/BH/include/boost/range/iterator_range.hpp:13,
                 from D:/biocbuild/bbs-3.14-bioc/R/library/BH/include/boost/range/as_literal.hpp:18,
                 from D:/biocbuild/bbs-3.14-bioc/R/library/BH/include/boost/algorithm/string/trim.hpp:19,
                 from D:/biocbuild/bbs-3.14-bioc/R/library/BH/include/boost/algorithm/string.hpp:19,
                 from D:/biocbuild/bbs-3.14-bioc/R/library/cytolib/include/cytolib/transformation.hpp:18,
                 from D:/biocbuild/bbs-3.14-bioc/R/library/cytolib/include/cytolib/compensation.hpp:15,
                 from D:/biocbuild/bbs-3.14-bioc/R/library/cytolib/include/cytolib/CytoFrame.hpp:16,
                 from D:/biocbuild/bbs-3.14-bioc/R/library/cytolib/include/cytolib/MemCytoFrame.hpp:12,
                 from D:/biocbuild/bbs-3.14-bioc/R/library/cytolib/include/cytolib/gate.hpp:12,
                 from D:/biocbuild/bbs-3.14-bioc/R/library/cytolib/include/cytolib/POPINDICES.hpp:14,
                 from D:/biocbuild/bbs-3.14-bioc/R/library/cytolib/include/cytolib/nodeProperties.hpp:13,
                 from D:/biocbuild/bbs-3.14-bioc/R/library/cytolib/include/cytolib/populationTree.hpp:13,
                 from D:/biocbuild/bbs-3.14-bioc/R/library/cytolib/include/cytolib/GatingHierarchy.hpp:17,
                 from D:/biocbuild/bbs-3.14-bioc/R/library/cytolib/include/cytolib/GatingSet.hpp:14,
                 from getPopStats.cpp:1:
D:/biocbuild/bbs-3.14-bioc/R/library/BH/include/boost/mpl/assert.hpp:194:21: warning: unnecessary parentheses in declaration of 'assert_arg' [-Wparentheses]
 failed ************ (Pred::************
                     ^
D:/biocbuild/bbs-3.14-bioc/R/library/BH/include/boost/mpl/assert.hpp:199:21: warning: unnecessary parentheses in declaration of 'assert_not_arg' [-Wparentheses]
 failed ************ (boost::mpl::not_<Pred>::************
                     ^
In file included from D:/biocbuild/bbs-3.14-bioc/R/library/cytolib/include/cytolib/CytoFrame.hpp:16,
                 from D:/biocbuild/bbs-3.14-bioc/R/library/cytolib/include/cytolib/MemCytoFrame.hpp:12,
                 from D:/biocbuild/bbs-3.14-bioc/R/library/cytolib/include/cytolib/gate.hpp:12,
                 from D:/biocbuild/bbs-3.14-bioc/R/library/cytolib/include/cytolib/POPINDICES.hpp:14,
                 from D:/biocbuild/bbs-3.14-bioc/R/library/cytolib/include/cytolib/nodeProperties.hpp:13,
                 from D:/biocbuild/bbs-3.14-bioc/R/library/cytolib/include/cytolib/populationTree.hpp:13,
                 from D:/biocbuild/bbs-3.14-bioc/R/library/cytolib/include/cytolib/GatingHierarchy.hpp:17,
                 from D:/biocbuild/bbs-3.14-bioc/R/library/cytolib/include/cytolib/GatingSet.hpp:14,
                 from getPopStats.cpp:1:
D:/biocbuild/bbs-3.14-bioc/R/library/cytolib/include/cytolib/compensation.hpp: In constructor 'cytolib::compensation::compensation(const string&)':
D:/biocbuild/bbs-3.14-bioc/R/library/cytolib/include/cytolib/compensation.hpp:58:20: warning: comparison of integer expressions of different signedness: 'std::vector<std::__cxx11::basic_string<char>, std::allocator<std::__cxx11::basic_string<char> > >::size_type' {aka 'long long unsigned int'} and 'int' [-Wsign-compare]
   if(valVec.size() != 1+n+n*n){
      ~~~~~~~~~~~~~~^~~~~~~~~~
D:/biocbuild/bbs-3.14-bioc/R/library/cytolib/include/cytolib/compensation.hpp:62:21: warning: comparison of integer expressions of different signedness: 'std::vector<std::__cxx11::basic_string<char>, std::allocator<std::__cxx11::basic_string<char> > >::size_type' {aka 'long long unsigned int'} and 'int' [-Wsign-compare]
    if(valVec.size() == 1+n+2*n*n){
       ~~~~~~~~~~~~~~^~~~~~~~~~~~
D:/biocbuild/bbs-3.14-bioc/R/library/cytolib/include/cytolib/compensation.hpp:68:33: warning: comparison of integer expressions of different signedness: 'int' and 'std::vector<std::__cxx11::basic_string<char>, std::allocator<std::__cxx11::basic_string<char> > >::size_type' {aka 'long long unsigned int'} [-Wsign-compare]
     for(int i = 1+n, j = 1+n; i < valVec_fixed.size(); i++, j+=2)
                               ~~^~~~~~~~~~~~~~~~~~~~~
In file included from D:/biocbuild/bbs-3.14-bioc/R/library/BH/include/boost/graph/adjacency_iterator.hpp:13,
                 from D:/biocbuild/bbs-3.14-bioc/R/library/BH/include/boost/graph/detail/adjacency_list.hpp:37,
                 from D:/biocbuild/bbs-3.14-bioc/R/library/BH/include/boost/graph/adjacency_list.hpp:255,
                 from D:/biocbuild/bbs-3.14-bioc/R/library/cytolib/include/cytolib/populationTree.hpp:14,
                 from D:/biocbuild/bbs-3.14-bioc/R/library/cytolib/include/cytolib/GatingHierarchy.hpp:17,
                 from D:/biocbuild/bbs-3.14-bioc/R/library/cytolib/include/cytolib/GatingSet.hpp:14,
                 from getPopStats.cpp:1:
D:/biocbuild/bbs-3.14-bioc/R/library/BH/include/boost/detail/iterator.hpp: At global scope:
D:/biocbuild/bbs-3.14-bioc/R/library/BH/include/boost/detail/iterator.hpp:13:37: note: #pragma message: This header is deprecated. Use <iterator> instead.
 BOOST_HEADER_DEPRECATED("<iterator>")
                                     ^
"C:/rtools40/mingw64/bin/"g++  -std=gnu++11 -I"D:/biocbuild/bbs-3.14-bioc/R/include" -DNDEBUG -DROUT -I../inst/include -DBOOST_NO_AUTO_PTR -DRCPP_PARALLEL_USE_TBB=1 -fpermissive  -I'D:/biocbuild/bbs-3.14-bioc/R/library/Rcpp/include' -I'D:/biocbuild/bbs-3.14-bioc/R/library/BH/include' -I'D:/biocbuild/bbs-3.14-bioc/R/library/RProtoBufLib/include' -I'D:/biocbuild/bbs-3.14-bioc/R/library/cytolib/include' -I'D:/biocbuild/bbs-3.14-bioc/R/library/Rhdf5lib/include' -I'D:/biocbuild/bbs-3.14-bioc/R/library/RcppArmadillo/include' -I'D:/biocbuild/bbs-3.14-bioc/R/library/RcppParallel/include'   -I"C:/extsoft/include"     -O2 -Wall  -mfpmath=sse -msse2 -mstackrealign  -c getSingleCellExpression.cpp -o getSingleCellExpression.o
In file included from D:/biocbuild/bbs-3.14-bioc/R/library/BH/include/boost/mpl/aux_/na_assert.hpp:23,
                 from D:/biocbuild/bbs-3.14-bioc/R/library/BH/include/boost/mpl/arg.hpp:25,
                 from D:/biocbuild/bbs-3.14-bioc/R/library/BH/include/boost/mpl/placeholders.hpp:24,
                 from D:/biocbuild/bbs-3.14-bioc/R/library/BH/include/boost/iterator/iterator_categories.hpp:16,
                 from D:/biocbuild/bbs-3.14-bioc/R/library/BH/include/boost/iterator/iterator_facade.hpp:13,
                 from D:/biocbuild/bbs-3.14-bioc/R/library/BH/include/boost/range/iterator_range_core.hpp:27,
                 from D:/biocbuild/bbs-3.14-bioc/R/library/BH/include/boost/range/iterator_range.hpp:13,
                 from D:/biocbuild/bbs-3.14-bioc/R/library/BH/include/boost/range/as_literal.hpp:18,
                 from D:/biocbuild/bbs-3.14-bioc/R/library/BH/include/boost/algorithm/string/trim.hpp:19,
                 from D:/biocbuild/bbs-3.14-bioc/R/library/BH/include/boost/algorithm/string.hpp:19,
                 from D:/biocbuild/bbs-3.14-bioc/R/library/cytolib/include/cytolib/transformation.hpp:18,
                 from D:/biocbuild/bbs-3.14-bioc/R/library/cytolib/include/cytolib/compensation.hpp:15,
                 from D:/biocbuild/bbs-3.14-bioc/R/library/cytolib/include/cytolib/CytoFrame.hpp:16,
                 from D:/biocbuild/bbs-3.14-bioc/R/library/cytolib/include/cytolib/MemCytoFrame.hpp:12,
                 from D:/biocbuild/bbs-3.14-bioc/R/library/cytolib/include/cytolib/gate.hpp:12,
                 from D:/biocbuild/bbs-3.14-bioc/R/library/cytolib/include/cytolib/POPINDICES.hpp:14,
                 from D:/biocbuild/bbs-3.14-bioc/R/library/cytolib/include/cytolib/nodeProperties.hpp:13,
                 from D:/biocbuild/bbs-3.14-bioc/R/library/cytolib/include/cytolib/populationTree.hpp:13,
                 from D:/biocbuild/bbs-3.14-bioc/R/library/cytolib/include/cytolib/GatingHierarchy.hpp:17,
                 from D:/biocbuild/bbs-3.14-bioc/R/library/cytolib/include/cytolib/GatingSet.hpp:14,
                 from getSingleCellExpression.cpp:1:
D:/biocbuild/bbs-3.14-bioc/R/library/BH/include/boost/mpl/assert.hpp:194:21: warning: unnecessary parentheses in declaration of 'assert_arg' [-Wparentheses]
 failed ************ (Pred::************
                     ^
D:/biocbuild/bbs-3.14-bioc/R/library/BH/include/boost/mpl/assert.hpp:199:21: warning: unnecessary parentheses in declaration of 'assert_not_arg' [-Wparentheses]
 failed ************ (boost::mpl::not_<Pred>::************
                     ^
In file included from D:/biocbuild/bbs-3.14-bioc/R/library/cytolib/include/cytolib/CytoFrame.hpp:16,
                 from D:/biocbuild/bbs-3.14-bioc/R/library/cytolib/include/cytolib/MemCytoFrame.hpp:12,
                 from D:/biocbuild/bbs-3.14-bioc/R/library/cytolib/include/cytolib/gate.hpp:12,
                 from D:/biocbuild/bbs-3.14-bioc/R/library/cytolib/include/cytolib/POPINDICES.hpp:14,
                 from D:/biocbuild/bbs-3.14-bioc/R/library/cytolib/include/cytolib/nodeProperties.hpp:13,
                 from D:/biocbuild/bbs-3.14-bioc/R/library/cytolib/include/cytolib/populationTree.hpp:13,
                 from D:/biocbuild/bbs-3.14-bioc/R/library/cytolib/include/cytolib/GatingHierarchy.hpp:17,
                 from D:/biocbuild/bbs-3.14-bioc/R/library/cytolib/include/cytolib/GatingSet.hpp:14,
                 from getSingleCellExpression.cpp:1:
D:/biocbuild/bbs-3.14-bioc/R/library/cytolib/include/cytolib/compensation.hpp: In constructor 'cytolib::compensation::compensation(const string&)':
D:/biocbuild/bbs-3.14-bioc/R/library/cytolib/include/cytolib/compensation.hpp:58:20: warning: comparison of integer expressions of different signedness: 'std::vector<std::__cxx11::basic_string<char>, std::allocator<std::__cxx11::basic_string<char> > >::size_type' {aka 'long long unsigned int'} and 'int' [-Wsign-compare]
   if(valVec.size() != 1+n+n*n){
      ~~~~~~~~~~~~~~^~~~~~~~~~
D:/biocbuild/bbs-3.14-bioc/R/library/cytolib/include/cytolib/compensation.hpp:62:21: warning: comparison of integer expressions of different signedness: 'std::vector<std::__cxx11::basic_string<char>, std::allocator<std::__cxx11::basic_string<char> > >::size_type' {aka 'long long unsigned int'} and 'int' [-Wsign-compare]
    if(valVec.size() == 1+n+2*n*n){
       ~~~~~~~~~~~~~~^~~~~~~~~~~~
D:/biocbuild/bbs-3.14-bioc/R/library/cytolib/include/cytolib/compensation.hpp:68:33: warning: comparison of integer expressions of different signedness: 'int' and 'std::vector<std::__cxx11::basic_string<char>, std::allocator<std::__cxx11::basic_string<char> > >::size_type' {aka 'long long unsigned int'} [-Wsign-compare]
     for(int i = 1+n, j = 1+n; i < valVec_fixed.size(); i++, j+=2)
                               ~~^~~~~~~~~~~~~~~~~~~~~
In file included from D:/biocbuild/bbs-3.14-bioc/R/library/BH/include/boost/graph/adjacency_iterator.hpp:13,
                 from D:/biocbuild/bbs-3.14-bioc/R/library/BH/include/boost/graph/detail/adjacency_list.hpp:37,
                 from D:/biocbuild/bbs-3.14-bioc/R/library/BH/include/boost/graph/adjacency_list.hpp:255,
                 from D:/biocbuild/bbs-3.14-bioc/R/library/cytolib/include/cytolib/populationTree.hpp:14,
                 from D:/biocbuild/bbs-3.14-bioc/R/library/cytolib/include/cytolib/GatingHierarchy.hpp:17,
                 from D:/biocbuild/bbs-3.14-bioc/R/library/cytolib/include/cytolib/GatingSet.hpp:14,
                 from getSingleCellExpression.cpp:1:
D:/biocbuild/bbs-3.14-bioc/R/library/BH/include/boost/detail/iterator.hpp: At global scope:
D:/biocbuild/bbs-3.14-bioc/R/library/BH/include/boost/detail/iterator.hpp:13:37: note: #pragma message: This header is deprecated. Use <iterator> instead.
 BOOST_HEADER_DEPRECATED("<iterator>")
                                     ^
"C:/rtools40/mingw64/bin/"g++  -std=gnu++11 -I"D:/biocbuild/bbs-3.14-bioc/R/include" -DNDEBUG -DROUT -I../inst/include -DBOOST_NO_AUTO_PTR -DRCPP_PARALLEL_USE_TBB=1 -fpermissive  -I'D:/biocbuild/bbs-3.14-bioc/R/library/Rcpp/include' -I'D:/biocbuild/bbs-3.14-bioc/R/library/BH/include' -I'D:/biocbuild/bbs-3.14-bioc/R/library/RProtoBufLib/include' -I'D:/biocbuild/bbs-3.14-bioc/R/library/cytolib/include' -I'D:/biocbuild/bbs-3.14-bioc/R/library/Rhdf5lib/include' -I'D:/biocbuild/bbs-3.14-bioc/R/library/RcppArmadillo/include' -I'D:/biocbuild/bbs-3.14-bioc/R/library/RcppParallel/include'   -I"C:/extsoft/include"     -O2 -Wall  -mfpmath=sse -msse2 -mstackrealign  -c h5_error_r_handler.cpp -o h5_error_r_handler.o
In file included from D:/biocbuild/bbs-3.14-bioc/R/library/BH/include/boost/mpl/aux_/na_assert.hpp:23,
                 from D:/biocbuild/bbs-3.14-bioc/R/library/BH/include/boost/mpl/arg.hpp:25,
                 from D:/biocbuild/bbs-3.14-bioc/R/library/BH/include/boost/mpl/placeholders.hpp:24,
                 from D:/biocbuild/bbs-3.14-bioc/R/library/BH/include/boost/iterator/iterator_categories.hpp:16,
                 from D:/biocbuild/bbs-3.14-bioc/R/library/BH/include/boost/iterator/iterator_facade.hpp:13,
                 from D:/biocbuild/bbs-3.14-bioc/R/library/BH/include/boost/range/iterator_range_core.hpp:27,
                 from D:/biocbuild/bbs-3.14-bioc/R/library/BH/include/boost/range/iterator_range.hpp:13,
                 from D:/biocbuild/bbs-3.14-bioc/R/library/BH/include/boost/range/as_literal.hpp:18,
                 from D:/biocbuild/bbs-3.14-bioc/R/library/BH/include/boost/algorithm/string/trim.hpp:19,
                 from D:/biocbuild/bbs-3.14-bioc/R/library/BH/include/boost/algorithm/string.hpp:19,
                 from D:/biocbuild/bbs-3.14-bioc/R/library/cytolib/include/cytolib/transformation.hpp:18,
                 from D:/biocbuild/bbs-3.14-bioc/R/library/cytolib/include/cytolib/compensation.hpp:15,
                 from D:/biocbuild/bbs-3.14-bioc/R/library/cytolib/include/cytolib/CytoFrame.hpp:16,
                 from D:/biocbuild/bbs-3.14-bioc/R/library/cytolib/include/cytolib/MemCytoFrame.hpp:12,
                 from D:/biocbuild/bbs-3.14-bioc/R/library/cytolib/include/cytolib/gate.hpp:12,
                 from D:/biocbuild/bbs-3.14-bioc/R/library/cytolib/include/cytolib/POPINDICES.hpp:14,
                 from D:/biocbuild/bbs-3.14-bioc/R/library/cytolib/include/cytolib/nodeProperties.hpp:13,
                 from D:/biocbuild/bbs-3.14-bioc/R/library/cytolib/include/cytolib/populationTree.hpp:13,
                 from D:/biocbuild/bbs-3.14-bioc/R/library/cytolib/include/cytolib/GatingHierarchy.hpp:17,
                 from D:/biocbuild/bbs-3.14-bioc/R/library/cytolib/include/cytolib/GatingSet.hpp:14,
                 from ../inst/include/flowWorkspace/pairVectorRcppWrap.h:12,
                 from h5_error_r_handler.cpp:8:
D:/biocbuild/bbs-3.14-bioc/R/library/BH/include/boost/mpl/assert.hpp:194:21: warning: unnecessary parentheses in declaration of 'assert_arg' [-Wparentheses]
 failed ************ (Pred::************
                     ^
D:/biocbuild/bbs-3.14-bioc/R/library/BH/include/boost/mpl/assert.hpp:199:21: warning: unnecessary parentheses in declaration of 'assert_not_arg' [-Wparentheses]
 failed ************ (boost::mpl::not_<Pred>::************
                     ^
In file included from D:/biocbuild/bbs-3.14-bioc/R/library/cytolib/include/cytolib/CytoFrame.hpp:16,
                 from D:/biocbuild/bbs-3.14-bioc/R/library/cytolib/include/cytolib/MemCytoFrame.hpp:12,
                 from D:/biocbuild/bbs-3.14-bioc/R/library/cytolib/include/cytolib/gate.hpp:12,
                 from D:/biocbuild/bbs-3.14-bioc/R/library/cytolib/include/cytolib/POPINDICES.hpp:14,
                 from D:/biocbuild/bbs-3.14-bioc/R/library/cytolib/include/cytolib/nodeProperties.hpp:13,
                 from D:/biocbuild/bbs-3.14-bioc/R/library/cytolib/include/cytolib/populationTree.hpp:13,
                 from D:/biocbuild/bbs-3.14-bioc/R/library/cytolib/include/cytolib/GatingHierarchy.hpp:17,
                 from D:/biocbuild/bbs-3.14-bioc/R/library/cytolib/include/cytolib/GatingSet.hpp:14,
                 from ../inst/include/flowWorkspace/pairVectorRcppWrap.h:12,
                 from h5_error_r_handler.cpp:8:
D:/biocbuild/bbs-3.14-bioc/R/library/cytolib/include/cytolib/compensation.hpp: In constructor 'cytolib::compensation::compensation(const string&)':
D:/biocbuild/bbs-3.14-bioc/R/library/cytolib/include/cytolib/compensation.hpp:58:20: warning: comparison of integer expressions of different signedness: 'std::vector<std::__cxx11::basic_string<char>, std::allocator<std::__cxx11::basic_string<char> > >::size_type' {aka 'long long unsigned int'} and 'int' [-Wsign-compare]
   if(valVec.size() != 1+n+n*n){
      ~~~~~~~~~~~~~~^~~~~~~~~~
D:/biocbuild/bbs-3.14-bioc/R/library/cytolib/include/cytolib/compensation.hpp:62:21: warning: comparison of integer expressions of different signedness: 'std::vector<std::__cxx11::basic_string<char>, std::allocator<std::__cxx11::basic_string<char> > >::size_type' {aka 'long long unsigned int'} and 'int' [-Wsign-compare]
    if(valVec.size() == 1+n+2*n*n){
       ~~~~~~~~~~~~~~^~~~~~~~~~~~
D:/biocbuild/bbs-3.14-bioc/R/library/cytolib/include/cytolib/compensation.hpp:68:33: warning: comparison of integer expressions of different signedness: 'int' and 'std::vector<std::__cxx11::basic_string<char>, std::allocator<std::__cxx11::basic_string<char> > >::size_type' {aka 'long long unsigned int'} [-Wsign-compare]
     for(int i = 1+n, j = 1+n; i < valVec_fixed.size(); i++, j+=2)
                               ~~^~~~~~~~~~~~~~~~~~~~~
In file included from D:/biocbuild/bbs-3.14-bioc/R/library/BH/include/boost/graph/adjacency_iterator.hpp:13,
                 from D:/biocbuild/bbs-3.14-bioc/R/library/BH/include/boost/graph/detail/adjacency_list.hpp:37,
                 from D:/biocbuild/bbs-3.14-bioc/R/library/BH/include/boost/graph/adjacency_list.hpp:255,
                 from D:/biocbuild/bbs-3.14-bioc/R/library/cytolib/include/cytolib/populationTree.hpp:14,
                 from D:/biocbuild/bbs-3.14-bioc/R/library/cytolib/include/cytolib/GatingHierarchy.hpp:17,
                 from D:/biocbuild/bbs-3.14-bioc/R/library/cytolib/include/cytolib/GatingSet.hpp:14,
                 from ../inst/include/flowWorkspace/pairVectorRcppWrap.h:12,
                 from h5_error_r_handler.cpp:8:
D:/biocbuild/bbs-3.14-bioc/R/library/BH/include/boost/detail/iterator.hpp: At global scope:
D:/biocbuild/bbs-3.14-bioc/R/library/BH/include/boost/detail/iterator.hpp:13:37: note: #pragma message: This header is deprecated. Use <iterator> instead.
 BOOST_HEADER_DEPRECATED("<iterator>")
                                     ^
"C:/rtools40/mingw64/bin/"g++  -std=gnu++11 -I"D:/biocbuild/bbs-3.14-bioc/R/include" -DNDEBUG -DROUT -I../inst/include -DBOOST_NO_AUTO_PTR -DRCPP_PARALLEL_USE_TBB=1 -fpermissive  -I'D:/biocbuild/bbs-3.14-bioc/R/library/Rcpp/include' -I'D:/biocbuild/bbs-3.14-bioc/R/library/BH/include' -I'D:/biocbuild/bbs-3.14-bioc/R/library/RProtoBufLib/include' -I'D:/biocbuild/bbs-3.14-bioc/R/library/cytolib/include' -I'D:/biocbuild/bbs-3.14-bioc/R/library/Rhdf5lib/include' -I'D:/biocbuild/bbs-3.14-bioc/R/library/RcppArmadillo/include' -I'D:/biocbuild/bbs-3.14-bioc/R/library/RcppParallel/include'   -I"C:/extsoft/include"     -O2 -Wall  -mfpmath=sse -msse2 -mstackrealign  -c setCounts.cpp -o setCounts.o
In file included from D:/biocbuild/bbs-3.14-bioc/R/library/BH/include/boost/mpl/aux_/na_assert.hpp:23,
                 from D:/biocbuild/bbs-3.14-bioc/R/library/BH/include/boost/mpl/arg.hpp:25,
                 from D:/biocbuild/bbs-3.14-bioc/R/library/BH/include/boost/mpl/placeholders.hpp:24,
                 from D:/biocbuild/bbs-3.14-bioc/R/library/BH/include/boost/iterator/iterator_categories.hpp:16,
                 from D:/biocbuild/bbs-3.14-bioc/R/library/BH/include/boost/iterator/iterator_facade.hpp:13,
                 from D:/biocbuild/bbs-3.14-bioc/R/library/BH/include/boost/range/iterator_range_core.hpp:27,
                 from D:/biocbuild/bbs-3.14-bioc/R/library/BH/include/boost/range/iterator_range.hpp:13,
                 from D:/biocbuild/bbs-3.14-bioc/R/library/BH/include/boost/range/as_literal.hpp:18,
                 from D:/biocbuild/bbs-3.14-bioc/R/library/BH/include/boost/algorithm/string/trim.hpp:19,
                 from D:/biocbuild/bbs-3.14-bioc/R/library/BH/include/boost/algorithm/string.hpp:19,
                 from D:/biocbuild/bbs-3.14-bioc/R/library/cytolib/include/cytolib/transformation.hpp:18,
                 from D:/biocbuild/bbs-3.14-bioc/R/library/cytolib/include/cytolib/compensation.hpp:15,
                 from D:/biocbuild/bbs-3.14-bioc/R/library/cytolib/include/cytolib/CytoFrame.hpp:16,
                 from D:/biocbuild/bbs-3.14-bioc/R/library/cytolib/include/cytolib/MemCytoFrame.hpp:12,
                 from D:/biocbuild/bbs-3.14-bioc/R/library/cytolib/include/cytolib/gate.hpp:12,
                 from D:/biocbuild/bbs-3.14-bioc/R/library/cytolib/include/cytolib/POPINDICES.hpp:14,
                 from D:/biocbuild/bbs-3.14-bioc/R/library/cytolib/include/cytolib/nodeProperties.hpp:13,
                 from D:/biocbuild/bbs-3.14-bioc/R/library/cytolib/include/cytolib/populationTree.hpp:13,
                 from D:/biocbuild/bbs-3.14-bioc/R/library/cytolib/include/cytolib/GatingHierarchy.hpp:17,
                 from D:/biocbuild/bbs-3.14-bioc/R/library/cytolib/include/cytolib/GatingSet.hpp:14,
                 from setCounts.cpp:1:
D:/biocbuild/bbs-3.14-bioc/R/library/BH/include/boost/mpl/assert.hpp:194:21: warning: unnecessary parentheses in declaration of 'assert_arg' [-Wparentheses]
 failed ************ (Pred::************
                     ^
D:/biocbuild/bbs-3.14-bioc/R/library/BH/include/boost/mpl/assert.hpp:199:21: warning: unnecessary parentheses in declaration of 'assert_not_arg' [-Wparentheses]
 failed ************ (boost::mpl::not_<Pred>::************
                     ^
In file included from D:/biocbuild/bbs-3.14-bioc/R/library/cytolib/include/cytolib/CytoFrame.hpp:16,
                 from D:/biocbuild/bbs-3.14-bioc/R/library/cytolib/include/cytolib/MemCytoFrame.hpp:12,
                 from D:/biocbuild/bbs-3.14-bioc/R/library/cytolib/include/cytolib/gate.hpp:12,
                 from D:/biocbuild/bbs-3.14-bioc/R/library/cytolib/include/cytolib/POPINDICES.hpp:14,
                 from D:/biocbuild/bbs-3.14-bioc/R/library/cytolib/include/cytolib/nodeProperties.hpp:13,
                 from D:/biocbuild/bbs-3.14-bioc/R/library/cytolib/include/cytolib/populationTree.hpp:13,
                 from D:/biocbuild/bbs-3.14-bioc/R/library/cytolib/include/cytolib/GatingHierarchy.hpp:17,
                 from D:/biocbuild/bbs-3.14-bioc/R/library/cytolib/include/cytolib/GatingSet.hpp:14,
                 from setCounts.cpp:1:
D:/biocbuild/bbs-3.14-bioc/R/library/cytolib/include/cytolib/compensation.hpp: In constructor 'cytolib::compensation::compensation(const string&)':
D:/biocbuild/bbs-3.14-bioc/R/library/cytolib/include/cytolib/compensation.hpp:58:20: warning: comparison of integer expressions of different signedness: 'std::vector<std::__cxx11::basic_string<char>, std::allocator<std::__cxx11::basic_string<char> > >::size_type' {aka 'long long unsigned int'} and 'int' [-Wsign-compare]
   if(valVec.size() != 1+n+n*n){
      ~~~~~~~~~~~~~~^~~~~~~~~~
D:/biocbuild/bbs-3.14-bioc/R/library/cytolib/include/cytolib/compensation.hpp:62:21: warning: comparison of integer expressions of different signedness: 'std::vector<std::__cxx11::basic_string<char>, std::allocator<std::__cxx11::basic_string<char> > >::size_type' {aka 'long long unsigned int'} and 'int' [-Wsign-compare]
    if(valVec.size() == 1+n+2*n*n){
       ~~~~~~~~~~~~~~^~~~~~~~~~~~
D:/biocbuild/bbs-3.14-bioc/R/library/cytolib/include/cytolib/compensation.hpp:68:33: warning: comparison of integer expressions of different signedness: 'int' and 'std::vector<std::__cxx11::basic_string<char>, std::allocator<std::__cxx11::basic_string<char> > >::size_type' {aka 'long long unsigned int'} [-Wsign-compare]
     for(int i = 1+n, j = 1+n; i < valVec_fixed.size(); i++, j+=2)
                               ~~^~~~~~~~~~~~~~~~~~~~~
In file included from D:/biocbuild/bbs-3.14-bioc/R/library/BH/include/boost/graph/adjacency_iterator.hpp:13,
                 from D:/biocbuild/bbs-3.14-bioc/R/library/BH/include/boost/graph/detail/adjacency_list.hpp:37,
                 from D:/biocbuild/bbs-3.14-bioc/R/library/BH/include/boost/graph/adjacency_list.hpp:255,
                 from D:/biocbuild/bbs-3.14-bioc/R/library/cytolib/include/cytolib/populationTree.hpp:14,
                 from D:/biocbuild/bbs-3.14-bioc/R/library/cytolib/include/cytolib/GatingHierarchy.hpp:17,
                 from D:/biocbuild/bbs-3.14-bioc/R/library/cytolib/include/cytolib/GatingSet.hpp:14,
                 from setCounts.cpp:1:
D:/biocbuild/bbs-3.14-bioc/R/library/BH/include/boost/detail/iterator.hpp: At global scope:
D:/biocbuild/bbs-3.14-bioc/R/library/BH/include/boost/detail/iterator.hpp:13:37: note: #pragma message: This header is deprecated. Use <iterator> instead.
 BOOST_HEADER_DEPRECATED("<iterator>")
                                     ^
mkdir -p "D:/biocbuild/bbs-3.14-bioc/meat/flowWorkspace.buildbin-libdir/flowWorkspace/lib/x64"
"C:/rtools40/mingw64/bin/"ar rs "D:/biocbuild/bbs-3.14-bioc/meat/flowWorkspace.buildbin-libdir/flowWorkspace/lib/x64/libflowWorkspace.a" R_API.o R_GatingHierarchy.o R_GatingSet.o RcppExports.o cytoctxAPI.o cytoframeAPI.o cytosetAPI.o getDescendants.o getPopStats.o getSingleCellExpression.o h5_error_r_handler.o setCounts.o
C:\rtools40\mingw64\bin\ar.exe: creating D:/biocbuild/bbs-3.14-bioc/meat/flowWorkspace.buildbin-libdir/flowWorkspace/lib/x64/libflowWorkspace.a
C:/rtools40/mingw64/bin/g++ -shared -s -static-libgcc -o flowWorkspace.dll tmp.def R_API.o R_GatingHierarchy.o R_GatingSet.o RcppExports.o cytoctxAPI.o cytoframeAPI.o cytosetAPI.o getDescendants.o getPopStats.o getSingleCellExpression.o h5_error_r_handler.o setCounts.o -LD:/biocbuild/bbs-3.14-bioc/R/bin/x64 -lRlapack -LD:/biocbuild/bbs-3.14-bioc/R/bin/x64 -lRblas -lgfortran -lm -lquadmath D:/biocbuild/bbs-3.14-bioc/R/library/cytolib/lib/x64/libcytolib.a D:/biocbuild/bbs-3.14-bioc/R/library/RProtoBufLib/lib/x64/GatingSet.pb.o -LD:/biocbuild/bbs-3.14-bioc/R/library/RProtoBufLib/lib/x64 -lprotobuf -LD:/biocbuild/bbs-3.14-bioc/R/library/RcppParallel/lib/x64 -ltbb -ltbbmalloc -LD:/biocbuild/bbs-3.14-bioc/R/library/Rhdf5lib/lib/x64 -lhdf5_cpp -lhdf5 -lcurl -lssh2 -lssl -lcrypto -lwldap32 -lws2_32 -lcrypt32 -lszip -lz -lpsapi -lws2_32 -LC:/extsoft/lib/x64 -LC:/extsoft/lib -LD:/biocbuild/bbs-3.14-bioc/R/bin/x64 -lR
installing to D:/biocbuild/bbs-3.14-bioc/meat/flowWorkspace.buildbin-libdir/flowWorkspace/libs/x64
** testing if installed package can be loaded
* MD5 sums
packaged installation of 'flowWorkspace' as flowWorkspace_4.5.3.zip
* DONE (flowWorkspace)
* installing to library 'D:/biocbuild/bbs-3.14-bioc/R/library'
package 'flowWorkspace' successfully unpacked and MD5 sums checked