Index of /checkResults/devel/bioc-LATEST/flowWorkspace/raw-results

[ICO]NameLast modifiedSizeDescription

[DIR]Parent Directory  -  
[   ]info.dcf24-Sep-2021 01:06 298  
[DIR]merida1/24-Sep-2021 01:06 -  
[DIR]nebbiolo2/24-Sep-2021 01:05 -  
[DIR]riesling1/24-Sep-2021 01:05 -