Back to Multiple platform build/check report for BioC 3.14
ABCDE[F]GHIJKLMNOPQRSTUVWXYZ

This page was generated on 2021-06-24 12:04:51 -0400 (Thu, 24 Jun 2021).

All results for package flowUtils

To the developers/maintainers of the flowUtils package:
- Please allow up to 24 hours (and sometimes 48 hours) for your latest push to git@git.bioconductor.org:packages/flowUtils.git to
reflect on this report. See How and When does the builder pull? When will my changes propagate? here for more information.
- Make sure to use the following settings in order to reproduce any error or warning you see on this page.

raw results

Package 645/1993HostnameOS / ArchINSTALLBUILDCHECKBUILD BIN
flowUtils 1.57.0  (landing page)
Josef Spidlen
Snapshot Date: 2021-06-23 14:50:10 -0400 (Wed, 23 Jun 2021)
URL: https://git.bioconductor.org/packages/flowUtils
Branch: master
Last Commit: fb3adc4
Last Changed Date: 2021-05-19 11:38:23 -0400 (Wed, 19 May 2021)
nebbiolo2Linux (Ubuntu 20.04.2 LTS) / x86_64  OK    ERROR  skipped
riesling1Windows Server 2019 Standard / x64  OK    ERROR  skippedskipped
merida1macOS 10.14.6 Mojave / x86_64  OK    ERROR  skippedskipped

Results for Bioconductor software packages that depend directly on package flowUtils

QUICK STATSOS / ArchINSTALLBUILDCHECKBUILD BIN
nebbiolo2Linux (Ubuntu 20.04.2 LTS) / x86_64
001
001
0001
riesling1Windows Server 2019 Standard / x64
001
001
0001
001
merida1macOS 10.14.6 Mojave / x86_64
001
001
0001
001
Package 1/1HostnameOS / ArchINSTALLBUILDCHECKBUILD BIN
CytoTree 1.3.0  (landing page)
Yuting Dai
Last Commit: 88ce5f0
Last Changed Date: 2021-05-19 12:53:38 -0400
nebbiolo2Linux (Ubuntu 20.04.2 LTS) / x86_64  OK    OK    OK  UNNEEDED, same version is already published
riesling1Windows Server 2019 Standard / x64  OK    OK    OK    OK  NO, package depends on 'FlowSOM' which is not available
merida1macOS 10.14.6 Mojave / x86_64  OK    OK    OK    OK  UNNEEDED, same version is already published