Back to Multiple platform build/check report for BioC 3.14
ABCDE[F]GHIJKLMNOPQRSTUVWXYZ

This page was generated on 2021-10-22 12:04:26 -0400 (Fri, 22 Oct 2021).

BUILD results for flowStats on riesling1

To the developers/maintainers of the flowStats package:
- Please allow up to 24 hours (and sometimes 48 hours) for your latest push to git@git.bioconductor.org:packages/flowStats.git to
reflect on this report. See How and When does the builder pull? When will my changes propagate? here for more information.
- Make sure to use the following settings in order to reproduce any error or warning you see on this page.

raw results

Package 668/2075HostnameOS / ArchINSTALLBUILDCHECKBUILD BIN
flowStats 4.5.1  (landing page)
Greg Finak , Mike Jiang , Jake Wagner
Snapshot Date: 2021-10-21 14:50:08 -0400 (Thu, 21 Oct 2021)
git_url: https://git.bioconductor.org/packages/flowStats
git_branch: master
git_last_commit: 5932e47
git_last_commit_date: 2021-07-30 14:05:12 -0400 (Fri, 30 Jul 2021)
nebbiolo2Linux (Ubuntu 20.04.2 LTS) / x86_64  OK    OK    OK  UNNEEDED, same version is already published
riesling1Windows Server 2019 Standard / x64  OK    OK    OK    OK  UNNEEDED, same version is already published
merida1macOS 10.14.6 Mojave / x86_64  OK    OK    OK    NA  

Summary

Package: flowStats
Version: 4.5.1
Command: chmod a+r flowStats -R && D:\biocbuild\bbs-3.14-bioc\R\bin\R.exe CMD build --keep-empty-dirs --no-resave-data flowStats
StartedAt: 2021-10-21 20:56:07 -0400 (Thu, 21 Oct 2021)
EndedAt: 2021-10-21 20:58:43 -0400 (Thu, 21 Oct 2021)
EllapsedTime: 156.4 seconds
RetCode: 0
Status:   OK  
PackageFile: flowStats_4.5.1.tar.gz
PackageFileSize: 11.02 MiB

Command output

##############################################################################
##############################################################################
###
### Running command:
###
###   chmod a+r flowStats -R && D:\biocbuild\bbs-3.14-bioc\R\bin\R.exe CMD build --keep-empty-dirs --no-resave-data flowStats
###
##############################################################################
##############################################################################


* checking for file 'flowStats/DESCRIPTION' ... OK
* preparing 'flowStats':
* checking DESCRIPTION meta-information ... OK
* installing the package to build vignettes
* creating vignettes ... OK
* checking for LF line-endings in source and make files and shell scripts
* checking for empty or unneeded directories
* looking to see if a 'data/datalist' file should be added
* building 'flowStats_4.5.1.tar.gz'