Back to Multiple platform build/check report for BioC 3.14
ABCDE[F]GHIJKLMNOPQRSTUVWXYZ

This page was generated on 2021-10-22 12:04:26 -0400 (Fri, 22 Oct 2021).

BUILD BIN results for flowStats on riesling1

To the developers/maintainers of the flowStats package:
- Please allow up to 24 hours (and sometimes 48 hours) for your latest push to git@git.bioconductor.org:packages/flowStats.git to
reflect on this report. See How and When does the builder pull? When will my changes propagate? here for more information.
- Make sure to use the following settings in order to reproduce any error or warning you see on this page.

raw results

Package 668/2075HostnameOS / ArchINSTALLBUILDCHECKBUILD BIN
flowStats 4.5.1  (landing page)
Greg Finak , Mike Jiang , Jake Wagner
Snapshot Date: 2021-10-21 14:50:08 -0400 (Thu, 21 Oct 2021)
git_url: https://git.bioconductor.org/packages/flowStats
git_branch: master
git_last_commit: 5932e47
git_last_commit_date: 2021-07-30 14:05:12 -0400 (Fri, 30 Jul 2021)
nebbiolo2Linux (Ubuntu 20.04.2 LTS) / x86_64  OK    OK    OK  UNNEEDED, same version is already published
riesling1Windows Server 2019 Standard / x64  OK    OK    OK    OK  UNNEEDED, same version is already published
merida1macOS 10.14.6 Mojave / x86_64  OK    OK    OK    NA  

Summary

Package: flowStats
Version: 4.5.1
Command: rm -rf flowStats.buildbin-libdir && mkdir flowStats.buildbin-libdir && D:\biocbuild\bbs-3.14-bioc\R\bin\R.exe CMD INSTALL --merge-multiarch --build --library=flowStats.buildbin-libdir flowStats_4.5.1.tar.gz
StartedAt: 2021-10-22 05:29:39 -0400 (Fri, 22 Oct 2021)
EndedAt: 2021-10-22 05:33:52 -0400 (Fri, 22 Oct 2021)
EllapsedTime: 253.2 seconds
RetCode: 0
Status:   OK  
PackageFile: flowStats_4.5.1.zip
PackageFileSize: 11.77 MiB

Command output

##############################################################################
##############################################################################
###
### Running command:
###
###   rm -rf flowStats.buildbin-libdir && mkdir flowStats.buildbin-libdir && D:\biocbuild\bbs-3.14-bioc\R\bin\R.exe CMD INSTALL --merge-multiarch --build --library=flowStats.buildbin-libdir flowStats_4.5.1.tar.gz
###
##############################################################################
##############################################################################



install for i386

* installing *source* package 'flowStats' ...
** using staged installation
** R
** data
** inst
** byte-compile and prepare package for lazy loading
** help
*** installing help indices
  converting help for package 'flowStats'
    finding HTML links ... done
    BackGating                              html  
    ITN                                     html  
    addName-methods                         html  
    autoGate                                html  
    binByRef                                html  
    calcPBChiSquare                         html  
    calcPearsonChi                          html  
    curv1Filter-class                       html  
    finding level-2 HTML links ... done

    curv2Filter-class                       html  
    curvPeaks                               html  
    density1d                               html  
    fdPar                                   html  
    flowStats-package                       html  
    gate_singlet                            html  
    gaussNorm                               html  
    gpaSet                                  html  
    iProcrustes                             html  
    idFeaturesByBackgating                  html  
    landmarkMatrix                          html  
    lymphGate                               html  
    norm2Filter-class                       html  
    normQA                                  html  
    normalize                               html  
    overton_like                            html  
    plotBins                                html  
    proBin                                  html  
    quadrantGate                            html  
    rangeGate                               html  
    spillover-flowSet                       html  
    spillover_match-flowSet                 html  
    spillover_ng-flowSet                    html  
    warpSet                                 html  
** building package indices
** installing vignettes
** testing if installed package can be loaded from temporary location
** testing if installed package can be loaded from final location
** testing if installed package keeps a record of temporary installation path

install for x64

* installing *source* package 'flowStats' ...
** testing if installed package can be loaded
* MD5 sums
packaged installation of 'flowStats' as flowStats_4.5.1.zip
* DONE (flowStats)