Back to Multiple platform build/check report for BioC 3.14
ABCDE[F]GHIJKLMNOPQRSTUVWXYZ

This page was generated on 2021-10-22 12:03:34 -0400 (Fri, 22 Oct 2021).

All results for package flowStats

To the developers/maintainers of the flowStats package:
- Please allow up to 24 hours (and sometimes 48 hours) for your latest push to git@git.bioconductor.org:packages/flowStats.git to
reflect on this report. See How and When does the builder pull? When will my changes propagate? here for more information.
- Make sure to use the following settings in order to reproduce any error or warning you see on this page.

raw results

Package 668/2075HostnameOS / ArchINSTALLBUILDCHECKBUILD BIN
flowStats 4.5.1  (landing page)
Greg Finak , Mike Jiang , Jake Wagner
Snapshot Date: 2021-10-21 14:50:08 -0400 (Thu, 21 Oct 2021)
git_url: https://git.bioconductor.org/packages/flowStats
git_branch: master
git_last_commit: 5932e47
git_last_commit_date: 2021-07-30 14:05:12 -0400 (Fri, 30 Jul 2021)
nebbiolo2Linux (Ubuntu 20.04.2 LTS) / x86_64  OK    OK    OK  UNNEEDED, same version is already published
riesling1Windows Server 2019 Standard / x64  OK    OK    OK    OK  UNNEEDED, same version is already published
merida1macOS 10.14.6 Mojave / x86_64  OK    OK    OK    NA  

Results for Bioconductor software packages that depend directly on package flowStats

QUICK STATSOS / ArchINSTALLBUILDCHECKBUILD BIN
nebbiolo2Linux (Ubuntu 20.04.2 LTS) / x86_64
002
002
0002
riesling1Windows Server 2019 Standard / x64
002
002
0002
002
merida1macOS 10.14.6 Mojave / x86_64
002
002
0002
000
Package 1/2HostnameOS / ArchINSTALLBUILDCHECKBUILD BIN
flowVS 1.25.0  (landing page)
Ariful Azad
git_last_commit: 643b769
git_last_commit_date: 2021-05-19 13:02:20 -0400
nebbiolo2Linux (Ubuntu 20.04.2 LTS) / x86_64  OK    OK    OK  UNNEEDED, same version is already published
riesling1Windows Server 2019 Standard / x64  OK    OK    OK    OK  UNNEEDED, same version is already published
merida1macOS 10.14.6 Mojave / x86_64  OK    OK    OK    NA  
Package 2/2HostnameOS / ArchINSTALLBUILDCHECKBUILD BIN
openCyto 2.5.4  (landing page)
Mike Jiang ,Jake Wagner
git_last_commit: 22c609b
git_last_commit_date: 2021-07-30 13:41:51 -0400
nebbiolo2Linux (Ubuntu 20.04.2 LTS) / x86_64  OK    OK    OK  UNNEEDED, same version is already published
riesling1Windows Server 2019 Standard / x64  OK    OK    OK    OK  UNNEEDED, same version is already published
merida1macOS 10.14.6 Mojave / x86_64  OK    OK    OK    NA