Back to Multiple platform build/check report for BioC 3.14
ABCDE[F]GHIJKLMNOPQRSTUVWXYZ

This page was generated on 2021-10-22 12:04:25 -0400 (Fri, 22 Oct 2021).

INSTALL results for flowDensity on riesling1

To the developers/maintainers of the flowDensity package:
- Please allow up to 24 hours (and sometimes 48 hours) for your latest push to git@git.bioconductor.org:packages/flowDensity.git to
reflect on this report. See How and When does the builder pull? When will my changes propagate? here for more information.
- Make sure to use the following settings in order to reproduce any error or warning you see on this page.

raw results

Package 656/2075HostnameOS / ArchINSTALLBUILDCHECKBUILD BIN
flowDensity 1.27.2  (landing page)
Mehrnoush Malek
Snapshot Date: 2021-10-21 14:50:08 -0400 (Thu, 21 Oct 2021)
git_url: https://git.bioconductor.org/packages/flowDensity
git_branch: master
git_last_commit: 47fb2ff8
git_last_commit_date: 2021-08-06 12:18:05 -0400 (Fri, 06 Aug 2021)
nebbiolo2Linux (Ubuntu 20.04.2 LTS) / x86_64  OK    OK    WARNINGS  UNNEEDED, same version is already published
riesling1Windows Server 2019 Standard / x64  OK    OK    WARNINGS    OK  UNNEEDED, same version is already published
merida1macOS 10.14.6 Mojave / x86_64  OK    OK    WARNINGS    NA  

Summary

Package: flowDensity
Version: 1.27.2
Command: C:\cygwin\bin\curl.exe -O http://155.52.207.166/BBS/3.14/bioc/src/contrib/flowDensity_1.27.2.tar.gz && rm -rf flowDensity.buildbin-libdir && mkdir flowDensity.buildbin-libdir && D:\biocbuild\bbs-3.14-bioc\R\bin\R.exe CMD INSTALL --merge-multiarch --build --library=flowDensity.buildbin-libdir flowDensity_1.27.2.tar.gz && D:\biocbuild\bbs-3.14-bioc\R\bin\R.exe CMD INSTALL flowDensity_1.27.2.zip && rm flowDensity_1.27.2.tar.gz flowDensity_1.27.2.zip
StartedAt: 2021-10-21 18:28:11 -0400 (Thu, 21 Oct 2021)
EndedAt: 2021-10-21 18:31:05 -0400 (Thu, 21 Oct 2021)
EllapsedTime: 174.3 seconds
RetCode: 0
Status:   OK  

Command output

##############################################################################
##############################################################################
###
### Running command:
###
###   C:\cygwin\bin\curl.exe -O http://155.52.207.166/BBS/3.14/bioc/src/contrib/flowDensity_1.27.2.tar.gz && rm -rf flowDensity.buildbin-libdir && mkdir flowDensity.buildbin-libdir && D:\biocbuild\bbs-3.14-bioc\R\bin\R.exe CMD INSTALL --merge-multiarch --build --library=flowDensity.buildbin-libdir flowDensity_1.27.2.tar.gz && D:\biocbuild\bbs-3.14-bioc\R\bin\R.exe CMD INSTALL flowDensity_1.27.2.zip && rm flowDensity_1.27.2.tar.gz flowDensity_1.27.2.zip
###
##############################################################################
##############################################################################


  % Total    % Received % Xferd  Average Speed   Time    Time     Time  Current
                                 Dload  Upload   Total   Spent    Left  Speed

  0     0    0     0    0     0      0      0 --:--:-- --:--:-- --:--:--     0
 31 4396k   31 1398k    0     0  2289k      0  0:00:01 --:--:--  0:00:01 2289k
100 4396k  100 4396k    0     0  3464k      0  0:00:01  0:00:01 --:--:-- 3467k

install for i386

* installing *source* package 'flowDensity' ...
** using staged installation
** R
** inst
** byte-compile and prepare package for lazy loading
Warning: replacing previous import 'flowCore::plot' by 'graphics::plot' when loading 'flowDensity'
** help
*** installing help indices
  converting help for package 'flowDensity'
    finding HTML links ... done
    CellPopulation-class                    html  
    deGate                                  html  
    flowDensity-methods                     html  
    flowDensity                             html  
REDIRECT:topic	 Previous alias or file overwritten by alias: D:/biocbuild/bbs-3.14-bioc/meat/flowDensity.buildbin-libdir/00LOCK-flowDensity/00new/flowDensity/help/flowDensity.html
    getPeaks                                html  
    getflowFrame                            html  
    nmRemove                                html  
    notSubFrame                             html  
    plotDens                                html  
** building package indices
** installing vignettes
   'flowDensity.Rmd' 
** testing if installed package can be loaded from temporary location
Warning: replacing previous import 'flowCore::plot' by 'graphics::plot' when loading 'flowDensity'
** testing if installed package can be loaded from final location
Warning: replacing previous import 'flowCore::plot' by 'graphics::plot' when loading 'flowDensity'
** testing if installed package keeps a record of temporary installation path

install for x64

* installing *source* package 'flowDensity' ...
** testing if installed package can be loaded
Warning: replacing previous import 'flowCore::plot' by 'graphics::plot' when loading 'flowDensity'
* MD5 sums
packaged installation of 'flowDensity' as flowDensity_1.27.2.zip
* DONE (flowDensity)
* installing to library 'D:/biocbuild/bbs-3.14-bioc/R/library'
package 'flowDensity' successfully unpacked and MD5 sums checked