Back to Multiple platform build/check report for BioC 3.14
ABCDE[F]GHIJKLMNOPQRSTUVWXYZ

This page was generated on 2021-10-22 12:03:34 -0400 (Fri, 22 Oct 2021).

All results for package flowDensity

To the developers/maintainers of the flowDensity package:
- Please allow up to 24 hours (and sometimes 48 hours) for your latest push to git@git.bioconductor.org:packages/flowDensity.git to
reflect on this report. See How and When does the builder pull? When will my changes propagate? here for more information.
- Make sure to use the following settings in order to reproduce any error or warning you see on this page.

raw results

Package 656/2075HostnameOS / ArchINSTALLBUILDCHECKBUILD BIN
flowDensity 1.27.2  (landing page)
Mehrnoush Malek
Snapshot Date: 2021-10-21 14:50:08 -0400 (Thu, 21 Oct 2021)
git_url: https://git.bioconductor.org/packages/flowDensity
git_branch: master
git_last_commit: 47fb2ff8
git_last_commit_date: 2021-08-06 12:18:05 -0400 (Fri, 06 Aug 2021)
nebbiolo2Linux (Ubuntu 20.04.2 LTS) / x86_64  OK    OK    WARNINGS  UNNEEDED, same version is already published
riesling1Windows Server 2019 Standard / x64  OK    OK    WARNINGS    OK  UNNEEDED, same version is already published
merida1macOS 10.14.6 Mojave / x86_64  OK    OK    WARNINGS    NA  

Results for Bioconductor software packages that depend directly on package flowDensity

QUICK STATSOS / ArchINSTALLBUILDCHECKBUILD BIN
nebbiolo2Linux (Ubuntu 20.04.2 LTS) / x86_64
003
003
0003
riesling1Windows Server 2019 Standard / x64
003
003
0003
003
merida1macOS 10.14.6 Mojave / x86_64
003
003
0003
002
Package 1/3HostnameOS / ArchINSTALLBUILDCHECKBUILD BIN
cyanoFilter 1.1.1  (landing page)
Oluwafemi Olusoji
git_last_commit: 5c358c8
git_last_commit_date: 2021-07-29 10:01:03 -0400
nebbiolo2Linux (Ubuntu 20.04.2 LTS) / x86_64  OK    OK    OK  UNNEEDED, same version is already published
riesling1Windows Server 2019 Standard / x64  OK    OK    OK    OK  UNNEEDED, same version is already published
merida1macOS 10.14.6 Mojave / x86_64  OK    OK    OK    OK  UNNEEDED, same version is already published
Package 2/3HostnameOS / ArchINSTALLBUILDCHECKBUILD BIN
ddPCRclust 1.13.0  (landing page)
Benedikt G. Brink
git_last_commit: a6a1cd1
git_last_commit_date: 2021-05-19 12:33:40 -0400
nebbiolo2Linux (Ubuntu 20.04.2 LTS) / x86_64  OK    OK    OK  UNNEEDED, same version is already published
riesling1Windows Server 2019 Standard / x64  OK    OK    OK    OK  UNNEEDED, same version is already published
merida1macOS 10.14.6 Mojave / x86_64  OK    OK    OK    OK  UNNEEDED, same version is already published
Package 3/3HostnameOS / ArchINSTALLBUILDCHECKBUILD BIN
flowCut 1.3.1  (landing page)
Justin Meskas
git_last_commit: 40ef443
git_last_commit_date: 2021-08-11 12:16:47 -0400
nebbiolo2Linux (Ubuntu 20.04.2 LTS) / x86_64  OK    OK    OK  UNNEEDED, same version is already published
riesling1Windows Server 2019 Standard / x64  OK    OK    OK    OK  UNNEEDED, same version is already published
merida1macOS 10.14.6 Mojave / x86_64  OK    OK    OK    NA