Index of /checkResults/devel/bioc-LATEST/flowCut/raw-results/nebbiolo2

[ICO]NameLast modifiedSizeDescription

[DIR]Parent Directory  -  
[TXT]buildsrc-out.txt18-Jul-2024 00:38 893  
[   ]buildsrc-summary.dcf18-Jul-2024 00:38 423  
[TXT]checksrc-out.txt18-Jul-2024 00:38 3.3K 
[   ]checksrc-summary.dcf18-Jul-2024 00:38 413  
[TXT]install-out.txt18-Jul-2024 00:38 952  
[   ]install-summary.dcf18-Jul-2024 00:38 259