Index of /checkResults/devel/bioc-LATEST/flowCut/raw-results

[ICO]NameLast modifiedSizeDescription

[DIR]Parent Directory  -  
[   ]info.dcf16-Jul-2024 00:37 267  
[DIR]kjohnson1/12-Jun-2024 04:43 -  
[DIR]kjohnson3/16-Jul-2024 00:43 -  
[DIR]kunpeng2/09-Jul-2024 00:44 -  
[DIR]lconway/16-Jul-2024 00:41 -  
[DIR]merida1/12-Jun-2024 04:41 -  
[DIR]nebbiolo2/16-Jul-2024 00:38 -  
[DIR]palomino4/12-Jun-2024 04:40 -  
[DIR]palomino6/16-Jul-2024 00:40 -  
[DIR]palomino8/16-Jul-2024 00:44 -