Back to Multiple platform build/check report for BioC 3.14
ABCDE[F]GHIJKLMNOPQRSTUVWXYZ

This page was generated on 2021-06-19 12:05:49 -0400 (Sat, 19 Jun 2021).

BUILD results for flowCL on riesling1

To the developers/maintainers of the flowCL package:
- Please allow up to 24 hours (and sometimes 48 hours) for your latest push to git@git.bioconductor.org:packages/flowCL.git to
reflect on this report. See How and When does the builder pull? When will my changes propagate? here for more information.
- Make sure to use the following settings in order to reproduce any error or warning you see on this page.

raw results

Package 624/1993HostnameOS / ArchINSTALLBUILDCHECKBUILD BIN
flowCL 1.31.0  (landing page)
Justin Meskas
Snapshot Date: 2021-06-18 14:50:08 -0400 (Fri, 18 Jun 2021)
URL: https://git.bioconductor.org/packages/flowCL
Branch: master
Last Commit: df73ac6
Last Changed Date: 2021-05-19 12:04:19 -0400 (Wed, 19 May 2021)
nebbiolo2Linux (Ubuntu 20.04.2 LTS) / x86_64  OK    OK    OK  UNNEEDED, same version is already published
riesling1Windows Server 2019 Standard / x64  OK    OK    OK    OK  NO, package depends on 'Rgraphviz' which is not available
merida1macOS 10.14.6 Mojave / x86_64  OK    OK    OK    OK  UNNEEDED, same version is already published

Summary

Package: flowCL
Version: 1.31.0
Command: chmod a+r flowCL -R && D:\biocbuild\bbs-3.14-bioc\R\bin\R.exe CMD build --keep-empty-dirs --no-resave-data flowCL
StartedAt: 2021-06-18 19:55:50 -0400 (Fri, 18 Jun 2021)
EndedAt: 2021-06-18 19:59:07 -0400 (Fri, 18 Jun 2021)
EllapsedTime: 196.8 seconds
RetCode: 0
Status:   OK  
PackageFile: flowCL_1.31.0.tar.gz
PackageFileSize: 224.3 KiB

Command output

##############################################################################
##############################################################################
###
### Running command:
###
###   chmod a+r flowCL -R && D:\biocbuild\bbs-3.14-bioc\R\bin\R.exe CMD build --keep-empty-dirs --no-resave-data flowCL
###
##############################################################################
##############################################################################


* checking for file 'flowCL/DESCRIPTION' ... OK
* preparing 'flowCL':
* checking DESCRIPTION meta-information ... OK
* installing the package to build vignettes
* creating vignettes ... OK
* checking for LF line-endings in source and make files and shell scripts
* checking for empty or unneeded directories
* looking to see if a 'data/datalist' file should be added
* building 'flowCL_1.31.0.tar.gz'