Back to Multiple platform build/check report for BioC 3.14
ABCDE[F]GHIJKLMNOPQRSTUVWXYZ

BUILD BIN results for flowCL on riesling1

This page was generated on 2021-06-16 12:05:00 -0400 (Wed, 16 Jun 2021).

Package 624/1993HostnameOS / ArchINSTALLBUILDCHECKBUILD BIN
flowCL 1.31.0  (landing page)
Justin Meskas
Snapshot Date: 2021-06-15 14:50:06 -0400 (Tue, 15 Jun 2021)
URL: https://git.bioconductor.org/packages/flowCL
Branch: master
Last Commit: df73ac6
Last Changed Date: 2021-05-19 12:04:19 -0400 (Wed, 19 May 2021)
nebbiolo2Linux (Ubuntu 20.04.2 LTS) / x86_64  OK    OK    OK  UNNEEDED, same version is already published
riesling1Windows Server 2019 Standard / x64  OK    OK    OK    OK  NO, package depends on 'Rgraphviz' which is not available
merida1macOS 10.14.6 Mojave / x86_64  OK    OK    OK    OK  UNNEEDED, same version is already published
To the developers/maintainers of the flowCL package:
- Please allow up to 24 hours (and sometimes 48 hours) for your latest push to git@git.bioconductor.org:packages/flowCL.git to
reflect on this report. See How and When does the builder pull? When will my changes propagate? here for more information.
- Make sure to use the following settings in order to reproduce any error or warning you see on this page.

Summary

Package: flowCL
Version: 1.31.0
Command: rm -rf flowCL.buildbin-libdir && mkdir flowCL.buildbin-libdir && D:\biocbuild\bbs-3.14-bioc\R\bin\R.exe CMD INSTALL --merge-multiarch --build --library=flowCL.buildbin-libdir flowCL_1.31.0.tar.gz
StartedAt: 2021-06-16 03:43:00 -0400 (Wed, 16 Jun 2021)
EndedAt: 2021-06-16 03:46:49 -0400 (Wed, 16 Jun 2021)
EllapsedTime: 228.3 seconds
RetCode: 0
Status:   OK   
PackageFile: flowCL_1.31.0.zip
PackageFileSize: 305.4 KiB

Command output

##############################################################################
##############################################################################
###
### Running command:
###
###   rm -rf flowCL.buildbin-libdir && mkdir flowCL.buildbin-libdir && D:\biocbuild\bbs-3.14-bioc\R\bin\R.exe CMD INSTALL --merge-multiarch --build --library=flowCL.buildbin-libdir flowCL_1.31.0.tar.gz
###
##############################################################################
##############################################################################



install for i386

* installing *source* package 'flowCL' ...
** using staged installation
** R
** data
** inst
** byte-compile and prepare package for lazy loading
** help
*** installing help indices
  converting help for package 'flowCL'
    finding HTML links ... done
    flowCL-package                          html  
    flowCL                                  html  
    flowCL_archive                          html  
    test.flowCL.connection                  html  
** building package indices
** installing vignettes
** testing if installed package can be loaded from temporary location
** testing if installed package can be loaded from final location
** testing if installed package keeps a record of temporary installation path

install for x64

* installing *source* package 'flowCL' ...
** testing if installed package can be loaded
* MD5 sums
packaged installation of 'flowCL' as flowCL_1.31.0.zip
* DONE (flowCL)