Back to Multiple platform build/check report for BioC 3.14
ABCDE[F]GHIJKLMNOPQRSTUVWXYZ

This page was generated on 2021-07-30 12:04:59 -0400 (Fri, 30 Jul 2021).

BUILD results for flagme on riesling1

To the developers/maintainers of the flagme package:
- Please allow up to 24 hours (and sometimes 48 hours) for your latest push to git@git.bioconductor.org:packages/flagme.git to
reflect on this report. See How and When does the builder pull? When will my changes propagate? here for more information.
- Make sure to use the following settings in order to reproduce any error or warning you see on this page.

raw results

Package 627/2015HostnameOS / ArchINSTALLBUILDCHECKBUILD BIN
flagme 1.49.0  (landing page)
Mark Robinson , Riccardo Romoli
Snapshot Date: 2021-07-29 14:50:07 -0400 (Thu, 29 Jul 2021)
URL: https://git.bioconductor.org/packages/flagme
Branch: master
Last Commit: 214f9ee
Last Changed Date: 2021-05-19 11:42:23 -0400 (Wed, 19 May 2021)
nebbiolo2Linux (Ubuntu 20.04.2 LTS) / x86_64  OK    OK    WARNINGS  UNNEEDED, same version is already published
riesling1Windows Server 2019 Standard / x64  OK    OK    WARNINGS    OK  NO, package depends on 'xcms' which is not available
merida1macOS 10.14.6 Mojave / x86_64  OK    OK    WARNINGS    OK  UNNEEDED, same version is already published

Summary

Package: flagme
Version: 1.49.0
Command: chmod a+r flagme -R && D:\biocbuild\bbs-3.14-bioc\R\bin\R.exe CMD build --keep-empty-dirs --no-resave-data flagme
StartedAt: 2021-07-29 20:05:23 -0400 (Thu, 29 Jul 2021)
EndedAt: 2021-07-29 20:08:42 -0400 (Thu, 29 Jul 2021)
EllapsedTime: 199.5 seconds
RetCode: 0
Status:   OK  
PackageFile: flagme_1.49.0.tar.gz
PackageFileSize: 426.8 KiB

Command output

##############################################################################
##############################################################################
###
### Running command:
###
###   chmod a+r flagme -R && D:\biocbuild\bbs-3.14-bioc\R\bin\R.exe CMD build --keep-empty-dirs --no-resave-data flagme
###
##############################################################################
##############################################################################


* checking for file 'flagme/DESCRIPTION' ... OK
* preparing 'flagme':
* checking DESCRIPTION meta-information ... OK
* cleaning src
* installing the package to build vignettes
* creating vignettes ... OK
Warning: 'inst/doc' file
    'flagme.Rnw'
  ignored as vignettes have been rebuilt.
  Run R CMD build with --no-build-vignettes to prevent rebuilding.
* cleaning src
* checking for LF line-endings in source and make files and shell scripts
* checking for empty or unneeded directories
* building 'flagme_1.49.0.tar.gz'