Index of /checkResults/devel/bioc-LATEST/flagme/raw-results/nebbiolo2

[ICO]NameLast modifiedSizeDescription

[DIR]Parent Directory  -  
[TXT]buildsrc-out.txt26-Oct-2021 03:05 1.0K 
[   ]buildsrc-summary.dcf26-Oct-2021 03:05 415  
[TXT]checksrc-out.txt26-Oct-2021 03:05 4.4K 
[   ]checksrc-summary.dcf26-Oct-2021 03:05 426  
[TXT]install-out.txt26-Oct-2021 03:05 2.0K 
[   ]install-summary.dcf26-Oct-2021 03:05 257