Index of /checkResults/devel/bioc-LATEST/flagme/raw-results/merida1

[ICO]NameLast modifiedSizeDescription

[DIR]Parent Directory  -  
[TXT]buildbin-out.txt22-Oct-2021 01:05 2.8K 
[   ]buildbin-summary.dcf22-Oct-2021 01:05 524  
[TXT]buildsrc-out.txt22-Oct-2021 01:05 1.0K 
[   ]buildsrc-summary.dcf22-Oct-2021 01:05 425  
[TXT]checksrc-out.txt22-Oct-2021 01:05 4.7K 
[   ]checksrc-summary.dcf22-Oct-2021 01:05 446  
[TXT]install-out.txt22-Oct-2021 01:05 2.0K 
[   ]install-summary.dcf22-Oct-2021 01:05 267