Back to Multiple platform build/check report for BioC 3.14
ABCDE[F]GHIJKLMNOPQRSTUVWXYZ

This page was generated on 2021-08-03 12:06:44 -0400 (Tue, 03 Aug 2021).

INSTALL results for flagme on merida1

To the developers/maintainers of the flagme package:
- Please allow up to 24 hours (and sometimes 48 hours) for your latest push to git@git.bioconductor.org:packages/flagme.git to
reflect on this report. See How and When does the builder pull? When will my changes propagate? here for more information.
- Make sure to use the following settings in order to reproduce any error or warning you see on this page.

raw results

Package 627/2015HostnameOS / ArchINSTALLBUILDCHECKBUILD BIN
flagme 1.49.0  (landing page)
Mark Robinson , Riccardo Romoli
Snapshot Date: 2021-08-02 14:50:09 -0400 (Mon, 02 Aug 2021)
URL: https://git.bioconductor.org/packages/flagme
Branch: master
Last Commit: 214f9ee
Last Changed Date: 2021-05-19 11:42:23 -0400 (Wed, 19 May 2021)
nebbiolo2Linux (Ubuntu 20.04.2 LTS) / x86_64  OK    OK    WARNINGS  UNNEEDED, same version is already published
riesling1Windows Server 2019 Standard / x64  OK    OK    WARNINGS    OK  NO, package depends on 'xcms' which is not available
merida1macOS 10.14.6 Mojave / x86_64  OK    OK    WARNINGS    OK  UNNEEDED, same version is already published

Summary

Package: flagme
Version: 1.49.0
Command: /Library/Frameworks/R.framework/Resources/bin/R CMD INSTALL flagme
StartedAt: 2021-08-02 17:03:08 -0400 (Mon, 02 Aug 2021)
EndedAt: 2021-08-02 17:03:52 -0400 (Mon, 02 Aug 2021)
EllapsedTime: 44.2 seconds
RetCode: 0
Status:   OK  

Command output

##############################################################################
##############################################################################
###
### Running command:
###
###   /Library/Frameworks/R.framework/Resources/bin/R CMD INSTALL flagme
###
##############################################################################
##############################################################################


* installing to library ‘/Library/Frameworks/R.framework/Versions/4.1/Resources/library’
* installing *source* package ‘flagme’ ...
** using staged installation
** libs
clang -mmacosx-version-min=10.13 -I"/Library/Frameworks/R.framework/Resources/include" -DNDEBUG   -I/usr/local/include   -fPIC  -Wall -g -O2  -c dp.c -o dp.o
clang -mmacosx-version-min=10.13 -I"/Library/Frameworks/R.framework/Resources/include" -DNDEBUG   -I/usr/local/include   -fPIC  -Wall -g -O2  -c init.c -o init.o
clang -mmacosx-version-min=10.13 -I"/Library/Frameworks/R.framework/Resources/include" -DNDEBUG   -I/usr/local/include   -fPIC  -Wall -g -O2  -c pearson.c -o pearson.o
clang -mmacosx-version-min=10.13 -dynamiclib -Wl,-headerpad_max_install_names -undefined dynamic_lookup -single_module -multiply_defined suppress -L/Library/Frameworks/R.framework/Resources/lib -L/usr/local/lib -o flagme.so dp.o init.o pearson.o -F/Library/Frameworks/R.framework/.. -framework R -Wl,-framework -Wl,CoreFoundation
installing to /Library/Frameworks/R.framework/Versions/4.1/Resources/library/00LOCK-flagme/00new/flagme/libs
** R
** inst
** byte-compile and prepare package for lazy loading
Warning message:
multiple methods tables found for ‘bin’ 
** help
*** installing help indices
** building package indices
** installing vignettes
   ‘flagme.Rnw’ using ‘UTF-8’ 
** testing if installed package can be loaded from temporary location
Warning: multiple methods tables found for ‘bin’
** checking absolute paths in shared objects and dynamic libraries
** testing if installed package can be loaded from final location
Warning: multiple methods tables found for ‘bin’
** testing if installed package keeps a record of temporary installation path
* DONE (flagme)