Back to Multiple platform build/check report for BioC 3.14
ABCDE[F]GHIJKLMNOPQRSTUVWXYZ

This page was generated on 2021-08-03 12:06:44 -0400 (Tue, 03 Aug 2021).

BUILD results for flagme on merida1

To the developers/maintainers of the flagme package:
- Please allow up to 24 hours (and sometimes 48 hours) for your latest push to git@git.bioconductor.org:packages/flagme.git to
reflect on this report. See How and When does the builder pull? When will my changes propagate? here for more information.
- Make sure to use the following settings in order to reproduce any error or warning you see on this page.

raw results

Package 627/2015HostnameOS / ArchINSTALLBUILDCHECKBUILD BIN
flagme 1.49.0  (landing page)
Mark Robinson , Riccardo Romoli
Snapshot Date: 2021-08-02 14:50:09 -0400 (Mon, 02 Aug 2021)
URL: https://git.bioconductor.org/packages/flagme
Branch: master
Last Commit: 214f9ee
Last Changed Date: 2021-05-19 11:42:23 -0400 (Wed, 19 May 2021)
nebbiolo2Linux (Ubuntu 20.04.2 LTS) / x86_64  OK    OK    WARNINGS  UNNEEDED, same version is already published
riesling1Windows Server 2019 Standard / x64  OK    OK    WARNINGS    OK  NO, package depends on 'xcms' which is not available
merida1macOS 10.14.6 Mojave / x86_64  OK    OK    WARNINGS    OK  UNNEEDED, same version is already published

Summary

Package: flagme
Version: 1.49.0
Command: /Library/Frameworks/R.framework/Resources/bin/R CMD build --keep-empty-dirs --no-resave-data flagme
StartedAt: 2021-08-02 19:36:19 -0400 (Mon, 02 Aug 2021)
EndedAt: 2021-08-02 19:38:22 -0400 (Mon, 02 Aug 2021)
EllapsedTime: 122.2 seconds
RetCode: 0
Status:   OK  
PackageFile: flagme_1.49.0.tar.gz
PackageFileSize: 426 KiB

Command output

##############################################################################
##############################################################################
###
### Running command:
###
###   /Library/Frameworks/R.framework/Resources/bin/R CMD build --keep-empty-dirs --no-resave-data flagme
###
##############################################################################
##############################################################################


* checking for file ‘flagme/DESCRIPTION’ ... OK
* preparing ‘flagme’:
* checking DESCRIPTION meta-information ... OK
* cleaning src
* installing the package to build vignettes
* creating vignettes ... OK
Warning: ‘inst/doc’ file
    ‘flagme.Rnw’
  ignored as vignettes have been rebuilt.
  Run R CMD build with --no-build-vignettes to prevent rebuilding.
* cleaning src
* checking for LF line-endings in source and make files and shell scripts
* checking for empty or unneeded directories
* building ‘flagme_1.49.0.tar.gz’