Back to Multiple platform build/check report for BioC 3.14
ABCDE[F]GHIJKLMNOPQRSTUVWXYZ

This page was generated on 2021-08-02 12:04:44 -0400 (Mon, 02 Aug 2021).

INSTALL results for fgga on riesling1

To the developers/maintainers of the fgga package:
- Please allow up to 24 hours (and sometimes 48 hours) for your latest push to git@git.bioconductor.org:packages/fgga.git to
reflect on this report. See How and When does the builder pull? When will my changes propagate? here for more information.
- Make sure to use the following settings in order to reproduce any error or warning you see on this page.

raw results

Package 618/2015HostnameOS / ArchINSTALLBUILDCHECKBUILD BIN
fgga 1.1.0  (landing page)
Spetale Flavio
Snapshot Date: 2021-08-01 14:50:04 -0400 (Sun, 01 Aug 2021)
URL: https://git.bioconductor.org/packages/fgga
Branch: master
Last Commit: 3037f1e
Last Changed Date: 2021-05-19 13:03:00 -0400 (Wed, 19 May 2021)
nebbiolo2Linux (Ubuntu 20.04.2 LTS) / x86_64  ERROR    ERROR  skipped
riesling1Windows Server 2019 Standard / x64  ERROR    ERROR  skippedskipped
merida1macOS 10.14.6 Mojave / x86_64  ERROR    ERROR  skippedskipped

Summary

Package: fgga
Version: 1.1.0
Command: C:\cygwin\bin\curl.exe -O http://155.52.207.166/BBS/3.14/bioc/src/contrib/fgga_1.1.0.tar.gz && rm -rf fgga.buildbin-libdir && mkdir fgga.buildbin-libdir && D:\biocbuild\bbs-3.14-bioc\R\bin\R.exe CMD INSTALL --merge-multiarch --build --library=fgga.buildbin-libdir fgga_1.1.0.tar.gz && D:\biocbuild\bbs-3.14-bioc\R\bin\R.exe CMD INSTALL fgga_1.1.0.zip && rm fgga_1.1.0.tar.gz fgga_1.1.0.zip
StartedAt: 2021-08-01 16:49:40 -0400 (Sun, 01 Aug 2021)
EndedAt: 2021-08-01 16:52:27 -0400 (Sun, 01 Aug 2021)
EllapsedTime: 167.3 seconds
RetCode: 1
Status:   ERROR  

Command output

##############################################################################
##############################################################################
###
### Running command:
###
###   C:\cygwin\bin\curl.exe -O http://155.52.207.166/BBS/3.14/bioc/src/contrib/fgga_1.1.0.tar.gz && rm -rf fgga.buildbin-libdir && mkdir fgga.buildbin-libdir && D:\biocbuild\bbs-3.14-bioc\R\bin\R.exe CMD INSTALL --merge-multiarch --build --library=fgga.buildbin-libdir fgga_1.1.0.tar.gz && D:\biocbuild\bbs-3.14-bioc\R\bin\R.exe CMD INSTALL fgga_1.1.0.zip && rm fgga_1.1.0.tar.gz fgga_1.1.0.zip
###
##############################################################################
##############################################################################


  % Total    % Received % Xferd  Average Speed   Time    Time     Time  Current
                                 Dload  Upload   Total   Spent    Left  Speed

  0     0    0     0    0     0      0      0 --:--:-- --:--:-- --:--:--     0
  9  991k    9 94526    0     0   762k      0  0:00:01 --:--:--  0:00:01  756k
100  991k  100  991k    0     0  5030k      0 --:--:-- --:--:-- --:--:-- 5005k

install for i386

* installing *source* package 'fgga' ...
** using staged installation
** R
** data
** inst
** byte-compile and prepare package for lazy loading
** help
*** installing help indices
  converting help for package 'fgga'
    finding HTML links ... done
    CfData                                  html  
    createFolds                             html  
    fgga-package                            html  
    fgga                                    html  
    fgga2bipartite                          html  
    preCoreFG                               html  
    sumProduct                              html  
    svmGO                                   html  
    svmTrain                                html  
    tableTPG                                html  
    varianceGO                              html  
** building package indices
** installing vignettes
** testing if installed package can be loaded from temporary location
Error: package or namespace load failed for 'fgga':
 .onLoad failed in loadNamespace() for 'fgga', details:
  call: BiocFileCache()
  error: DEFUNCT: As of BiocFileCache (>1.15.1), default caching location has changed.
  Problematic cache: C:\Users\BIOCBU~1\AppData\Local/BiocFileCache/BiocFileCache/Cache
  See https://www.bioconductor.org/packages/devel/bioc/vignettes/BiocFileCache/inst/doc/BiocFileCache.html#default-caching-location-update

Error: loading failed
Execution halted
ERROR: loading failed
* removing 'D:/biocbuild/bbs-3.14-bioc/meat/fgga.buildbin-libdir/fgga'