Index of /checkResults/devel/bioc-LATEST/extraChIPs/raw-results/palomino4

[ICO]NameLast modifiedSizeDescription

[DIR]Parent Directory  -  
[TXT]install-out.txt12-Jun-2024 04:40 1.7K 
[   ]install-summary.dcf12-Jun-2024 04:40 273  
[TXT]buildsrc-out.txt12-Jun-2024 04:40 945  
[   ]buildsrc-summary.dcf12-Jun-2024 04:40 463  
[TXT]checksrc-out.txt12-Jun-2024 04:40 4.5K 
[   ]checksrc-summary.dcf12-Jun-2024 04:40 457  
[TXT]buildbin-out.txt12-Jun-2024 04:40 1.9K 
[   ]buildbin-summary.dcf12-Jun-2024 04:40 531