Index of /checkResults/devel/bioc-LATEST/extraChIPs/raw-results/nebbiolo2

[ICO]NameLast modifiedSizeDescription

[DIR]Parent Directory  -  
[   ]install-summary.dcf13-Jul-2024 01:29 264  
[   ]checksrc-summary.dcf13-Jul-2024 01:29 424  
[   ]buildsrc-summary.dcf13-Jul-2024 01:29 431  
[TXT]buildsrc-out.txt13-Jul-2024 01:29 934  
[TXT]install-out.txt13-Jul-2024 01:29 1.6K 
[TXT]checksrc-out.txt13-Jul-2024 01:29 3.9K