Index of /checkResults/devel/bioc-LATEST/extraChIPs/raw-results/nebbiolo2

[ICO]NameLast modifiedSizeDescription

[DIR]Parent Directory  -  
[TXT]buildsrc-out.txt25-Jun-2024 00:37 934  
[   ]buildsrc-summary.dcf25-Jun-2024 00:37 431  
[TXT]checksrc-out.txt25-Jun-2024 00:37 3.9K 
[   ]checksrc-summary.dcf25-Jun-2024 00:37 424  
[TXT]install-out.txt25-Jun-2024 00:37 1.6K 
[   ]install-summary.dcf25-Jun-2024 00:37 264