Index of /checkResults/devel/bioc-LATEST/extraChIPs/raw-results/lconway

[ICO]NameLast modifiedSizeDescription

[DIR]Parent Directory  -  
[TXT]buildbin-out.txt18-Jul-2024 00:41 3.9K 
[   ]buildbin-summary.dcf18-Jul-2024 00:41 545  
[TXT]buildsrc-out.txt18-Jul-2024 00:41 920  
[   ]buildsrc-summary.dcf18-Jul-2024 00:41 435  
[TXT]checksrc-out.txt18-Jul-2024 00:41 4.0K 
[   ]checksrc-summary.dcf18-Jul-2024 00:41 454  
[TXT]install-out.txt18-Jul-2024 00:41 1.9K 
[   ]install-summary.dcf18-Jul-2024 00:41 274