Index of /checkResults/devel/bioc-LATEST/extraChIPs/raw-results/kjohnson3

[ICO]NameLast modifiedSizeDescription

[DIR]Parent Directory  -  
[TXT]buildbin-out.txt18-Jul-2024 00:42 3.9K 
[   ]buildbin-summary.dcf18-Jul-2024 00:42 545  
[TXT]buildsrc-out.txt18-Jul-2024 00:42 920  
[   ]buildsrc-summary.dcf18-Jul-2024 00:42 434  
[TXT]checksrc-out.txt18-Jul-2024 00:42 4.0K 
[   ]checksrc-summary.dcf18-Jul-2024 00:42 454  
[TXT]install-out.txt18-Jul-2024 00:42 1.9K 
[   ]install-summary.dcf18-Jul-2024 00:42 274