Back to Multiple platform build/check report for BioC 3.14
ABCD[E]FGHIJKLMNOPQRSTUVWXYZ

This page was generated on 2021-09-25 12:05:28 -0400 (Sat, 25 Sep 2021).

BUILD results for epiNEM on riesling1

To the developers/maintainers of the epiNEM package:
- Please allow up to 24 hours (and sometimes 48 hours) for your latest push to git@git.bioconductor.org:packages/epiNEM.git to
reflect on this report. See How and When does the builder pull? When will my changes propagate? here for more information.
- Make sure to use the following settings in order to reproduce any error or warning you see on this page.

raw results

Package 577/2034HostnameOS / ArchINSTALLBUILDCHECKBUILD BIN
epiNEM 1.17.4  (landing page)
Martin Pirkl
Snapshot Date: 2021-09-24 14:50:08 -0400 (Fri, 24 Sep 2021)
git_url: https://git.bioconductor.org/packages/epiNEM
git_branch: master
git_last_commit: 9fb772d
git_last_commit_date: 2021-08-19 02:52:01 -0400 (Thu, 19 Aug 2021)
nebbiolo2Linux (Ubuntu 20.04.2 LTS) / x86_64  OK    OK    OK  UNNEEDED, same version is already published
riesling1Windows Server 2019 Standard / x64  OK    OK    OK    OK  UNNEEDED, same version is already published
merida1macOS 10.14.6 Mojave / x86_64  OK    OK    OK    OK  UNNEEDED, same version is already published

Summary

Package: epiNEM
Version: 1.17.4
Command: chmod a+r epiNEM -R && D:\biocbuild\bbs-3.14-bioc\R\bin\R.exe CMD build --keep-empty-dirs --no-resave-data epiNEM
StartedAt: 2021-09-24 20:41:35 -0400 (Fri, 24 Sep 2021)
EndedAt: 2021-09-24 20:48:45 -0400 (Fri, 24 Sep 2021)
EllapsedTime: 430.5 seconds
RetCode: 0
Status:   OK  
PackageFile: epiNEM_1.17.4.tar.gz
PackageFileSize: 895.6 KiB

Command output

##############################################################################
##############################################################################
###
### Running command:
###
###   chmod a+r epiNEM -R && D:\biocbuild\bbs-3.14-bioc\R\bin\R.exe CMD build --keep-empty-dirs --no-resave-data epiNEM
###
##############################################################################
##############################################################################


* checking for file 'epiNEM/DESCRIPTION' ... OK
* preparing 'epiNEM':
* checking DESCRIPTION meta-information ... OK
* installing the package to build vignettes
* creating vignettes ... OK
* checking for LF line-endings in source and make files and shell scripts
* checking for empty or unneeded directories
* building 'epiNEM_1.17.4.tar.gz'