Back to Multiple platform build/check report for BioC 3.14
ABC[D]EFGHIJKLMNOPQRSTUVWXYZ

This page was generated on 2021-09-18 12:06:37 -0400 (Sat, 18 Sep 2021).

BUILD BIN results for dupRadar on merida1

To the developers/maintainers of the dupRadar package:
- Please allow up to 24 hours (and sometimes 48 hours) for your latest push to git@git.bioconductor.org:packages/dupRadar.git to
reflect on this report. See How and When does the builder pull? When will my changes propagate? here for more information.
- Make sure to use the following settings in order to reproduce any error or warning you see on this page.

raw results

Package 536/2029HostnameOS / ArchINSTALLBUILDCHECKBUILD BIN
dupRadar 1.23.0  (landing page)
Sergi Sayols , Holger Klein
Snapshot Date: 2021-09-17 14:50:09 -0400 (Fri, 17 Sep 2021)
git_url: https://git.bioconductor.org/packages/dupRadar
git_branch: master
git_last_commit: ee87138
git_last_commit_date: 2021-05-19 12:15:40 -0400 (Wed, 19 May 2021)
nebbiolo2Linux (Ubuntu 20.04.2 LTS) / x86_64  OK    OK    OK  UNNEEDED, same version is already published
riesling1Windows Server 2019 Standard / x64... NOT SUPPORTED ...
merida1macOS 10.14.6 Mojave / x86_64  OK    OK    OK    OK  UNNEEDED, same version is already published

Summary

Package: dupRadar
Version: 1.23.0
Command: rm -rf dupRadar.buildbin-libdir && mkdir dupRadar.buildbin-libdir && /Users/biocbuild/BBS/utils/build-universal.sh dupRadar_1.23.0.tar.gz /Library/Frameworks/R.framework/Resources/bin/R dupRadar.buildbin-libdir
StartedAt: 2021-09-18 10:18:23 -0400 (Sat, 18 Sep 2021)
EndedAt: 2021-09-18 10:19:16 -0400 (Sat, 18 Sep 2021)
EllapsedTime: 53.1 seconds
RetCode: 0
Status:   OK  
PackageFile: dupRadar_1.23.0.tgz
PackageFileSize: 4.696 MiB

Command output

##############################################################################
##############################################################################
###
### Running command:
###
###   rm -rf dupRadar.buildbin-libdir && mkdir dupRadar.buildbin-libdir && /Users/biocbuild/BBS/utils/build-universal.sh dupRadar_1.23.0.tar.gz /Library/Frameworks/R.framework/Resources/bin/R dupRadar.buildbin-libdir
###
##############################################################################
##############################################################################


>>>>>>> 
>>>>>>> INSTALLATION WITH 'R CMD INSTALL --preclean --no-multiarch --library=dupRadar.buildbin-libdir dupRadar_1.23.0.tar.gz'
>>>>>>> 

* installing *source* package ‘dupRadar’ ...
** using staged installation
** R
** data
*** moving datasets to lazyload DB
** inst
** byte-compile and prepare package for lazy loading
** help
*** installing help indices
** building package indices
** installing vignettes
** testing if installed package can be loaded from temporary location
** testing if installed package can be loaded from final location
** testing if installed package keeps a record of temporary installation path
* DONE (dupRadar)