Back to Multiple platform build/check report for BioC 3.20:   simplified   long
ABC[D]EFGHIJKLMNOPQRSTUVWXYZ

This page was generated on 2024-05-15 13:46:31 -0400 (Wed, 15 May 2024).

HostnameOSArch (*)R versionInstalled pkgs
nebbiolo2Linux (Ubuntu 22.04.3 LTS)x86_644.4.0 RC (2024-04-16 r86468) -- "Puppy Cup" 4663
kunpeng2Linux (openEuler 22.03 LTS-SP1)aarch644.4.0 beta (2024-04-15 r86425) -- "Puppy Cup" 4480
Click on any hostname to see more info about the system (e.g. compilers)      (*) as reported by 'uname -p', except on Windows and Mac OS X

Package 600/2230HostnameOS / ArchINSTALLBUILDCHECKBUILD BIN
dupRadar 1.35.0  (landing page)
Sergi Sayols , Holger Klein
Snapshot Date: 2024-05-13 14:05:07 -0400 (Mon, 13 May 2024)
git_url: https://git.bioconductor.org/packages/dupRadar
git_branch: devel
git_last_commit: 59703ff
git_last_commit_date: 2024-04-30 10:45:49 -0400 (Tue, 30 Apr 2024)
nebbiolo2Linux (Ubuntu 22.04.3 LTS) / x86_64  OK    OK    OK  UNNEEDED, same version is already published
kunpeng2Linux (openEuler 22.03 LTS-SP1) / aarch64  OK    OK    OK  
kjohnson1macOS 13.6.6 Ventura / arm64see weekly results here

CHECK results for dupRadar on kunpeng2


To the developers/maintainers of the dupRadar package:
- Allow up to 24 hours (and sometimes 48 hours) for your latest push to git@git.bioconductor.org:packages/dupRadar.git to reflect on this report. See Troubleshooting Build Report for more information.
- Use the following Renviron settings to reproduce errors and warnings.
- If 'R CMD check' started to fail recently on the Linux builder(s) over a missing dependency, add the missing dependency to 'Suggests:' in your DESCRIPTION file. See Renviron.bioc for more information.
- See Martin Grigorov's blog post for how to debug Linux ARM64 related issues on a x86_64 host.

raw results


Summary

Package: dupRadar
Version: 1.34.0
Command: /home/biocbuild/R/R-beta-2024-04-15_r86425/bin/R CMD check --install=check:dupRadar.install-out.txt --library=/home/biocbuild/R/R-beta-2024-04-15_r86425/site-library --no-vignettes --timings dupRadar_1.34.0.tar.gz
StartedAt: 2024-05-09 07:01:19 -0000 (Thu, 09 May 2024)
EndedAt: 2024-05-09 07:02:07 -0000 (Thu, 09 May 2024)
EllapsedTime: 48.1 seconds
RetCode: 0
Status:   OK  
CheckDir: dupRadar.Rcheck
Warnings: 0

Command output

##############################################################################
##############################################################################
###
### Running command:
###
###   /home/biocbuild/R/R-beta-2024-04-15_r86425/bin/R CMD check --install=check:dupRadar.install-out.txt --library=/home/biocbuild/R/R-beta-2024-04-15_r86425/site-library --no-vignettes --timings dupRadar_1.34.0.tar.gz
###
##############################################################################
##############################################################################


* using log directory ‘/home/biocbuild/bbs-3.19-bioc/meat/dupRadar.Rcheck’
* using R version 4.4.0 beta (2024-04-15 r86425)
* using platform: aarch64-unknown-linux-gnu
* R was compiled by
    gcc (GCC) 10.3.1
    GNU Fortran (GCC) 10.3.1
* running under: openEuler 22.03 (LTS-SP1)
* using session charset: UTF-8
* using option ‘--no-vignettes’
* checking for file ‘dupRadar/DESCRIPTION’ ... OK
* checking extension type ... Package
* this is package ‘dupRadar’ version ‘1.34.0’
* package encoding: UTF-8
* checking package namespace information ... OK
* checking package dependencies ... OK
* checking if this is a source package ... OK
* checking if there is a namespace ... OK
* checking for hidden files and directories ... NOTE
Found the following hidden files and directories:
  .BBSoptions
These were most likely included in error. See section ‘Package
structure’ in the ‘Writing R Extensions’ manual.
* checking for portable file names ... OK
* checking for sufficient/correct file permissions ... OK
* checking whether package ‘dupRadar’ can be installed ... OK
* checking installed package size ... OK
* checking package directory ... OK
* checking ‘build’ directory ... OK
* checking DESCRIPTION meta-information ... OK
* checking top-level files ... OK
* checking for left-over files ... OK
* checking index information ... OK
* checking package subdirectories ... OK
* checking code files for non-ASCII characters ... OK
* checking R files for syntax errors ... OK
* checking whether the package can be loaded ... OK
* checking whether the package can be loaded with stated dependencies ... OK
* checking whether the package can be unloaded cleanly ... OK
* checking whether the namespace can be loaded with stated dependencies ... OK
* checking whether the namespace can be unloaded cleanly ... OK
* checking loading without being on the library search path ... OK
* checking dependencies in R code ... OK
* checking S3 generic/method consistency ... OK
* checking replacement functions ... OK
* checking foreign function calls ... OK
* checking R code for possible problems ... OK
* checking Rd files ... OK
* checking Rd metadata ... OK
* checking Rd cross-references ... OK
* checking for missing documentation entries ... OK
* checking for code/documentation mismatches ... OK
* checking Rd \usage sections ... OK
* checking Rd contents ... OK
* checking for unstated dependencies in examples ... OK
* checking contents of ‘data’ directory ... OK
* checking data for non-ASCII characters ... OK
* checking LazyData ... OK
* checking data for ASCII and uncompressed saves ... OK
* checking files in ‘vignettes’ ... OK
* checking examples ... OK
* checking for unstated dependencies in vignettes ... OK
* checking package vignettes ... OK
* checking running R code from vignettes ... SKIPPED
* checking re-building of vignette outputs ... SKIPPED
* checking PDF version of manual ... OK
* DONE

Status: 1 NOTE
See
  ‘/home/biocbuild/bbs-3.19-bioc/meat/dupRadar.Rcheck/00check.log’
for details.


Installation output

dupRadar.Rcheck/00install.out

##############################################################################
##############################################################################
###
### Running command:
###
###   /home/biocbuild/R/R-beta-2024-04-15_r86425/bin/R CMD INSTALL dupRadar
###
##############################################################################
##############################################################################


* installing to library ‘/home/biocbuild/R/R-beta-2024-04-15_r86425/site-library’
* installing *source* package ‘dupRadar’ ...
** using staged installation
** R
** data
*** moving datasets to lazyload DB
** inst
** byte-compile and prepare package for lazy loading
** help
*** installing help indices
** building package indices
** installing vignettes
** testing if installed package can be loaded from temporary location
** testing if installed package can be loaded from final location
** testing if installed package keeps a record of temporary installation path
* DONE (dupRadar)

Tests output


Example timings

dupRadar.Rcheck/dupRadar-Ex.timings

nameusersystemelapsed
analyzeDuprates0.0850.0170.185
cumulativeDuprateBarplot0.1530.0240.178
duprateExpBoxplot0.1910.0000.191
duprateExpDensPlot1.6260.0201.648
duprateExpFit0.0710.0000.071
duprateExpIdentify0.3550.0040.360
duprateExpPlot0.1050.0000.106
expressionHist0.0270.0000.027
getDupMatStats0.0240.0000.024
getDynamicRange0.6730.0000.675
markDuplicates0.0000.0000.001
readcountExpBoxplot0.080.000.08