Back to Multiple platform build/check report for BioC 3.14
ABC[D]EFGHIJKLMNOPQRSTUVWXYZ

All results for package dmrseq

This page was generated on 2021-06-16 12:04:13 -0400 (Wed, 16 Jun 2021).

Package 505/1993HostnameOS / ArchINSTALLBUILDCHECKBUILD BIN
dmrseq 1.13.0  (landing page)
Keegan Korthauer
Snapshot Date: 2021-06-15 14:50:06 -0400 (Tue, 15 Jun 2021)
URL: https://git.bioconductor.org/packages/dmrseq
Branch: master
Last Commit: 1f13e60
Last Changed Date: 2021-05-19 12:33:43 -0400 (Wed, 19 May 2021)
nebbiolo2Linux (Ubuntu 20.04.2 LTS) / x86_64  OK    OK    WARNINGS  UNNEEDED, same version is already published
riesling1Windows Server 2019 Standard / x64  OK    OK    WARNINGS    OK  NO, package depends on 'bumphunter' which is not available
merida1macOS 10.14.6 Mojave / x86_64  OK    OK    WARNINGS    OK  UNNEEDED, same version is already published

Results for Bioconductor software packages that depend directly on package dmrseq

QUICK STATSOS / ArchINSTALLBUILDCHECKBUILD BIN
nebbiolo2Linux (Ubuntu 20.04.2 LTS) / x86_64
001
010
0000
riesling1Windows Server 2019 Standard / x64
001
010
0000
000
merida1macOS 10.14.6 Mojave / x86_64
001
010
0000
000
Package 1/1HostnameOS / ArchINSTALLBUILDCHECKBUILD BIN
biscuiteer 1.7.0  (landing page)
"Jacob Morrison"
Last Commit: 82108b1
Last Changed Date: 2021-05-19 12:47:26 -0400
nebbiolo2Linux (Ubuntu 20.04.2 LTS) / x86_64  OK    ERROR  skipped
riesling1Windows Server 2019 Standard / x64  OK    ERROR  skippedskipped
merida1macOS 10.14.6 Mojave / x86_64  OK    ERROR  skippedskipped