Back to Multiple platform build/check report for BioC 3.14
ABC[D]EFGHIJKLMNOPQRSTUVWXYZ

This page was generated on 2021-06-17 12:04:30 -0400 (Thu, 17 Jun 2021).

All results for package distinct

To the developers/maintainers of the distinct package:
- Please allow up to 24 hours (and sometimes 48 hours) for your latest push to git@git.bioconductor.org:packages/distinct.git to
reflect on this report. See How and When does the builder pull? When will my changes propagate? here for more information.
- Make sure to use the following settings in order to reproduce any error or warning you see on this page.

raw results

Package 495/1993HostnameOS / ArchINSTALLBUILDCHECKBUILD BIN
distinct 1.5.0  (landing page)
Simone Tiberi
Snapshot Date: 2021-06-16 14:50:06 -0400 (Wed, 16 Jun 2021)
URL: https://git.bioconductor.org/packages/distinct
Branch: master
Last Commit: fb3d493
Last Changed Date: 2021-05-19 12:51:14 -0400 (Wed, 19 May 2021)
nebbiolo2Linux (Ubuntu 20.04.2 LTS) / x86_64  OK    ERROR  skipped
riesling1Windows Server 2019 Standard / x64  OK    OK    OK    OK  UNNEEDED, same version is already published
merida1macOS 10.14.6 Mojave / x86_64  OK    ERROR  skippedskipped