Back to Multiple platform build/check report for BioC 3.15
ABC[D]EFGHIJKLMNOPQRSTUVWXYZ

This page was generated on 2021-11-26 14:04:58 -0500 (Fri, 26 Nov 2021).

CHECK results for diffcyt on riesling1

To the developers/maintainers of the diffcyt package:
- Please allow up to 24 hours (and sometimes 48 hours) for your latest push to git@git.bioconductor.org:packages/diffcyt.git to
reflect on this report. See How and When does the builder pull? When will my changes propagate? here for more information.
- Make sure to use the following settings in order to reproduce any error or warning you see on this page.

raw results

Package 502/2068HostnameOS / ArchINSTALLBUILDCHECKBUILD BIN
diffcyt 1.15.0  (landing page)
Lukas M. Weber
Snapshot Date: 2021-11-25 14:50:11 -0500 (Thu, 25 Nov 2021)
git_url: https://git.bioconductor.org/packages/diffcyt
git_branch: master
git_last_commit: 4d4f49e
git_last_commit_date: 2021-10-26 12:43:31 -0500 (Tue, 26 Oct 2021)
nebbiolo1Linux (Ubuntu 20.04.3 LTS) / x86_64  OK    OK    OK  UNNEEDED, same version is already published
riesling1Windows Server 2019 Standard / x64  OK    OK    OK    OK  
merida1macOS 10.14.6 Mojave / x86_64  OK    OK    OK    OK  UNNEEDED, same version is already published

Summary

Package: diffcyt
Version: 1.15.0
Command: D:\biocbuild\bbs-3.15-bioc\R\bin\R.exe CMD check --force-multiarch --install=check:diffcyt.install-out.txt --library=D:\biocbuild\bbs-3.15-bioc\R\library --no-vignettes --timings diffcyt_1.15.0.tar.gz
StartedAt: 2021-11-26 01:12:17 -0500 (Fri, 26 Nov 2021)
EndedAt: 2021-11-26 01:17:51 -0500 (Fri, 26 Nov 2021)
EllapsedTime: 333.4 seconds
RetCode: 0
Status:   OK  
CheckDir: diffcyt.Rcheck
Warnings: 0

Command output

##############################################################################
##############################################################################
###
### Running command:
###
###   D:\biocbuild\bbs-3.15-bioc\R\bin\R.exe CMD check --force-multiarch --install=check:diffcyt.install-out.txt --library=D:\biocbuild\bbs-3.15-bioc\R\library --no-vignettes --timings diffcyt_1.15.0.tar.gz
###
##############################################################################
##############################################################################


* using log directory 'D:/biocbuild/bbs-3.15-bioc/meat/diffcyt.Rcheck'
* using R Under development (unstable) (2021-11-21 r81221)
* using platform: x86_64-w64-mingw32 (64-bit)
* using session charset: ISO8859-1
* using option '--no-vignettes'
* checking for file 'diffcyt/DESCRIPTION' ... OK
* this is package 'diffcyt' version '1.15.0'
* checking package namespace information ... OK
* checking package dependencies ... OK
* checking if this is a source package ... OK
* checking if there is a namespace ... OK
* checking for hidden files and directories ... OK
* checking for portable file names ... OK
* checking whether package 'diffcyt' can be installed ... OK
* checking installed package size ... OK
* checking package directory ... OK
* checking 'build' directory ... OK
* checking DESCRIPTION meta-information ... OK
* checking top-level files ... OK
* checking for left-over files ... OK
* checking index information ... OK
* checking package subdirectories ... OK
* checking R files for non-ASCII characters ... OK
* checking R files for syntax errors ... OK
* checking whether the package can be loaded ... OK
* checking whether the package can be loaded with stated dependencies ... OK
* checking whether the package can be unloaded cleanly ... OK
* checking whether the namespace can be loaded with stated dependencies ... OK
* checking whether the namespace can be unloaded cleanly ... OK
* checking dependencies in R code ... OK
* checking S3 generic/method consistency ... OK
* checking replacement functions ... OK
* checking foreign function calls ... OK
* checking R code for possible problems ... NOTE
calcCounts: no visible binding for global variable 'cluster_id'
calcCounts: no visible binding for global variable 'sample_id'
calcMedians: no visible binding for global variable 'cluster_id'
calcMedians: no visible binding for global variable 'sample_id'
calcMedians: no visible binding for global variable 'value'
calcMediansByClusterMarker: no visible binding for global variable
  'cluster_id'
calcMediansByClusterMarker: no visible binding for global variable
  'marker_id'
calcMediansByClusterMarker: no visible binding for global variable
  'value'
calcMediansBySampleMarker: no visible binding for global variable
  'sample_id'
calcMediansBySampleMarker: no visible binding for global variable
  'marker_id'
calcMediansBySampleMarker: no visible binding for global variable
  'value'
Undefined global functions or variables:
  cluster_id marker_id sample_id value
* checking Rd files ... OK
* checking Rd metadata ... OK
* checking Rd cross-references ... OK
* checking for missing documentation entries ... OK
* checking for code/documentation mismatches ... OK
* checking Rd \usage sections ... OK
* checking Rd contents ... OK
* checking for unstated dependencies in examples ... OK
* checking files in 'vignettes' ... OK
* checking examples ... OK
Examples with CPU (user + system) or elapsed time > 5s
            user system elapsed
diffcyt     5.77   0.08    5.86
testDA_GLMM 5.39   0.00    5.40
* checking for unstated dependencies in 'tests' ... OK
* checking tests ...
  Running 'testthat.R'
 OK
* checking for unstated dependencies in vignettes ... OK
* checking package vignettes in 'inst/doc' ... OK
* checking running R code from vignettes ... SKIPPED
* checking re-building of vignette outputs ... SKIPPED
* checking PDF version of manual ... OK
* DONE

Status: 1 NOTE
See
  'D:/biocbuild/bbs-3.15-bioc/meat/diffcyt.Rcheck/00check.log'
for details.



Installation output

diffcyt.Rcheck/00install.out

##############################################################################
##############################################################################
###
### Running command:
###
###   C:\cygwin\bin\curl.exe -O http://155.52.207.165/BBS/3.15/bioc/src/contrib/diffcyt_1.15.0.tar.gz && rm -rf diffcyt.buildbin-libdir && mkdir diffcyt.buildbin-libdir && D:\biocbuild\bbs-3.15-bioc\R\bin\R.exe CMD INSTALL --merge-multiarch --build --library=diffcyt.buildbin-libdir diffcyt_1.15.0.tar.gz && D:\biocbuild\bbs-3.15-bioc\R\bin\R.exe CMD INSTALL diffcyt_1.15.0.zip && rm diffcyt_1.15.0.tar.gz diffcyt_1.15.0.zip
###
##############################################################################
##############################################################################


  % Total    % Received % Xferd  Average Speed   Time    Time     Time  Current
                                 Dload  Upload   Total   Spent    Left  Speed

  0     0    0     0    0     0      0      0 --:--:-- --:--:-- --:--:--     0
 21  190k   21 41637    0     0   271k      0 --:--:-- --:--:-- --:--:--  269k
100  190k  100  190k    0     0   750k      0 --:--:-- --:--:-- --:--:--  747k
only one architecture so ignoring '--merge-multiarch'
* installing *source* package 'diffcyt' ...
** using staged installation
** R
** inst
** byte-compile and prepare package for lazy loading
** help
*** installing help indices
  converting help for package 'diffcyt'
    finding HTML links ... done
    calcCounts                              html  
    finding level-2 HTML links ... done

    calcMedians                             html  
    calcMediansByClusterMarker              html  
    calcMediansBySampleMarker               html  
    createContrast                          html  
    createDesignMatrix                      html  
    createFormula                           html  
    diffcyt                                 html  
    generateClusters                        html  
    plotHeatmap                             html  
    prepareData                             html  
    testDA_GLMM                             html  
    testDA_edgeR                            html  
    testDA_voom                             html  
    testDS_LMM                              html  
    testDS_limma                            html  
    topClusters                             html  
    topTable                                html  
    transformData                           html  
** building package indices
** installing vignettes
** testing if installed package can be loaded from temporary location
** testing if installed package can be loaded from final location
** testing if installed package keeps a record of temporary installation path
* MD5 sums
packaged installation of 'diffcyt' as diffcyt_1.15.0.zip
* DONE (diffcyt)
* installing to library 'D:/biocbuild/bbs-3.15-bioc/R/library'
package 'diffcyt' successfully unpacked and MD5 sums checked

Tests output

diffcyt.Rcheck/tests/testthat.Rout


R Under development (unstable) (2021-11-21 r81221) -- "Unsuffered Consequences"
Copyright (C) 2021 The R Foundation for Statistical Computing
Platform: x86_64-w64-mingw32/x64 (64-bit)

R is free software and comes with ABSOLUTELY NO WARRANTY.
You are welcome to redistribute it under certain conditions.
Type 'license()' or 'licence()' for distribution details.

R is a collaborative project with many contributors.
Type 'contributors()' for more information and
'citation()' on how to cite R or R packages in publications.

Type 'demo()' for some demos, 'help()' for on-line help, or
'help.start()' for an HTML browser interface to help.
Type 'q()' to quit R.

> library(testthat)
> library(diffcyt)
> 
> test_check("diffcyt")
[ FAIL 0 | WARN 0 | SKIP 0 | PASS 8 ]
> 
> proc.time()
   user  system elapsed 
   6.81    0.62    7.42 

Example timings

diffcyt.Rcheck/diffcyt-Ex.timings

nameusersystemelapsed
calcCounts1.120.011.16
calcMedians1.200.021.23
calcMediansByClusterMarker0.910.030.94
calcMediansBySampleMarker0.810.050.86
createContrast000
createDesignMatrix0.000.010.01
createFormula000
diffcyt5.770.085.86
generateClusters0.870.000.89
plotHeatmap3.500.023.52
prepareData0.020.000.02
testDA_GLMM5.390.005.40
testDA_edgeR1.050.001.05
testDA_voom1.040.001.05
testDS_LMM2.780.002.79
testDS_limma1.470.001.49
topTable2.680.002.68
transformData0.030.000.04