Back to Multiple platform build/check report for BioC 3.15
ABC[D]EFGHIJKLMNOPQRSTUVWXYZ

This page was generated on 2021-11-26 14:04:58 -0500 (Fri, 26 Nov 2021).

BUILD BIN results for diffcyt on riesling1

To the developers/maintainers of the diffcyt package:
- Please allow up to 24 hours (and sometimes 48 hours) for your latest push to git@git.bioconductor.org:packages/diffcyt.git to
reflect on this report. See How and When does the builder pull? When will my changes propagate? here for more information.
- Make sure to use the following settings in order to reproduce any error or warning you see on this page.

raw results

Package 502/2068HostnameOS / ArchINSTALLBUILDCHECKBUILD BIN
diffcyt 1.15.0  (landing page)
Lukas M. Weber
Snapshot Date: 2021-11-25 14:50:11 -0500 (Thu, 25 Nov 2021)
git_url: https://git.bioconductor.org/packages/diffcyt
git_branch: master
git_last_commit: 4d4f49e
git_last_commit_date: 2021-10-26 12:43:31 -0500 (Tue, 26 Oct 2021)
nebbiolo1Linux (Ubuntu 20.04.3 LTS) / x86_64  OK    OK    OK  UNNEEDED, same version is already published
riesling1Windows Server 2019 Standard / x64  OK    OK    OK    OK  
merida1macOS 10.14.6 Mojave / x86_64  OK    OK    OK    OK  UNNEEDED, same version is already published

Summary

Package: diffcyt
Version: 1.15.0
Command: rm -rf diffcyt.buildbin-libdir && mkdir diffcyt.buildbin-libdir && D:\biocbuild\bbs-3.15-bioc\R\bin\R.exe CMD INSTALL --merge-multiarch --build --library=diffcyt.buildbin-libdir diffcyt_1.15.0.tar.gz
StartedAt: 2021-11-26 05:28:50 -0500 (Fri, 26 Nov 2021)
EndedAt: 2021-11-26 05:33:39 -0500 (Fri, 26 Nov 2021)
EllapsedTime: 289.1 seconds
RetCode: 0
Status:   OK  
PackageFile: diffcyt_1.15.0.zip
PackageFileSize: 736.6 KiB

Command output

##############################################################################
##############################################################################
###
### Running command:
###
###   rm -rf diffcyt.buildbin-libdir && mkdir diffcyt.buildbin-libdir && D:\biocbuild\bbs-3.15-bioc\R\bin\R.exe CMD INSTALL --merge-multiarch --build --library=diffcyt.buildbin-libdir diffcyt_1.15.0.tar.gz
###
##############################################################################
##############################################################################


only one architecture so ignoring '--merge-multiarch'
* installing *source* package 'diffcyt' ...
** using staged installation
** R
** inst
** byte-compile and prepare package for lazy loading
** help
*** installing help indices
  converting help for package 'diffcyt'
    finding HTML links ... done
    calcCounts                              html  
    finding level-2 HTML links ... done

    calcMedians                             html  
    calcMediansByClusterMarker              html  
    calcMediansBySampleMarker               html  
    createContrast                          html  
    createDesignMatrix                      html  
    createFormula                           html  
    diffcyt                                 html  
    generateClusters                        html  
    plotHeatmap                             html  
    prepareData                             html  
    testDA_GLMM                             html  
    testDA_edgeR                            html  
    testDA_voom                             html  
    testDS_LMM                              html  
    testDS_limma                            html  
    topClusters                             html  
    topTable                                html  
    transformData                           html  
** building package indices
** installing vignettes
** testing if installed package can be loaded from temporary location
** testing if installed package can be loaded from final location
** testing if installed package keeps a record of temporary installation path
* MD5 sums
packaged installation of 'diffcyt' as diffcyt_1.15.0.zip
* DONE (diffcyt)