Back to Multiple platform build/check report for BioC 3.15
ABC[D]EFGHIJKLMNOPQRSTUVWXYZ

This page was generated on 2021-11-27 14:05:36 -0500 (Sat, 27 Nov 2021).

BUILD results for diffcyt on merida1

To the developers/maintainers of the diffcyt package:
- Please allow up to 24 hours (and sometimes 48 hours) for your latest push to git@git.bioconductor.org:packages/diffcyt.git to
reflect on this report. See How and When does the builder pull? When will my changes propagate? here for more information.
- Make sure to use the following settings in order to reproduce any error or warning you see on this page.

raw results

Package 502/2068HostnameOS / ArchINSTALLBUILDCHECKBUILD BIN
diffcyt 1.15.0  (landing page)
Lukas M. Weber
Snapshot Date: 2021-11-26 14:50:14 -0500 (Fri, 26 Nov 2021)
git_url: https://git.bioconductor.org/packages/diffcyt
git_branch: master
git_last_commit: 4d4f49e
git_last_commit_date: 2021-10-26 12:43:31 -0500 (Tue, 26 Oct 2021)
nebbiolo1Linux (Ubuntu 20.04.3 LTS) / x86_64  OK    OK    OK  UNNEEDED, same version is already published
riesling1Windows Server 2019 Standard / x64  OK    OK    OK    OK  
merida1macOS 10.14.6 Mojave / x86_64  OK    OK    OK    OK  UNNEEDED, same version is already published

Summary

Package: diffcyt
Version: 1.15.0
Command: /Library/Frameworks/R.framework/Resources/bin/R CMD build --keep-empty-dirs --no-resave-data diffcyt
StartedAt: 2021-11-26 19:37:49 -0500 (Fri, 26 Nov 2021)
EndedAt: 2021-11-26 19:40:31 -0500 (Fri, 26 Nov 2021)
EllapsedTime: 161.9 seconds
RetCode: 0
Status:   OK  
PackageFile: diffcyt_1.15.0.tar.gz
PackageFileSize: 771.8 KiB

Command output

##############################################################################
##############################################################################
###
### Running command:
###
###   /Library/Frameworks/R.framework/Resources/bin/R CMD build --keep-empty-dirs --no-resave-data diffcyt
###
##############################################################################
##############################################################################


* checking for file ‘diffcyt/DESCRIPTION’ ... OK
* preparing ‘diffcyt’:
* checking DESCRIPTION meta-information ... OK
* installing the package to build vignettes
* creating vignettes ... OK
* checking for LF line-endings in source and make files and shell scripts
* checking for empty or unneeded directories
* building ‘diffcyt_1.15.0.tar.gz’