Back to Multiple platform build/check report for BioC 3.15
ABC[D]EFGHIJKLMNOPQRSTUVWXYZ

This page was generated on 2021-11-27 14:04:06 -0500 (Sat, 27 Nov 2021).

All results for package diffcyt

To the developers/maintainers of the diffcyt package:
- Please allow up to 24 hours (and sometimes 48 hours) for your latest push to git@git.bioconductor.org:packages/diffcyt.git to
reflect on this report. See How and When does the builder pull? When will my changes propagate? here for more information.
- Make sure to use the following settings in order to reproduce any error or warning you see on this page.

raw results

Package 502/2068HostnameOS / ArchINSTALLBUILDCHECKBUILD BIN
diffcyt 1.15.0  (landing page)
Lukas M. Weber
Snapshot Date: 2021-11-26 14:50:14 -0500 (Fri, 26 Nov 2021)
git_url: https://git.bioconductor.org/packages/diffcyt
git_branch: master
git_last_commit: 4d4f49e
git_last_commit_date: 2021-10-26 12:43:31 -0500 (Tue, 26 Oct 2021)
nebbiolo1Linux (Ubuntu 20.04.3 LTS) / x86_64  OK    OK    OK  UNNEEDED, same version is already published
riesling1Windows Server 2019 Standard / x64  OK    OK    OK    OK  
merida1macOS 10.14.6 Mojave / x86_64  OK    OK    OK    OK  UNNEEDED, same version is already published

Results for Bioconductor software packages that depend directly on package diffcyt

QUICK STATSOS / ArchINSTALLBUILDCHECKBUILD BIN
nebbiolo1Linux (Ubuntu 20.04.3 LTS) / x86_64
003
003
0012
riesling1Windows Server 2019 Standard / x64
003
003
0111
003
merida1macOS 10.14.6 Mojave / x86_64
003
003
0111
003
Package 1/3HostnameOS / ArchINSTALLBUILDCHECKBUILD BIN
censcyt 1.3.0  (landing page)
Reto Gerber
git_last_commit: 10f9f74
git_last_commit_date: 2021-10-26 13:05:50 -0500
nebbiolo1Linux (Ubuntu 20.04.3 LTS) / x86_64  OK    OK    OK  UNNEEDED, same version is already published
riesling1Windows Server 2019 Standard / x64  OK    OK    ERROR    OK  
merida1macOS 10.14.6 Mojave / x86_64  OK    OK    ERROR    OK  
Package 2/3HostnameOS / ArchINSTALLBUILDCHECKBUILD BIN
CyTOFpower 1.1.0  (landing page)
Anne-Maud Ferreira
git_last_commit: 6024ae9
git_last_commit_date: 2021-10-26 13:13:28 -0500
nebbiolo1Linux (Ubuntu 20.04.3 LTS) / x86_64  OK    OK    OK  UNNEEDED, same version is already published
riesling1Windows Server 2019 Standard / x64  OK    OK    OK    OK  
merida1macOS 10.14.6 Mojave / x86_64  OK    OK    OK    OK  UNNEEDED, same version is already published
Package 3/3HostnameOS / ArchINSTALLBUILDCHECKBUILD BIN
treekoR 1.3.0  (landing page)
Adam Chan
git_last_commit: ed859ad
git_last_commit_date: 2021-10-26 13:08:55 -0500
nebbiolo1Linux (Ubuntu 20.04.3 LTS) / x86_64  OK    OK    WARNINGS  UNNEEDED, same version is already published
riesling1Windows Server 2019 Standard / x64  OK    OK    WARNINGS    OK  
merida1macOS 10.14.6 Mojave / x86_64  OK    OK    WARNINGS    OK  UNNEEDED, same version is already published