Back to Multiple platform build/check report for BioC 3.14
ABC[D]EFGHIJKLMNOPQRSTUVWXYZ

This page was generated on 2021-09-18 12:06:36 -0400 (Sat, 18 Sep 2021).

BUILD BIN results for diffUTR on merida1

To the developers/maintainers of the diffUTR package:
- Please allow up to 24 hours (and sometimes 48 hours) for your latest push to git@git.bioconductor.org:packages/diffUTR.git to
reflect on this report. See How and When does the builder pull? When will my changes propagate? here for more information.
- Make sure to use the following settings in order to reproduce any error or warning you see on this page.

raw results

Package 496/2029HostnameOS / ArchINSTALLBUILDCHECKBUILD BIN
diffUTR 1.1.1  (landing page)
Pierre-Luc Germain
Snapshot Date: 2021-09-17 14:50:09 -0400 (Fri, 17 Sep 2021)
git_url: https://git.bioconductor.org/packages/diffUTR
git_branch: master
git_last_commit: dc72a02
git_last_commit_date: 2021-07-28 02:58:58 -0400 (Wed, 28 Jul 2021)
nebbiolo2Linux (Ubuntu 20.04.2 LTS) / x86_64  OK    OK    ERROR  
riesling1Windows Server 2019 Standard / x64  OK    OK    ERROR    OK  
merida1macOS 10.14.6 Mojave / x86_64  OK    OK    ERROR    OK  

Summary

Package: diffUTR
Version: 1.1.1
Command: rm -rf diffUTR.buildbin-libdir && mkdir diffUTR.buildbin-libdir && /Users/biocbuild/BBS/utils/build-universal.sh diffUTR_1.1.1.tar.gz /Library/Frameworks/R.framework/Resources/bin/R diffUTR.buildbin-libdir
StartedAt: 2021-09-18 10:15:33 -0400 (Sat, 18 Sep 2021)
EndedAt: 2021-09-18 10:16:16 -0400 (Sat, 18 Sep 2021)
EllapsedTime: 43.3 seconds
RetCode: 0
Status:   OK  
PackageFile: diffUTR_1.1.1.tgz
PackageFileSize: 1.351 MiB

Command output

##############################################################################
##############################################################################
###
### Running command:
###
###   rm -rf diffUTR.buildbin-libdir && mkdir diffUTR.buildbin-libdir && /Users/biocbuild/BBS/utils/build-universal.sh diffUTR_1.1.1.tar.gz /Library/Frameworks/R.framework/Resources/bin/R diffUTR.buildbin-libdir
###
##############################################################################
##############################################################################


>>>>>>> 
>>>>>>> INSTALLATION WITH 'R CMD INSTALL --preclean --no-multiarch --library=diffUTR.buildbin-libdir diffUTR_1.1.1.tar.gz'
>>>>>>> 

* installing *source* package ‘diffUTR’ ...
** using staged installation
** R
** data
** inst
** byte-compile and prepare package for lazy loading
** help
*** installing help indices
** building package indices
** installing vignettes
** testing if installed package can be loaded from temporary location
** testing if installed package can be loaded from final location
** testing if installed package keeps a record of temporary installation path
* DONE (diffUTR)