Index of /checkResults/devel/bioc-LATEST/decontX/raw-results

[ICO]NameLast modifiedSizeDescription

[DIR]Parent Directory  -  
[   ]info.dcf14-Jun-2024 01:17 259  
[DIR]kjohnson1/12-Jun-2024 04:42 -  
[DIR]kjohnson3/14-Jun-2024 01:20 -  
[DIR]kunpeng2/16-May-2024 02:46 -  
[DIR]lconway/14-Jun-2024 01:19 -  
[DIR]merida1/12-Jun-2024 04:41 -  
[DIR]nebbiolo2/14-Jun-2024 01:18 -  
[DIR]palomino4/12-Jun-2024 04:40 -