Back to Multiple platform build/check report for BioC 3.20:   simplified   long
ABC[D]EFGHIJKLMNOPQRSTUVWXYZ

This page was generated on 2024-07-13 11:41 -0400 (Sat, 13 Jul 2024).

HostnameOSArch (*)R versionInstalled pkgs
nebbiolo2Linux (Ubuntu 22.04.3 LTS)x86_644.4.1 (2024-06-14) -- "Race for Your Life" 4677
palomino6Windows Server 2022 Datacenterx644.4.1 (2024-06-14 ucrt) -- "Race for Your Life" 4416
lconwaymacOS 12.7.1 Montereyx86_644.4.1 (2024-06-14) -- "Race for Your Life" 4444
kjohnson3macOS 13.6.5 Venturaarm644.4.1 (2024-06-14) -- "Race for Your Life" 4393
palomino8Windows Server 2022 Datacenterx644.4.1 (2024-06-14 ucrt) -- "Race for Your Life" 4373
Click on any hostname to see more info about the system (e.g. compilers)      (*) as reported by 'uname -p', except on Windows and Mac OS X

Package 511/2243HostnameOS / ArchINSTALLBUILDCHECKBUILD BIN
decontX 1.3.0  (landing page)
Yuan Yin
Snapshot Date: 2024-07-12 14:00 -0400 (Fri, 12 Jul 2024)
git_url: https://git.bioconductor.org/packages/decontX
git_branch: devel
git_last_commit: 5d43c57
git_last_commit_date: 2024-04-30 11:52:45 -0400 (Tue, 30 Apr 2024)
nebbiolo2Linux (Ubuntu 22.04.3 LTS) / x86_64  OK    OK    OK  UNNEEDED, same version is already published
palomino6Windows Server 2022 Datacenter / x64  OK    OK    OK    OK  
lconwaymacOS 12.7.1 Monterey / x86_64  OK    OK    OK    OK  UNNEEDED, same version is already published
kjohnson3macOS 13.6.5 Ventura / arm64  OK    OK    WARNINGS    OK  UNNEEDED, same version is already published
palomino8Windows Server 2022 Datacenter / x64  OK    OK    OK    OK  


CHECK results for decontX on lconway

To the developers/maintainers of the decontX package:
- Allow up to 24 hours (and sometimes 48 hours) for your latest push to git@git.bioconductor.org:packages/decontX.git to reflect on this report. See Troubleshooting Build Report for more information.
- Use the following Renviron settings to reproduce errors and warnings.
- If 'R CMD check' started to fail recently on the Linux builder(s) over a missing dependency, add the missing dependency to 'Suggests:' in your DESCRIPTION file. See Renviron.bioc for more information.

raw results


Summary

Package: decontX
Version: 1.3.0
Command: /Library/Frameworks/R.framework/Resources/bin/R CMD check --install=check:decontX.install-out.txt --library=/Library/Frameworks/R.framework/Resources/library --no-vignettes --timings decontX_1.3.0.tar.gz
StartedAt: 2024-07-12 19:58:39 -0400 (Fri, 12 Jul 2024)
EndedAt: 2024-07-12 20:06:08 -0400 (Fri, 12 Jul 2024)
EllapsedTime: 449.4 seconds
RetCode: 0
Status:   OK  
CheckDir: decontX.Rcheck
Warnings: 0

Command output

##############################################################################
##############################################################################
###
### Running command:
###
###   /Library/Frameworks/R.framework/Resources/bin/R CMD check --install=check:decontX.install-out.txt --library=/Library/Frameworks/R.framework/Resources/library --no-vignettes --timings decontX_1.3.0.tar.gz
###
##############################################################################
##############################################################################


* using log directory ‘/Users/biocbuild/bbs-3.20-bioc/meat/decontX.Rcheck’
* using R version 4.4.1 (2024-06-14)
* using platform: x86_64-apple-darwin20
* R was compiled by
    Apple clang version 14.0.0 (clang-1400.0.29.202)
    GNU Fortran (GCC) 12.2.0
* running under: macOS Monterey 12.7.1
* using session charset: UTF-8
* using option ‘--no-vignettes’
* checking for file ‘decontX/DESCRIPTION’ ... OK
* this is package ‘decontX’ version ‘1.3.0’
* package encoding: UTF-8
* checking package namespace information ... OK
* checking package dependencies ... OK
* checking if this is a source package ... OK
* checking if there is a namespace ... OK
* checking for hidden files and directories ... OK
* checking for portable file names ... OK
* checking for sufficient/correct file permissions ... OK
* checking whether package ‘decontX’ can be installed ... OK
* used C compiler: ‘Apple clang version 14.0.0 (clang-1400.0.29.202)’
* used C++ compiler: ‘Apple clang version 14.0.0 (clang-1400.0.29.202)’
* used SDK: ‘MacOSX11.3.sdk’
* checking C++ specification ... OK
  Not all R platforms support C++17
* checking installed package size ... OK
* checking package directory ... OK
* checking ‘build’ directory ... OK
* checking DESCRIPTION meta-information ... NOTE
License stub is invalid DCF.
* checking top-level files ... OK
* checking for left-over files ... OK
* checking index information ... OK
* checking package subdirectories ... OK
* checking code files for non-ASCII characters ... OK
* checking R files for syntax errors ... OK
* checking whether the package can be loaded ... OK
* checking whether the package can be loaded with stated dependencies ... OK
* checking whether the package can be unloaded cleanly ... OK
* checking whether the namespace can be loaded with stated dependencies ... OK
* checking whether the namespace can be unloaded cleanly ... OK
* checking dependencies in R code ... OK
* checking S3 generic/method consistency ... OK
* checking replacement functions ... OK
* checking foreign function calls ... OK
* checking R code for possible problems ... OK
* checking Rd files ... OK
* checking Rd metadata ... OK
* checking Rd cross-references ... OK
* checking for missing documentation entries ... OK
* checking for code/documentation mismatches ... OK
* checking Rd \usage sections ... OK
* checking Rd contents ... OK
* checking for unstated dependencies in examples ... OK
* checking line endings in shell scripts ... OK
* checking line endings in C/C++/Fortran sources/headers ... OK
* checking line endings in Makefiles ... OK
* checking compilation flags in Makevars ... OK
* checking for GNU extensions in Makefiles ... NOTE
GNU make is a SystemRequirements.
* checking for portable use of $(BLAS_LIBS) and $(LAPACK_LIBS) ... OK
* checking use of PKG_*FLAGS in Makefiles ... OK
* checking compiled code ... NOTE
Note: information on .o files is not available
* checking files in ‘vignettes’ ... OK
* checking examples ... OK
Examples with CPU (user + system) or elapsed time > 5s
                              user system elapsed
decontX                     12.805  0.505  13.381
decontPro                   11.074  0.433  11.604
plotDecontXMarkerPercentage 10.919  0.195  11.238
plotDecontXContamination    10.705  0.177  10.923
plotDecontXMarkerExpression 10.679  0.158  10.884
* checking for unstated dependencies in ‘tests’ ... OK
* checking tests ...
  Running ‘testthat.R’
 OK
* checking for unstated dependencies in vignettes ... OK
* checking package vignettes ... OK
* checking running R code from vignettes ... SKIPPED
* checking re-building of vignette outputs ... SKIPPED
* checking PDF version of manual ... OK
* DONE

Status: 3 NOTEs
See
  ‘/Users/biocbuild/bbs-3.20-bioc/meat/decontX.Rcheck/00check.log’
for details.


Installation output

decontX.Rcheck/00install.out

##############################################################################
##############################################################################
###
### Running command:
###
###   /Library/Frameworks/R.framework/Resources/bin/R CMD INSTALL decontX
###
##############################################################################
##############################################################################


* installing to library ‘/Library/Frameworks/R.framework/Versions/4.4-x86_64/Resources/library’
* installing *source* package ‘decontX’ ...
** using staged installation
** libs
using C compiler: ‘Apple clang version 14.0.0 (clang-1400.0.29.202)’
using C++ compiler: ‘Apple clang version 14.0.0 (clang-1400.0.29.202)’
using C++17
using SDK: ‘MacOSX11.3.sdk’


clang++ -arch x86_64 -std=gnu++17 -I"/Library/Frameworks/R.framework/Resources/include" -DNDEBUG -I"../inst/include" -I"/Library/Frameworks/R.framework/Versions/4.4-x86_64/Resources/library/StanHeaders/include/src" -DBOOST_DISABLE_ASSERTS -DEIGEN_NO_DEBUG -DBOOST_MATH_OVERFLOW_ERROR_POLICY=errno_on_error -DUSE_STANC3 -D_HAS_AUTO_PTR_ETC=0 -I'/Library/Frameworks/R.framework/Versions/4.4-x86_64/Resources/library/BH/include' -I'/Library/Frameworks/R.framework/Versions/4.4-x86_64/Resources/library/Rcpp/include' -I'/Library/Frameworks/R.framework/Versions/4.4-x86_64/Resources/library/RcppEigen/include' -I'/Library/Frameworks/R.framework/Versions/4.4-x86_64/Resources/library/RcppParallel/include' -I'/Library/Frameworks/R.framework/Versions/4.4-x86_64/Resources/library/rstan/include' -I'/Library/Frameworks/R.framework/Versions/4.4-x86_64/Resources/library/StanHeaders/include' -I/opt/R/x86_64/include    -I'/Library/Frameworks/R.framework/Versions/4.4-x86_64/Resources/library/RcppParallel/include' -D_REENTRANT -DSTAN_THREADS   -fPIC  -falign-functions=64 -Wall -g -O2   -c DecontX.cpp -o DecontX.o
DecontX.cpp:321:10: warning: variable 'x' set but not used [-Wunused-but-set-variable]
  double x;
         ^
1 warning generated.


clang++ -arch x86_64 -std=gnu++17 -I"/Library/Frameworks/R.framework/Resources/include" -DNDEBUG -I"../inst/include" -I"/Library/Frameworks/R.framework/Versions/4.4-x86_64/Resources/library/StanHeaders/include/src" -DBOOST_DISABLE_ASSERTS -DEIGEN_NO_DEBUG -DBOOST_MATH_OVERFLOW_ERROR_POLICY=errno_on_error -DUSE_STANC3 -D_HAS_AUTO_PTR_ETC=0 -I'/Library/Frameworks/R.framework/Versions/4.4-x86_64/Resources/library/BH/include' -I'/Library/Frameworks/R.framework/Versions/4.4-x86_64/Resources/library/Rcpp/include' -I'/Library/Frameworks/R.framework/Versions/4.4-x86_64/Resources/library/RcppEigen/include' -I'/Library/Frameworks/R.framework/Versions/4.4-x86_64/Resources/library/RcppParallel/include' -I'/Library/Frameworks/R.framework/Versions/4.4-x86_64/Resources/library/rstan/include' -I'/Library/Frameworks/R.framework/Versions/4.4-x86_64/Resources/library/StanHeaders/include' -I/opt/R/x86_64/include    -I'/Library/Frameworks/R.framework/Versions/4.4-x86_64/Resources/library/RcppParallel/include' -D_REENTRANT -DSTAN_THREADS   -fPIC  -falign-functions=64 -Wall -g -O2   -c RcppExports.cpp -o RcppExports.o


clang++ -arch x86_64 -std=gnu++17 -I"/Library/Frameworks/R.framework/Resources/include" -DNDEBUG -I"../inst/include" -I"/Library/Frameworks/R.framework/Versions/4.4-x86_64/Resources/library/StanHeaders/include/src" -DBOOST_DISABLE_ASSERTS -DEIGEN_NO_DEBUG -DBOOST_MATH_OVERFLOW_ERROR_POLICY=errno_on_error -DUSE_STANC3 -D_HAS_AUTO_PTR_ETC=0 -I'/Library/Frameworks/R.framework/Versions/4.4-x86_64/Resources/library/BH/include' -I'/Library/Frameworks/R.framework/Versions/4.4-x86_64/Resources/library/Rcpp/include' -I'/Library/Frameworks/R.framework/Versions/4.4-x86_64/Resources/library/RcppEigen/include' -I'/Library/Frameworks/R.framework/Versions/4.4-x86_64/Resources/library/RcppParallel/include' -I'/Library/Frameworks/R.framework/Versions/4.4-x86_64/Resources/library/rstan/include' -I'/Library/Frameworks/R.framework/Versions/4.4-x86_64/Resources/library/StanHeaders/include' -I/opt/R/x86_64/include    -I'/Library/Frameworks/R.framework/Versions/4.4-x86_64/Resources/library/RcppParallel/include' -D_REENTRANT -DSTAN_THREADS   -fPIC  -falign-functions=64 -Wall -g -O2   -c matrixNorm.cpp -o matrixNorm.o


clang -arch x86_64 -I"/Library/Frameworks/R.framework/Resources/include" -DNDEBUG -I"../inst/include" -I"/Library/Frameworks/R.framework/Versions/4.4-x86_64/Resources/library/StanHeaders/include/src" -DBOOST_DISABLE_ASSERTS -DEIGEN_NO_DEBUG -DBOOST_MATH_OVERFLOW_ERROR_POLICY=errno_on_error -DUSE_STANC3 -D_HAS_AUTO_PTR_ETC=0 -I'/Library/Frameworks/R.framework/Versions/4.4-x86_64/Resources/library/BH/include' -I'/Library/Frameworks/R.framework/Versions/4.4-x86_64/Resources/library/Rcpp/include' -I'/Library/Frameworks/R.framework/Versions/4.4-x86_64/Resources/library/RcppEigen/include' -I'/Library/Frameworks/R.framework/Versions/4.4-x86_64/Resources/library/RcppParallel/include' -I'/Library/Frameworks/R.framework/Versions/4.4-x86_64/Resources/library/rstan/include' -I'/Library/Frameworks/R.framework/Versions/4.4-x86_64/Resources/library/StanHeaders/include' -I/opt/R/x86_64/include    -fPIC  -falign-functions=64 -Wall -g -O2  -c matrixSums.c -o matrixSums.o


clang++ -arch x86_64 -std=gnu++17 -I"/Library/Frameworks/R.framework/Resources/include" -DNDEBUG -I"../inst/include" -I"/Library/Frameworks/R.framework/Versions/4.4-x86_64/Resources/library/StanHeaders/include/src" -DBOOST_DISABLE_ASSERTS -DEIGEN_NO_DEBUG -DBOOST_MATH_OVERFLOW_ERROR_POLICY=errno_on_error -DUSE_STANC3 -D_HAS_AUTO_PTR_ETC=0 -I'/Library/Frameworks/R.framework/Versions/4.4-x86_64/Resources/library/BH/include' -I'/Library/Frameworks/R.framework/Versions/4.4-x86_64/Resources/library/Rcpp/include' -I'/Library/Frameworks/R.framework/Versions/4.4-x86_64/Resources/library/RcppEigen/include' -I'/Library/Frameworks/R.framework/Versions/4.4-x86_64/Resources/library/RcppParallel/include' -I'/Library/Frameworks/R.framework/Versions/4.4-x86_64/Resources/library/rstan/include' -I'/Library/Frameworks/R.framework/Versions/4.4-x86_64/Resources/library/StanHeaders/include' -I/opt/R/x86_64/include    -I'/Library/Frameworks/R.framework/Versions/4.4-x86_64/Resources/library/RcppParallel/include' -D_REENTRANT -DSTAN_THREADS   -fPIC  -falign-functions=64 -Wall -g -O2   -c matrixSumsSparse.cpp -o matrixSumsSparse.o


clang++ -arch x86_64 -std=gnu++17 -I"/Library/Frameworks/R.framework/Resources/include" -DNDEBUG -I"../inst/include" -I"/Library/Frameworks/R.framework/Versions/4.4-x86_64/Resources/library/StanHeaders/include/src" -DBOOST_DISABLE_ASSERTS -DEIGEN_NO_DEBUG -DBOOST_MATH_OVERFLOW_ERROR_POLICY=errno_on_error -DUSE_STANC3 -D_HAS_AUTO_PTR_ETC=0 -I'/Library/Frameworks/R.framework/Versions/4.4-x86_64/Resources/library/BH/include' -I'/Library/Frameworks/R.framework/Versions/4.4-x86_64/Resources/library/Rcpp/include' -I'/Library/Frameworks/R.framework/Versions/4.4-x86_64/Resources/library/RcppEigen/include' -I'/Library/Frameworks/R.framework/Versions/4.4-x86_64/Resources/library/RcppParallel/include' -I'/Library/Frameworks/R.framework/Versions/4.4-x86_64/Resources/library/rstan/include' -I'/Library/Frameworks/R.framework/Versions/4.4-x86_64/Resources/library/StanHeaders/include' -I/opt/R/x86_64/include    -I'/Library/Frameworks/R.framework/Versions/4.4-x86_64/Resources/library/RcppParallel/include' -D_REENTRANT -DSTAN_THREADS   -fPIC  -falign-functions=64 -Wall -g -O2   -c stanExports_shrinkage.cc -o stanExports_shrinkage.o
In file included from stanExports_shrinkage.cc:5:
In file included from ./stanExports_shrinkage.h:23:
In file included from /Library/Frameworks/R.framework/Versions/4.4-x86_64/Resources/library/rstan/include/rstan/rstaninc.hpp:4:
In file included from /Library/Frameworks/R.framework/Versions/4.4-x86_64/Resources/library/rstan/include/rstan/stan_fit.hpp:21:
/Library/Frameworks/R.framework/Versions/4.4-x86_64/Resources/library/rstan/include/rstan/io/r_ostream.hpp:47:31: warning: 'rstan::io::r_cout_streambuf::xsputn' hides overloaded virtual function [-Woverloaded-virtual]
      virtual std::streamsize xsputn(const char_type* s, int n) {
                              ^
/Library/Developer/CommandLineTools/SDKs/MacOSX11.sdk/usr/include/c++/v1/streambuf:291:24: note: hidden overloaded virtual function 'std::basic_streambuf<char>::xsputn' declared here: type mismatch at 2nd parameter ('std::streamsize' (aka 'long') vs 'int')
    virtual streamsize xsputn(const char_type* __s, streamsize __n);
                       ^
In file included from stanExports_shrinkage.cc:5:
In file included from ./stanExports_shrinkage.h:23:
In file included from /Library/Frameworks/R.framework/Versions/4.4-x86_64/Resources/library/rstan/include/rstan/rstaninc.hpp:4:
In file included from /Library/Frameworks/R.framework/Versions/4.4-x86_64/Resources/library/rstan/include/rstan/stan_fit.hpp:21:
/Library/Frameworks/R.framework/Versions/4.4-x86_64/Resources/library/rstan/include/rstan/io/r_ostream.hpp:70:31: warning: 'rstan::io::r_cerr_streambuf::xsputn' hides overloaded virtual function [-Woverloaded-virtual]
      virtual std::streamsize xsputn(const char_type* s, int n) {
                              ^
/Library/Developer/CommandLineTools/SDKs/MacOSX11.sdk/usr/include/c++/v1/streambuf:291:24: note: hidden overloaded virtual function 'std::basic_streambuf<char>::xsputn' declared here: type mismatch at 2nd parameter ('std::streamsize' (aka 'long') vs 'int')
    virtual streamsize xsputn(const char_type* __s, streamsize __n);
                       ^
In file included from stanExports_shrinkage.cc:5:
In file included from ./stanExports_shrinkage.h:23:
In file included from /Library/Frameworks/R.framework/Versions/4.4-x86_64/Resources/library/rstan/include/rstan/rstaninc.hpp:4:
In file included from /Library/Frameworks/R.framework/Versions/4.4-x86_64/Resources/library/rstan/include/rstan/stan_fit.hpp:43:
In file included from /Library/Frameworks/R.framework/Versions/4.4-x86_64/Resources/library/StanHeaders/include/src/stan/io/dump.hpp:7:
In file included from /Library/Frameworks/R.framework/Versions/4.4-x86_64/Resources/library/StanHeaders/include/stan/math/prim.hpp:14:
In file included from /Library/Frameworks/R.framework/Versions/4.4-x86_64/Resources/library/StanHeaders/include/stan/math/prim/fun.hpp:35:
In file included from /Library/Frameworks/R.framework/Versions/4.4-x86_64/Resources/library/StanHeaders/include/stan/math/prim/fun/binomial_coefficient_log.hpp:13:
In file included from /Library/Frameworks/R.framework/Versions/4.4-x86_64/Resources/library/StanHeaders/include/stan/math/prim/functor/partials_propagator.hpp:8:
/Library/Frameworks/R.framework/Versions/4.4-x86_64/Resources/library/StanHeaders/include/stan/math/prim/functor/operands_and_partials.hpp:57:1: warning: 'ops_partials_edge' defined as a struct template here but previously declared as a class template; this is valid, but may result in linker errors under the Microsoft C++ ABI [-Wmismatched-tags]
struct ops_partials_edge<ViewElt, Op, require_st_arithmetic<Op>> {
^
/Library/Frameworks/R.framework/Versions/4.4-x86_64/Resources/library/StanHeaders/include/stan/math/prim/functor/operands_and_partials.hpp:45:1: note: did you mean struct here?
class ops_partials_edge;
^~~~~
struct
In file included from stanExports_shrinkage.cc:5:
In file included from ./stanExports_shrinkage.h:23:
In file included from /Library/Frameworks/R.framework/Versions/4.4-x86_64/Resources/library/rstan/include/rstan/rstaninc.hpp:4:
/Library/Frameworks/R.framework/Versions/4.4-x86_64/Resources/library/rstan/include/rstan/stan_fit.hpp:1252:9: warning: variable 'ret' set but not used [-Wunused-but-set-variable]
    int ret = stan::services::error_codes::CONFIG;
        ^
In file included from stanExports_shrinkage.cc:5:
./stanExports_shrinkage.h:515:11: warning: variable 'pos__' set but not used [-Wunused-but-set-variable]
      int pos__ = std::numeric_limits<int>::min();
          ^
In file included from stanExports_shrinkage.cc:5:
In file included from ./stanExports_shrinkage.h:23:
In file included from /Library/Frameworks/R.framework/Versions/4.4-x86_64/Resources/library/rstan/include/rstan/rstaninc.hpp:4:
In file included from /Library/Frameworks/R.framework/Versions/4.4-x86_64/Resources/library/rstan/include/rstan/stan_fit.hpp:43:
In file included from /Library/Frameworks/R.framework/Versions/4.4-x86_64/Resources/library/StanHeaders/include/src/stan/io/dump.hpp:7:
In file included from /Library/Frameworks/R.framework/Versions/4.4-x86_64/Resources/library/StanHeaders/include/stan/math/prim.hpp:14:
In file included from /Library/Frameworks/R.framework/Versions/4.4-x86_64/Resources/library/StanHeaders/include/stan/math/prim/fun.hpp:46:
In file included from /Library/Frameworks/R.framework/Versions/4.4-x86_64/Resources/library/StanHeaders/include/stan/math/prim/fun/choose.hpp:7:
In file included from /Library/Frameworks/R.framework/Versions/4.4-x86_64/Resources/library/BH/include/boost/math/special_functions/binomial.hpp:15:
In file included from /Library/Frameworks/R.framework/Versions/4.4-x86_64/Resources/library/BH/include/boost/math/special_functions/beta.hpp:1721:
/Library/Frameworks/R.framework/Versions/4.4-x86_64/Resources/library/BH/include/boost/math/special_functions/detail/ibeta_inverse.hpp:29:15: warning: unused variable 'x_extrema' [-Wunused-variable]
      const T x_extrema = 1 / (1 + a);
              ^
/Library/Frameworks/R.framework/Versions/4.4-x86_64/Resources/library/BH/include/boost/math/special_functions/detail/ibeta_inverse.hpp:304:7: note: in instantiation of member function 'boost::math::detail::temme_root_finder<double>::temme_root_finder' requested here
      temme_root_finder<T>(-lu, alpha), x, lower, upper, policies::digits<T, Policy>() / 2);
      ^
/Library/Frameworks/R.framework/Versions/4.4-x86_64/Resources/library/BH/include/boost/math/special_functions/detail/ibeta_inverse.hpp:615:20: note: in instantiation of function template specialization 'boost::math::detail::temme_method_2_ibeta_inverse<double, boost::math::policies::policy<boost::math::policies::pole_error<boost::math::policies::errno_on_error>, boost::math::policies::promote_float<false>, boost::math::policies::promote_double<false>>>' requested here
               x = temme_method_2_ibeta_inverse(a, b, p, r, theta, pol);
                   ^
/Library/Frameworks/R.framework/Versions/4.4-x86_64/Resources/library/BH/include/boost/math/special_functions/detail/ibeta_inverse.hpp:992:17: note: in instantiation of function template specialization 'boost::math::detail::ibeta_inv_imp<double, boost::math::policies::policy<boost::math::policies::pole_error<boost::math::policies::errno_on_error>, boost::math::policies::promote_float<false>, boost::math::policies::promote_double<false>>>' requested here
   rx = detail::ibeta_inv_imp(
                ^
/Library/Frameworks/R.framework/Versions/4.4-x86_64/Resources/library/BH/include/boost/math/special_functions/detail/ibeta_inverse.hpp:1023:11: note: in instantiation of function template specialization 'boost::math::ibeta_inv<double, double, double, double, boost::math::policies::policy<boost::math::policies::overflow_error<boost::math::policies::errno_on_error>, boost::math::policies::pole_error<boost::math::policies::errno_on_error>, boost::math::policies::promote_double<false>, boost::math::policies::digits2<0>>>' requested here
   return ibeta_inv(a, b, p, static_cast<result_type*>(nullptr), pol);
          ^
/Library/Frameworks/R.framework/Versions/4.4-x86_64/Resources/library/StanHeaders/include/stan/math/prim/fun/inv_inc_beta.hpp:32:23: note: in instantiation of function template specialization 'boost::math::ibeta_inv<double, double, double, boost::math::policies::policy<boost::math::policies::overflow_error<boost::math::policies::errno_on_error>, boost::math::policies::pole_error<boost::math::policies::errno_on_error>, boost::math::policies::promote_double<false>, boost::math::policies::digits2<0>>>' requested here
  return boost::math::ibeta_inv(a, b, p, boost_policy_t<>());
                      ^
6 warnings generated.
clang++ -arch x86_64 -std=gnu++17 -dynamiclib -Wl,-headerpad_max_install_names -undefined dynamic_lookup -L/Library/Frameworks/R.framework/Resources/lib -L/opt/R/x86_64/lib -o decontX.so DecontX.o RcppExports.o matrixNorm.o matrixSums.o matrixSumsSparse.o stanExports_shrinkage.o -L/Library/Frameworks/R.framework/Versions/4.4-x86_64/Resources/library/RcppParallel/lib -ltbb -ltbbmalloc -L/Library/Frameworks/R.framework/Versions/4.4-x86_64/Resources/library/RcppParallel/lib/ -Wl,-rpath,/Library/Frameworks/R.framework/Versions/4.4-x86_64/Resources/library/RcppParallel/lib/ -ltbb -ltbbmalloc -F/Library/Frameworks/R.framework/.. -framework R -Wl,-framework -Wl,CoreFoundation
installing to /Library/Frameworks/R.framework/Versions/4.4-x86_64/Resources/library/00LOCK-decontX/00new/decontX/libs
** R
** inst
** byte-compile and prepare package for lazy loading
** help
*** installing help indices
** building package indices
** installing vignettes
** testing if installed package can be loaded from temporary location
** checking absolute paths in shared objects and dynamic libraries
** testing if installed package can be loaded from final location
** testing if installed package keeps a record of temporary installation path
* DONE (decontX)

Tests output

decontX.Rcheck/tests/testthat.Rout


R version 4.4.1 (2024-06-14) -- "Race for Your Life"
Copyright (C) 2024 The R Foundation for Statistical Computing
Platform: x86_64-apple-darwin20

R is free software and comes with ABSOLUTELY NO WARRANTY.
You are welcome to redistribute it under certain conditions.
Type 'license()' or 'licence()' for distribution details.

R is a collaborative project with many contributors.
Type 'contributors()' for more information and
'citation()' on how to cite R or R packages in publications.

Type 'demo()' for some demos, 'help()' for on-line help, or
'help.start()' for an HTML browser interface to help.
Type 'q()' to quit R.

> # This file is part of the standard setup for testthat.
> # It is recommended that you do not modify it.
> #
> # Where should you do additional test configuration?
> # Learn more about the roles of various files in:
> # * https://r-pkgs.org/tests.html
> # * https://testthat.r-lib.org/reference/test_package.html#special-files
> 
> library(testthat)
> library(decontX)
> 
> test_check("decontX")
--------------------------------------------------
Starting DecontX
--------------------------------------------------
Fri Jul 12 20:04:53 2024 .. Analyzing all cells
Fri Jul 12 20:04:53 2024 .... Converting to sparse matrix
Fri Jul 12 20:04:53 2024 .... Generating UMAP
Fri Jul 12 20:04:59 2024 .... Estimating contamination
Fri Jul 12 20:04:59 2024 .. Calculating final decontaminated matrix
--------------------------------------------------
Completed DecontX. Total time: 6.384917 secs
--------------------------------------------------
--------------------------------------------------
Starting DecontX
--------------------------------------------------
Fri Jul 12 20:05:00 2024 .. Analyzing cells in batch '1'
Fri Jul 12 20:05:00 2024 .... Converting to sparse matrix
Fri Jul 12 20:05:00 2024 .... Generating UMAP
Fri Jul 12 20:05:04 2024 .... Estimating contamination
Fri Jul 12 20:05:04 2024 .. Calculating final decontaminated matrix
Fri Jul 12 20:05:04 2024 .. Analyzing cells in batch '2'
Fri Jul 12 20:05:04 2024 .... Converting to sparse matrix
Fri Jul 12 20:05:04 2024 .... Generating UMAP
Fri Jul 12 20:05:08 2024 .... Estimating contamination
Fri Jul 12 20:05:08 2024 .. Calculating final decontaminated matrix
--------------------------------------------------
Completed DecontX. Total time: 8.417518 secs
--------------------------------------------------
--------------------------------------------------
Starting DecontX
--------------------------------------------------
Fri Jul 12 20:05:08 2024 .. Analyzing all cells
Fri Jul 12 20:05:08 2024 .... Converting to sparse matrix
Fri Jul 12 20:05:08 2024 .... Generating UMAP and estimating cell types
Fri Jul 12 20:05:12 2024 .... Estimating contamination
Fri Jul 12 20:05:12 2024 ...... Completed iteration: 9 | converge: 0.0009154
Fri Jul 12 20:05:12 2024 .. Calculating final decontaminated matrix
--------------------------------------------------
Completed DecontX. Total time: 4.018931 secs
--------------------------------------------------
--------------------------------------------------
Starting DecontX
--------------------------------------------------
Fri Jul 12 20:05:12 2024 .. Analyzing all cells
Fri Jul 12 20:05:12 2024 .... Converting to sparse matrix
Fri Jul 12 20:05:12 2024 .... Generating UMAP and estimating cell types
Fri Jul 12 20:05:17 2024 .... Estimating contamination
Fri Jul 12 20:05:17 2024 ...... Completed iteration: 10 | converge: 0.02021
Fri Jul 12 20:05:17 2024 ...... Completed iteration: 20 | converge: 0.00284
Fri Jul 12 20:05:17 2024 ...... Completed iteration: 30 | converge: 0.0009675
Fri Jul 12 20:05:17 2024 .. Calculating final decontaminated matrix
--------------------------------------------------
Completed DecontX. Total time: 4.173688 secs
--------------------------------------------------
--------------------------------------------------
Starting DecontX
--------------------------------------------------
Fri Jul 12 20:05:17 2024 .. Analyzing all cells
Fri Jul 12 20:05:17 2024 .... Converting to sparse matrix
Fri Jul 12 20:05:17 2024 .... Generating UMAP and estimating cell types
Fri Jul 12 20:05:21 2024 .... Estimating contamination
Fri Jul 12 20:05:21 2024 ...... Completed iteration: 9 | converge: 0.0009154
Fri Jul 12 20:05:21 2024 .. Calculating final decontaminated matrix
--------------------------------------------------
Completed DecontX. Total time: 4.123136 secs
--------------------------------------------------
--------------------------------------------------
Starting DecontX
--------------------------------------------------
Fri Jul 12 20:05:22 2024 .. Analyzing all cells
Fri Jul 12 20:05:22 2024 .... Converting to sparse matrix
Fri Jul 12 20:05:22 2024 .... Generating UMAP and estimating cell types
Fri Jul 12 20:05:26 2024 .... Estimating contamination
Fri Jul 12 20:05:26 2024 ...... Completed iteration: 9 | converge: 0.0008168
Fri Jul 12 20:05:26 2024 .. Calculating final decontaminated matrix
--------------------------------------------------
Completed DecontX. Total time: 4.292772 secs
--------------------------------------------------
--------------------------------------------------
Starting DecontX
--------------------------------------------------
Fri Jul 12 20:05:26 2024 .. Analyzing all cells
Fri Jul 12 20:05:26 2024 .... Converting to sparse matrix
Fri Jul 12 20:05:26 2024 .... Generating UMAP and estimating cell types
Fri Jul 12 20:05:31 2024 .... Estimating contamination
Fri Jul 12 20:05:31 2024 ...... Completed iteration: 10 | converge: 0.02021
Fri Jul 12 20:05:31 2024 ...... Completed iteration: 20 | converge: 0.00284
Fri Jul 12 20:05:31 2024 ...... Completed iteration: 30 | converge: 0.0009675
Fri Jul 12 20:05:31 2024 .. Calculating final decontaminated matrix
--------------------------------------------------
Completed DecontX. Total time: 4.200226 secs
--------------------------------------------------
--------------------------------------------------
Starting DecontX
--------------------------------------------------
Fri Jul 12 20:05:31 2024 .. Analyzing all cells
Fri Jul 12 20:05:31 2024 .... Converting to sparse matrix
--------------------------------------------------
Starting DecontX
--------------------------------------------------
Fri Jul 12 20:05:31 2024 .. Analyzing all cells
Fri Jul 12 20:05:31 2024 .... Converting to sparse matrix
--------------------------------------------------
Starting DecontX
--------------------------------------------------
Fri Jul 12 20:05:31 2024 .. Analyzing all cells
Fri Jul 12 20:05:31 2024 .... Converting to sparse matrix
Fri Jul 12 20:05:31 2024 .... Generating UMAP
Fri Jul 12 20:05:35 2024 .... Generating UMAP
Chain 1: ------------------------------------------------------------
Chain 1: EXPERIMENTAL ALGORITHM:
Chain 1:   This procedure has not been thoroughly tested and may be unstable
Chain 1:   or buggy. The interface is subject to change.
Chain 1: ------------------------------------------------------------
Chain 1: 
Chain 1: 
Chain 1: 
Chain 1: Gradient evaluation took 0.00161 seconds
Chain 1: 1000 transitions using 10 leapfrog steps per transition would take 16.1 seconds.
Chain 1: Adjust your expectations accordingly!
Chain 1: 
Chain 1: 
Chain 1: Begin eta adaptation.
Chain 1: Iteration:   1 / 250 [  0%]  (Adaptation)
Chain 1: Iteration:  50 / 250 [ 20%]  (Adaptation)
Chain 1: Iteration: 100 / 250 [ 40%]  (Adaptation)
Chain 1: Iteration: 150 / 250 [ 60%]  (Adaptation)
Chain 1: Iteration: 200 / 250 [ 80%]  (Adaptation)
Chain 1: Success! Found best value [eta = 1] earlier than expected.
Chain 1: 
Chain 1: Begin stochastic gradient ascent.
Chain 1:   iter             ELBO   delta_ELBO_mean   delta_ELBO_med   notes 
Chain 1:    100        -8039.760             1.000            1.000
Chain 1:    200        -5731.482             0.701            1.000
Chain 1:    300        -5570.966             0.477            0.403
Chain 1:    400        -5510.810             0.361            0.403
Chain 1:    500        -5480.807             0.290            0.029
Chain 1:    600        -5451.166             0.242            0.029
Chain 1:    700        -5416.328             0.209            0.011
Chain 1:    800        -5401.248             0.183            0.011
Chain 1:    900        -5395.230             0.163            0.006   MEDIAN ELBO CONVERGED
Chain 1: 
Chain 1: Drawing a sample of size 1000 from the approximate posterior... 
Chain 1: COMPLETED.
[ FAIL 0 | WARN 13 | SKIP 2 | PASS 19 ]

══ Skipped tests (2) ═══════════════════════════════════════════════════════════
• empty test (2): 'test-decon.R:27:1', 'test-decon.R:48:1'

[ FAIL 0 | WARN 13 | SKIP 2 | PASS 19 ]
> 
> proc.time()
   user  system elapsed 
 73.501   2.395  79.912 

Example timings

decontX.Rcheck/decontX-Ex.timings

nameusersystemelapsed
decontPro11.074 0.43311.604
decontX12.805 0.50513.381
plotBoxByCluster0.6720.0060.681
plotDecontXContamination10.705 0.17710.923
plotDecontXMarkerExpression10.679 0.15810.884
plotDecontXMarkerPercentage10.919 0.19511.238
plotDensity0.7690.0070.781
retrieveFeatureIndex0.0010.0010.002
simulateContamination0.0130.0010.015