Back to Multiple platform build/check report for BioC 3.14
ABC[D]EFGHIJKLMNOPQRSTUVWXYZ

This page was generated on 2021-09-25 12:05:27 -0400 (Sat, 25 Sep 2021).

INSTALL results for dce on riesling1

To the developers/maintainers of the dce package:
- Please allow up to 24 hours (and sometimes 48 hours) for your latest push to git@git.bioconductor.org:packages/dce.git to
reflect on this report. See How and When does the builder pull? When will my changes propagate? here for more information.
- Make sure to use the following settings in order to reproduce any error or warning you see on this page.

raw results

Package 440/2034HostnameOS / ArchINSTALLBUILDCHECKBUILD BIN
dce 1.1.0  (landing page)
Kim Philipp Jablonski
Snapshot Date: 2021-09-24 14:50:08 -0400 (Fri, 24 Sep 2021)
git_url: https://git.bioconductor.org/packages/dce
git_branch: master
git_last_commit: 56b47a6
git_last_commit_date: 2021-05-19 13:00:18 -0400 (Wed, 19 May 2021)
nebbiolo2Linux (Ubuntu 20.04.2 LTS) / x86_64  OK    OK    OK  UNNEEDED, same version is already published
riesling1Windows Server 2019 Standard / x64  OK    OK    OK    OK  UNNEEDED, same version is already published
merida1macOS 10.14.6 Mojave / x86_64  OK    OK    OK    OK  UNNEEDED, same version is already published

Summary

Package: dce
Version: 1.1.0
Command: C:\cygwin\bin\curl.exe -O http://155.52.207.166/BBS/3.14/bioc/src/contrib/dce_1.1.0.tar.gz && rm -rf dce.buildbin-libdir && mkdir dce.buildbin-libdir && D:\biocbuild\bbs-3.14-bioc\R\bin\R.exe CMD INSTALL --merge-multiarch --build --library=dce.buildbin-libdir dce_1.1.0.tar.gz && D:\biocbuild\bbs-3.14-bioc\R\bin\R.exe CMD INSTALL dce_1.1.0.zip && rm dce_1.1.0.tar.gz dce_1.1.0.zip
StartedAt: 2021-09-24 19:18:40 -0400 (Fri, 24 Sep 2021)
EndedAt: 2021-09-24 19:21:34 -0400 (Fri, 24 Sep 2021)
EllapsedTime: 174.1 seconds
RetCode: 0
Status:   OK  

Command output

##############################################################################
##############################################################################
###
### Running command:
###
###   C:\cygwin\bin\curl.exe -O http://155.52.207.166/BBS/3.14/bioc/src/contrib/dce_1.1.0.tar.gz && rm -rf dce.buildbin-libdir && mkdir dce.buildbin-libdir && D:\biocbuild\bbs-3.14-bioc\R\bin\R.exe CMD INSTALL --merge-multiarch --build --library=dce.buildbin-libdir dce_1.1.0.tar.gz && D:\biocbuild\bbs-3.14-bioc\R\bin\R.exe CMD INSTALL dce_1.1.0.zip && rm dce_1.1.0.tar.gz dce_1.1.0.zip
###
##############################################################################
##############################################################################


  % Total    % Received % Xferd  Average Speed   Time    Time     Time  Current
                                 Dload  Upload   Total   Spent    Left  Speed

  0     0    0     0    0     0      0      0 --:--:-- --:--:-- --:--:--     0
100  414k  100  414k    0     0  1460k      0 --:--:-- --:--:-- --:--:-- 1460k

install for i386

* installing *source* package 'dce' ...
** using staged installation
** R
** data
*** moving datasets to lazyload DB
** inst
** byte-compile and prepare package for lazy loading
** help
*** installing help indices
  converting help for package 'dce'
    finding HTML links ... done
    as.data.frame.dce                       html  
    as_adjmat                               html  
    create_random_DAG                       html  
    dce-methods                             html  
    dce_nb                                  html  
    df_pathway_statistics                   html  
    estimate_latent_count                   html  
    g2dag                                   html  
    get_pathway_info                        html  
    get_pathways                            html  
    get_prediction_counts                   html  
    graph2df                                html  
    graph_union                             html  
    pcor                                    html  
    permutation_test                        html  
    plot.dce                                html  
    plot_network                            html  
    propagate_gene_edges                    html  
    resample_edge_weights                   html  
    rlm_dce                                 html  
    simulate_data-methods                   html  
    summary.rlm_dce                         html  
    topologically_ordering                  html  
    trueEffects                             html  
** building package indices
** installing vignettes
** testing if installed package can be loaded from temporary location
** testing if installed package can be loaded from final location
** testing if installed package keeps a record of temporary installation path

install for x64

* installing *source* package 'dce' ...
** testing if installed package can be loaded
* MD5 sums
packaged installation of 'dce' as dce_1.1.0.zip
* DONE (dce)
* installing to library 'D:/biocbuild/bbs-3.14-bioc/R/library'
package 'dce' successfully unpacked and MD5 sums checked