Back to Multiple platform build/check report for BioC 3.14
ABC[D]EFGHIJKLMNOPQRSTUVWXYZ

This page was generated on 2021-09-21 12:06:00 -0400 (Tue, 21 Sep 2021).

BUILD results for dce on riesling1

To the developers/maintainers of the dce package:
- Please allow up to 24 hours (and sometimes 48 hours) for your latest push to git@git.bioconductor.org:packages/dce.git to
reflect on this report. See How and When does the builder pull? When will my changes propagate? here for more information.
- Make sure to use the following settings in order to reproduce any error or warning you see on this page.

raw results

Package 440/2029HostnameOS / ArchINSTALLBUILDCHECKBUILD BIN
dce 1.1.0  (landing page)
Kim Philipp Jablonski
Snapshot Date: 2021-09-20 14:50:09 -0400 (Mon, 20 Sep 2021)
git_url: https://git.bioconductor.org/packages/dce
git_branch: master
git_last_commit: 56b47a6
git_last_commit_date: 2021-05-19 13:00:18 -0400 (Wed, 19 May 2021)
nebbiolo2Linux (Ubuntu 20.04.2 LTS) / x86_64  OK    OK    OK  UNNEEDED, same version is already published
riesling1Windows Server 2019 Standard / x64  OK    OK    OK    OK  UNNEEDED, same version is already published
merida1macOS 10.14.6 Mojave / x86_64  OK    OK    OK    OK  UNNEEDED, same version is already published

Summary

Package: dce
Version: 1.1.0
Command: chmod a+r dce -R && D:\biocbuild\bbs-3.14-bioc\R\bin\R.exe CMD build --keep-empty-dirs --no-resave-data dce
StartedAt: 2021-09-20 20:15:27 -0400 (Mon, 20 Sep 2021)
EndedAt: 2021-09-20 20:20:03 -0400 (Mon, 20 Sep 2021)
EllapsedTime: 275.8 seconds
RetCode: 0
Status:   OK  
PackageFile: dce_1.1.0.tar.gz
PackageFileSize: 1.173 MiB

Command output

##############################################################################
##############################################################################
###
### Running command:
###
###   chmod a+r dce -R && D:\biocbuild\bbs-3.14-bioc\R\bin\R.exe CMD build --keep-empty-dirs --no-resave-data dce
###
##############################################################################
##############################################################################


* checking for file 'dce/DESCRIPTION' ... OK
* preparing 'dce':
* checking DESCRIPTION meta-information ... OK
* installing the package to build vignettes
* creating vignettes ... OK
* checking for LF line-endings in source and make files and shell scripts
* checking for empty or unneeded directories
* building 'dce_1.1.0.tar.gz'