Back to Multiple platform build/check report for BioC 3.14
ABC[D]EFGHIJKLMNOPQRSTUVWXYZ

This page was generated on 2021-06-21 12:05:30 -0400 (Mon, 21 Jun 2021).

BUILD BIN results for dce on riesling1

To the developers/maintainers of the dce package:
- Please allow up to 24 hours (and sometimes 48 hours) for your latest push to git@git.bioconductor.org:packages/dce.git to
reflect on this report. See How and When does the builder pull? When will my changes propagate? here for more information.
- Make sure to use the following settings in order to reproduce any error or warning you see on this page.

raw results

Package 433/1993HostnameOS / ArchINSTALLBUILDCHECKBUILD BIN
dce 1.1.0  (landing page)
Kim Philipp Jablonski
Snapshot Date: 2021-06-20 14:50:05 -0400 (Sun, 20 Jun 2021)
URL: https://git.bioconductor.org/packages/dce
Branch: master
Last Commit: 56b47a6
Last Changed Date: 2021-05-19 13:00:18 -0400 (Wed, 19 May 2021)
nebbiolo2Linux (Ubuntu 20.04.2 LTS) / x86_64  OK    OK    OK  UNNEEDED, same version is already published
riesling1Windows Server 2019 Standard / x64  OK    OK    OK    OK  NO, package depends on 'epiNEM' which is not available
merida1macOS 10.14.6 Mojave / x86_64  OK    OK    OK    OK  UNNEEDED, same version is already published

Summary

Package: dce
Version: 1.1.0
Command: rm -rf dce.buildbin-libdir && mkdir dce.buildbin-libdir && D:\biocbuild\bbs-3.14-bioc\R\bin\R.exe CMD INSTALL --merge-multiarch --build --library=dce.buildbin-libdir dce_1.1.0.tar.gz
StartedAt: 2021-06-21 03:49:41 -0400 (Mon, 21 Jun 2021)
EndedAt: 2021-06-21 03:53:33 -0400 (Mon, 21 Jun 2021)
EllapsedTime: 231.9 seconds
RetCode: 0
Status:   OK  
PackageFile: dce_1.1.0.zip
PackageFileSize: 1.347 MiB

Command output

##############################################################################
##############################################################################
###
### Running command:
###
###   rm -rf dce.buildbin-libdir && mkdir dce.buildbin-libdir && D:\biocbuild\bbs-3.14-bioc\R\bin\R.exe CMD INSTALL --merge-multiarch --build --library=dce.buildbin-libdir dce_1.1.0.tar.gz
###
##############################################################################
##############################################################################



install for i386

* installing *source* package 'dce' ...
** using staged installation
** R
** data
*** moving datasets to lazyload DB
** inst
** byte-compile and prepare package for lazy loading
** help
*** installing help indices
  converting help for package 'dce'
    finding HTML links ... done
    as.data.frame.dce                       html  
    as_adjmat                               html  
    create_random_DAG                       html  
    dce-methods                             html  
    dce_nb                                  html  
    df_pathway_statistics                   html  
    estimate_latent_count                   html  
    g2dag                                   html  
    get_pathway_info                        html  
    get_pathways                            html  
    get_prediction_counts                   html  
    graph2df                                html  
    graph_union                             html  
    pcor                                    html  
    permutation_test                        html  
    plot.dce                                html  
    plot_network                            html  
    propagate_gene_edges                    html  
    resample_edge_weights                   html  
    rlm_dce                                 html  
    simulate_data-methods                   html  
    summary.rlm_dce                         html  
    topologically_ordering                  html  
    trueEffects                             html  
** building package indices
** installing vignettes
** testing if installed package can be loaded from temporary location
** testing if installed package can be loaded from final location
** testing if installed package keeps a record of temporary installation path

install for x64

* installing *source* package 'dce' ...
** testing if installed package can be loaded
* MD5 sums
packaged installation of 'dce' as dce_1.1.0.zip
* DONE (dce)