Back to Multiple platform build/check report for BioC 3.20:   simplified   long
ABC[D]EFGHIJKLMNOPQRSTUVWXYZ

This page was generated on 2024-07-18 11:38 -0400 (Thu, 18 Jul 2024).

HostnameOSArch (*)R versionInstalled pkgs
nebbiolo2Linux (Ubuntu 22.04.3 LTS)x86_644.4.1 (2024-06-14) -- "Race for Your Life" 4683
palomino8Windows Server 2022 Datacenterx644.4.1 (2024-06-14 ucrt) -- "Race for Your Life" 4379
lconwaymacOS 12.7.1 Montereyx86_644.4.1 (2024-06-14) -- "Race for Your Life" 4450
kjohnson3macOS 13.6.5 Venturaarm644.4.1 (2024-06-14) -- "Race for Your Life" 4399
Click on any hostname to see more info about the system (e.g. compilers)      (*) as reported by 'uname -p', except on Windows and Mac OS X

Package 499/2248HostnameOS / ArchINSTALLBUILDCHECKBUILD BIN
dar 1.1.0  (landing page)
Francesc Catala-Moll
Snapshot Date: 2024-07-17 14:00 -0400 (Wed, 17 Jul 2024)
git_url: https://git.bioconductor.org/packages/dar
git_branch: devel
git_last_commit: b69c1d0
git_last_commit_date: 2024-04-30 11:53:50 -0400 (Tue, 30 Apr 2024)
nebbiolo2Linux (Ubuntu 22.04.3 LTS) / x86_64  OK    OK    ERROR  
palomino8Windows Server 2022 Datacenter / x64  OK    OK    ERROR    OK  
lconwaymacOS 12.7.1 Monterey / x86_64  OK    OK    ERROR    OK  
kjohnson3macOS 13.6.5 Ventura / arm64  OK    OK    ERROR    OK  


CHECK results for dar on nebbiolo2

To the developers/maintainers of the dar package:
- Allow up to 24 hours (and sometimes 48 hours) for your latest push to git@git.bioconductor.org:packages/dar.git to reflect on this report. See Troubleshooting Build Report for more information.
- Use the following Renviron settings to reproduce errors and warnings.
- If 'R CMD check' started to fail recently on the Linux builder(s) over a missing dependency, add the missing dependency to 'Suggests:' in your DESCRIPTION file. See Renviron.bioc for more information.

raw results


Summary

Package: dar
Version: 1.1.0
Command: /home/biocbuild/bbs-3.20-bioc/R/bin/R CMD check --install=check:dar.install-out.txt --library=/home/biocbuild/bbs-3.20-bioc/R/site-library --timings dar_1.1.0.tar.gz
StartedAt: 2024-07-17 22:37:24 -0400 (Wed, 17 Jul 2024)
EndedAt: 2024-07-17 22:50:03 -0400 (Wed, 17 Jul 2024)
EllapsedTime: 759.4 seconds
RetCode: 1
Status:   ERROR  
CheckDir: dar.Rcheck
Warnings: NA

Command output

##############################################################################
##############################################################################
###
### Running command:
###
###   /home/biocbuild/bbs-3.20-bioc/R/bin/R CMD check --install=check:dar.install-out.txt --library=/home/biocbuild/bbs-3.20-bioc/R/site-library --timings dar_1.1.0.tar.gz
###
##############################################################################
##############################################################################


* using log directory ‘/home/biocbuild/bbs-3.20-bioc/meat/dar.Rcheck’
* using R version 4.4.1 (2024-06-14)
* using platform: x86_64-pc-linux-gnu
* R was compiled by
    gcc (Ubuntu 11.4.0-1ubuntu1~22.04) 11.4.0
    GNU Fortran (Ubuntu 11.4.0-1ubuntu1~22.04) 11.4.0
* running under: Ubuntu 22.04.4 LTS
* using session charset: UTF-8
* checking for file ‘dar/DESCRIPTION’ ... OK
* this is package ‘dar’ version ‘1.1.0’
* package encoding: UTF-8
* checking package namespace information ... OK
* checking package dependencies ... OK
* checking if this is a source package ... OK
* checking if there is a namespace ... OK
* checking for hidden files and directories ... OK
* checking for portable file names ... OK
* checking for sufficient/correct file permissions ... OK
* checking whether package ‘dar’ can be installed ... OK
* checking installed package size ... OK
* checking package directory ... OK
* checking ‘build’ directory ... OK
* checking DESCRIPTION meta-information ... OK
* checking top-level files ... OK
* checking for left-over files ... OK
* checking index information ... OK
* checking package subdirectories ... OK
* checking code files for non-ASCII characters ... OK
* checking R files for syntax errors ... OK
* checking whether the package can be loaded ... OK
* checking whether the package can be loaded with stated dependencies ... OK
* checking whether the package can be unloaded cleanly ... OK
* checking whether the namespace can be loaded with stated dependencies ... OK
* checking whether the namespace can be unloaded cleanly ... OK
* checking loading without being on the library search path ... OK
* checking dependencies in R code ... OK
* checking S3 generic/method consistency ... OK
* checking replacement functions ... OK
* checking foreign function calls ... OK
* checking R code for possible problems ... OK
* checking Rd files ... OK
* checking Rd metadata ... OK
* checking Rd cross-references ... OK
* checking for missing documentation entries ... OK
* checking for code/documentation mismatches ... OK
* checking Rd \usage sections ... OK
* checking Rd contents ... OK
* checking for unstated dependencies in examples ... OK
* checking contents of ‘data’ directory ... OK
* checking data for non-ASCII characters ... OK
* checking data for ASCII and uncompressed saves ... OK
* checking R/sysdata.rda ... OK
* checking files in ‘vignettes’ ... OK
* checking examples ... OK
Examples with CPU (user + system) or elapsed time > 5s
                     user system elapsed
step_ancom         14.797  0.564  15.361
step_aldex         14.010  0.996  15.006
step_deseq          6.043  0.139   6.182
step_metagenomeseq  3.262  0.086   9.052
prep                2.679  0.183  35.279
import_steps        2.012  0.142  32.475
export_steps        1.769  0.120  12.384
recipe              0.965  0.036  16.718
* checking for unstated dependencies in ‘tests’ ... OK
* checking tests ...
  Running ‘testthat.R’
 ERROR
Running the tests in ‘tests/testthat.R’ failed.
Last 13 lines of output:
  i In index: 1.
  i With name: RiskGroup2.
  Caused by error in `map()`:
  i In index: 1.
  Caused by error in `dplyr::rename()`:
  ! Can't rename columns that don't exist.
  x Column `Names` doesn't exist.
  Backtrace:
      ▆
   1. └─testthat::expect_snapshot(...) at test-roxytest-tests-lefse.R:15:3
   2.   └─rlang::cnd_signal(state$error)
  
  [ FAIL 1 | WARN 2 | SKIP 9 | PASS 81 ]
  Error: Test failures
  Execution halted
* checking for unstated dependencies in vignettes ... OK
* checking package vignettes ... OK
* checking re-building of vignette outputs ... OK
* checking PDF version of manual ... OK
* DONE

Status: 1 ERROR
See
  ‘/home/biocbuild/bbs-3.20-bioc/meat/dar.Rcheck/00check.log’
for details.


Installation output

dar.Rcheck/00install.out

##############################################################################
##############################################################################
###
### Running command:
###
###   /home/biocbuild/bbs-3.20-bioc/R/bin/R CMD INSTALL dar
###
##############################################################################
##############################################################################


* installing to library ‘/home/biocbuild/bbs-3.20-bioc/R/site-library’
* installing *source* package ‘dar’ ...
** using staged installation
** R
** data
** inst
** byte-compile and prepare package for lazy loading
** help
*** installing help indices
*** copying figures
** building package indices
** installing vignettes
** testing if installed package can be loaded from temporary location
** testing if installed package can be loaded from final location
** testing if installed package keeps a record of temporary installation path
* DONE (dar)

Tests output

dar.Rcheck/tests/testthat.Rout.fail


R version 4.4.1 (2024-06-14) -- "Race for Your Life"
Copyright (C) 2024 The R Foundation for Statistical Computing
Platform: x86_64-pc-linux-gnu

R is free software and comes with ABSOLUTELY NO WARRANTY.
You are welcome to redistribute it under certain conditions.
Type 'license()' or 'licence()' for distribution details.

R is a collaborative project with many contributors.
Type 'contributors()' for more information and
'citation()' on how to cite R or R packages in publications.

Type 'demo()' for some demos, 'help()' for on-line help, or
'help.start()' for an HTML browser interface to help.
Type 'q()' to quit R.

> library(testthat)
> library(dar)
> 
> test_check("dar")
Starting 2 test processes
[ FAIL 1 | WARN 2 | SKIP 9 | PASS 81 ]

══ Skipped tests (9) ═══════════════════════════════════════════════════════════
• On CRAN (9): 'test-roxytest-tests-bake.R:18:3',
  'test-roxytest-tests-ancom.R:14:3', 'test-roxytest-tests-misc.R:73:3',
  'test-roxytest-tests-misc.R:101:3', 'test-roxytest-tests-misc.R:108:3',
  'test-roxytest-tests-pkg_check.R:6:3', 'test-roxytest-tests-maaslin2.R:16:3',
  'test-roxytest-tests-read_data.R:24:3',
  'test-roxytest-tests-steps_and_checks.R:7:3'

══ Failed tests ════════════════════════════════════════════════════════════════
── Error ('test-roxytest-tests-lefse.R:15:3'): [unknown alias] @ L82 ───────────
<purrr_error_indexed/rlang_error/error/condition>
Error in `(function (.x, .f, ..., .progress = FALSE) 
{
    map_("list", .x, .f, ..., .progress = .progress)
})(.x = "rec %>% run_lefse(kruskal.threshold = 0.05, wilcox.threshold = 0.05, lda.threshold = 2, blockCol = NULL, assay = 1, trim.names = FALSE, rarefy = TRUE)", 
    .f = function (...) 
    {
        {
            ...furrr_chunk_seeds_i <- ...furrr_chunk_seeds_env[["i"]]
            ...furrr_chunk_seeds_env[["i"]] <- ...furrr_chunk_seeds_i + 
                1L
            assign(x = ".Random.seed", value = ...furrr_chunk_seeds[[...furrr_chunk_seeds_i]], 
                envir = globalenv(), inherits = FALSE)
        }
        NULL
        ...furrr_out <- ...furrr_fn(...)
        ...furrr_out
    })`: i In index: 1.
Caused by error in `purrr::map()`:
i In index: 1.
i With name: RiskGroup2.
Caused by error in `map()`:
i In index: 1.
Caused by error in `dplyr::rename()`:
! Can't rename columns that don't exist.
x Column `Names` doesn't exist.
Backtrace:
    ▆
 1. └─testthat::expect_snapshot(...) at test-roxytest-tests-lefse.R:15:3
 2.   └─rlang::cnd_signal(state$error)

[ FAIL 1 | WARN 2 | SKIP 9 | PASS 81 ]
Error: Test failures
Execution halted

Example timings

dar.Rcheck/dar-Ex.timings

nameusersystemelapsed
abundance_plt2.5110.1882.698
add_tax0.1420.0090.149
add_var0.1410.0000.140
bake0.4440.0000.443
contains_rarefaction0.2220.0230.246
cool0.2670.0010.267
corr_heatmap3.2990.1953.495
exclusion_plt0.8230.0130.835
export_steps 1.769 0.12012.384
find_intersections0.1760.0000.175
get_comparisons0.0250.0000.025
get_phy0.020.000.02
get_tax0.0240.0000.024
get_var0.0230.0000.024
import_steps 2.012 0.14232.475
intersection_df0.1960.0120.207
intersection_plt1.4650.0601.525
mutual_plt1.8280.0431.873
otu_table0.3890.0280.417
overlap_df0.2530.0080.262
phy_qc1.0880.0241.112
prep 2.679 0.18335.279
rand_id000
read_data1.4730.4761.758
recipe 0.965 0.03616.718
required_deps0.0530.0040.057
sample_data0.0310.0030.035
step_aldex14.010 0.99615.006
step_ancom14.797 0.56415.361
step_corncob2.3900.0762.466
step_deseq6.0430.1396.182
step_filter_by_abundance0.0390.0000.039
step_filter_by_prevalence0.0340.0040.038
step_filter_by_rarity0.0370.0000.037
step_filter_by_variance0.0370.0000.038
step_filter_taxa0.0390.0000.039
step_lefse0.0650.0000.065
step_maaslin4.1200.1364.256
step_metagenomeseq3.2620.0869.052
step_rarefaction0.0530.0040.057
step_subset_taxa0.040.000.04
step_wilcox1.7260.1281.854
steps_ids0.0170.0000.017
tax_table0.0380.0160.054
tidyeval0.0090.0080.017
to_tibble0.3900.0400.429
use_rarefy0.0160.0000.016
zero_otu0.4180.0200.437