Back to Multiple platform build/check report for BioC 3.20:   simplified   long
ABC[D]EFGHIJKLMNOPQRSTUVWXYZ

This page was generated on 2024-06-21 13:21 -0400 (Fri, 21 Jun 2024).

HostnameOSArch (*)R versionInstalled pkgs
nebbiolo2Linux (Ubuntu 22.04.3 LTS)x86_644.4.0 RC (2024-04-16 r86468) -- "Puppy Cup" 4690
lconwaymacOS 12.7.1 Montereyx86_644.4.1 RC (2024-06-06 r86719) -- "Race for Your Life" 4404
kjohnson3macOS 13.6.5 Venturaarm644.4.1 RC (2024-06-06 r86719) -- "Race for Your Life" 4353
Click on any hostname to see more info about the system (e.g. compilers)      (*) as reported by 'uname -p', except on Windows and Mac OS X

Package 491/2242HostnameOS / ArchINSTALLBUILDCHECKBUILD BIN
daMA 1.77.0  (landing page)
Jobst Landgrebe
Snapshot Date: 2024-06-20 14:00 -0400 (Thu, 20 Jun 2024)
git_url: https://git.bioconductor.org/packages/daMA
git_branch: devel
git_last_commit: 9eede9e
git_last_commit_date: 2024-04-30 10:11:38 -0400 (Tue, 30 Apr 2024)
nebbiolo2Linux (Ubuntu 22.04.3 LTS) / x86_64  OK    OK    OK  UNNEEDED, same version is already published
lconwaymacOS 12.7.1 Monterey / x86_64  OK    OK    OK    OK  UNNEEDED, same version is already published
kjohnson3macOS 13.6.5 Ventura / arm64  OK    OK    OK    OK  UNNEEDED, same version is already published


CHECK results for daMA on nebbiolo2

To the developers/maintainers of the daMA package:
- Allow up to 24 hours (and sometimes 48 hours) for your latest push to git@git.bioconductor.org:packages/daMA.git to reflect on this report. See Troubleshooting Build Report for more information.
- Use the following Renviron settings to reproduce errors and warnings.
- If 'R CMD check' started to fail recently on the Linux builder(s) over a missing dependency, add the missing dependency to 'Suggests:' in your DESCRIPTION file. See Renviron.bioc for more information.

raw results


Summary

Package: daMA
Version: 1.77.0
Command: /home/biocbuild/bbs-3.20-bioc/R/bin/R CMD check --install=check:daMA.install-out.txt --library=/home/biocbuild/bbs-3.20-bioc/R/site-library --timings daMA_1.77.0.tar.gz
StartedAt: 2024-06-20 22:16:31 -0400 (Thu, 20 Jun 2024)
EndedAt: 2024-06-20 22:16:50 -0400 (Thu, 20 Jun 2024)
EllapsedTime: 19.0 seconds
RetCode: 0
Status:   OK  
CheckDir: daMA.Rcheck
Warnings: 0

Command output

##############################################################################
##############################################################################
###
### Running command:
###
###   /home/biocbuild/bbs-3.20-bioc/R/bin/R CMD check --install=check:daMA.install-out.txt --library=/home/biocbuild/bbs-3.20-bioc/R/site-library --timings daMA_1.77.0.tar.gz
###
##############################################################################
##############################################################################


* using log directory ‘/home/biocbuild/bbs-3.20-bioc/meat/daMA.Rcheck’
* using R version 4.4.0 RC (2024-04-16 r86468)
* using platform: x86_64-pc-linux-gnu
* R was compiled by
    gcc (Ubuntu 11.4.0-1ubuntu1~22.04) 11.4.0
    GNU Fortran (Ubuntu 11.4.0-1ubuntu1~22.04) 11.4.0
* running under: Ubuntu 22.04.4 LTS
* using session charset: UTF-8
* checking for file ‘daMA/DESCRIPTION’ ... OK
* this is package ‘daMA’ version ‘1.77.0’
* checking package namespace information ... OK
* checking package dependencies ... OK
* checking if this is a source package ... OK
* checking if there is a namespace ... OK
* checking for hidden files and directories ... OK
* checking for portable file names ... OK
* checking for sufficient/correct file permissions ... OK
* checking whether package ‘daMA’ can be installed ... OK
* checking installed package size ... OK
* checking package directory ... OK
* checking DESCRIPTION meta-information ... NOTE
Malformed Description field: should contain one or more complete sentences.
* checking top-level files ... OK
* checking for left-over files ... OK
* checking index information ... OK
* checking package subdirectories ... OK
* checking code files for non-ASCII characters ... OK
* checking R files for syntax errors ... OK
* checking whether the package can be loaded ... OK
* checking whether the package can be loaded with stated dependencies ... OK
* checking whether the package can be unloaded cleanly ... OK
* checking whether the namespace can be loaded with stated dependencies ... OK
* checking whether the namespace can be unloaded cleanly ... OK
* checking loading without being on the library search path ... OK
* checking dependencies in R code ... OK
* checking S3 generic/method consistency ... OK
* checking replacement functions ... OK
* checking foreign function calls ... OK
* checking R code for possible problems ... OK
* checking Rd files ... NOTE
prepare_Rd: analyseMA.Rd:70: Dropping empty section \note
prepare_Rd: analyseMA.Rd:72: Dropping empty section \seealso
prepare_Rd: cmat.Rd:13-14: Dropping empty section \format
prepare_Rd: cmat.Rd:15-16: Dropping empty section \details
prepare_Rd: cmat.Rd:17-19: Dropping empty section \source
prepare_Rd: cmatB.AB.Rd:13-14: Dropping empty section \format
prepare_Rd: cmatB.AB.Rd:15-16: Dropping empty section \details
prepare_Rd: cmatB.AB.Rd:17-18: Dropping empty section \source
prepare_Rd: core.Rd:42: Dropping empty section \keyword
prepare_Rd: core.Rd:29-30: Dropping empty section \details
prepare_Rd: core.Rd:31-32: Dropping empty section \value
prepare_Rd: core.Rd:38: Dropping empty section \note
prepare_Rd: core.Rd:40: Dropping empty section \seealso
prepare_Rd: core.Rd:41: Dropping empty section \examples
prepare_Rd: data.3x2.Rd:15-16: Dropping empty section \details
prepare_Rd: data.3x2.Rd:21-22: Dropping empty section \references
prepare_Rd: designMA.Rd:66: Dropping empty section \note
prepare_Rd: designMA.Rd:68: Dropping empty section \seealso
prepare_Rd: id.3x2.Rd:14-15: Dropping empty section \details
prepare_Rd: id.3x2.Rd:16-17: Dropping empty section \source
prepare_Rd: id.3x2.Rd:18-19: Dropping empty section \references
* checking Rd metadata ... OK
* checking Rd cross-references ... OK
* checking for missing documentation entries ... OK
* checking for code/documentation mismatches ... OK
* checking Rd \usage sections ... OK
* checking Rd contents ... OK
* checking for unstated dependencies in examples ... OK
* checking contents of ‘data’ directory ... OK
* checking data for non-ASCII characters ... OK
* checking data for ASCII and uncompressed saves ... OK
* checking examples ... OK
* checking PDF version of manual ... OK
* DONE

Status: 2 NOTEs
See
  ‘/home/biocbuild/bbs-3.20-bioc/meat/daMA.Rcheck/00check.log’
for details.


Installation output

daMA.Rcheck/00install.out

##############################################################################
##############################################################################
###
### Running command:
###
###   /home/biocbuild/bbs-3.20-bioc/R/bin/R CMD INSTALL daMA
###
##############################################################################
##############################################################################


* installing to library ‘/home/biocbuild/bbs-3.20-bioc/R/site-library’
* installing *source* package ‘daMA’ ...
** using staged installation
** R
** data
** byte-compile and prepare package for lazy loading
** help
*** installing help indices
** building package indices
** testing if installed package can be loaded from temporary location
** testing if installed package can be loaded from final location
** testing if installed package keeps a record of temporary installation path
* DONE (daMA)

Tests output


Example timings

daMA.Rcheck/daMA-Ex.timings

nameusersystemelapsed
analyseMA000
cinfo0.0120.0000.012
cinfoB.AB0.0010.0000.001
cmat0.0010.0000.001
cmatB.AB0.0010.0000.000
data.3x20.0460.0000.046
designMA000
designs.composite0.0010.0000.001
id.3x20.0020.0000.002