Back to Multiple platform build/check report for BioC 3.20:   simplified   long
AB[C]DEFGHIJKLMNOPQRSTUVWXYZ

This page was generated on 2024-06-11 15:41 -0400 (Tue, 11 Jun 2024).

HostnameOSArch (*)R versionInstalled pkgs
nebbiolo2Linux (Ubuntu 22.04.3 LTS)x86_644.4.0 RC (2024-04-16 r86468) -- "Puppy Cup" 4679
palomino4Windows Server 2022 Datacenterx644.4.0 RC (2024-04-16 r86468 ucrt) -- "Puppy Cup" 4414
merida1macOS 12.7.4 Montereyx86_644.4.0 Patched (2024-04-24 r86482) -- "Puppy Cup" 4441
kjohnson1macOS 13.6.6 Venturaarm644.4.0 Patched (2024-04-24 r86482) -- "Puppy Cup" 4394
Click on any hostname to see more info about the system (e.g. compilers)      (*) as reported by 'uname -p', except on Windows and Mac OS X

Package 472/2239HostnameOS / ArchINSTALLBUILDCHECKBUILD BIN
cycle 1.59.0  (landing page)
Matthias Futschik
Snapshot Date: 2024-06-09 14:00 -0400 (Sun, 09 Jun 2024)
git_url: https://git.bioconductor.org/packages/cycle
git_branch: devel
git_last_commit: 9074360
git_last_commit_date: 2024-04-30 10:20:45 -0400 (Tue, 30 Apr 2024)
nebbiolo2Linux (Ubuntu 22.04.3 LTS) / x86_64  OK    OK    OK  UNNEEDED, same version is already published
palomino4Windows Server 2022 Datacenter / x64  OK    OK    OK    OK  UNNEEDED, same version is already published
merida1macOS 12.7.4 Monterey / x86_64  OK    OK    OK    OK  UNNEEDED, same version is already published
kjohnson1macOS 13.6.6 Ventura / arm64  OK    OK    OK    OK  UNNEEDED, same version is already published


BUILD BIN results for cycle on merida1

To the developers/maintainers of the cycle package:
- Allow up to 24 hours (and sometimes 48 hours) for your latest push to git@git.bioconductor.org:packages/cycle.git to reflect on this report. See Troubleshooting Build Report for more information.
- Use the following Renviron settings to reproduce errors and warnings.
- If 'R CMD check' started to fail recently on the Linux builder(s) over a missing dependency, add the missing dependency to 'Suggests:' in your DESCRIPTION file. See Renviron.bioc for more information.

raw results


Summary

Package: cycle
Version: 1.59.0
Command: rm -rf cycle.buildbin-libdir && mkdir cycle.buildbin-libdir && /Users/biocbuild/BBS/utils/build-universal.sh cycle_1.59.0.tar.gz /Library/Frameworks/R.framework/Resources/bin/R cycle.buildbin-libdir
StartedAt: 2024-06-10 12:24:13 -0400 (Mon, 10 Jun 2024)
EndedAt: 2024-06-10 12:24:25 -0400 (Mon, 10 Jun 2024)
EllapsedTime: 11.8 seconds
RetCode: 0
Status:   OK  
PackageFile: cycle_1.59.0.tgz
PackageFileSize: 266.9 KiB

Command output

##############################################################################
##############################################################################
###
### Running command:
###
###   rm -rf cycle.buildbin-libdir && mkdir cycle.buildbin-libdir && /Users/biocbuild/BBS/utils/build-universal.sh cycle_1.59.0.tar.gz /Library/Frameworks/R.framework/Resources/bin/R cycle.buildbin-libdir
###
##############################################################################
##############################################################################


>>>>>>> 
>>>>>>> INSTALLATION WITH 'R CMD INSTALL --preclean --no-multiarch --library=cycle.buildbin-libdir cycle_1.59.0.tar.gz'
>>>>>>> 

* installing *source* package ‘cycle’ ...
** using staged installation
** R
** inst
** byte-compile and prepare package for lazy loading
** help
*** installing help indices
** building package indices
** installing vignettes
** testing if installed package can be loaded from temporary location
** testing if installed package can be loaded from final location
** testing if installed package keeps a record of temporary installation path
* DONE (cycle)