Back to Multiple platform build/check report for BioC 3.14
AB[C]DEFGHIJKLMNOPQRSTUVWXYZ

BUILD results for cummeRbund on riesling1

This page was generated on 2021-06-15 12:05:38 -0400 (Tue, 15 Jun 2021).

Package 412/1993HostnameOS / ArchINSTALLBUILDCHECKBUILD BIN
cummeRbund 2.35.0  (landing page)
Loyal A. Goff
Snapshot Date: 2021-06-14 14:50:10 -0400 (Mon, 14 Jun 2021)
URL: https://git.bioconductor.org/packages/cummeRbund
Branch: master
Last Commit: e18eb65
Last Changed Date: 2021-05-19 11:50:10 -0400 (Wed, 19 May 2021)
nebbiolo2Linux (Ubuntu 20.04.2 LTS) / x86_64  OK    OK    WARNINGS  UNNEEDED, same version is already published
riesling1Windows Server 2019 Standard / x64  OK    OK    WARNINGS    OK  UNNEEDED, same version is already published
merida1macOS 10.14.6 Mojave / x86_64  OK    OK    WARNINGS    OK  UNNEEDED, same version is already published
To the developers/maintainers of the cummeRbund package:
- Please allow up to 24 hours (and sometimes 48 hours) for your latest push to git@git.bioconductor.org:packages/cummeRbund.git to
reflect on this report. See How and When does the builder pull? When will my changes propagate? here for more information.
- Make sure to use the following settings in order to reproduce any error or warning you see on this page.

Summary

Package: cummeRbund
Version: 2.35.0
Command: chmod a+r cummeRbund -R && D:\biocbuild\bbs-3.14-bioc\R\bin\R.exe CMD build --keep-empty-dirs --no-resave-data cummeRbund
StartedAt: 2021-06-14 19:17:41 -0400 (Mon, 14 Jun 2021)
EndedAt: 2021-06-14 19:21:16 -0400 (Mon, 14 Jun 2021)
EllapsedTime: 215.3 seconds
RetCode: 0
Status:   OK   
PackageFile: cummeRbund_2.35.0.tar.gz
PackageFileSize: 2.406 MiB

Command output

##############################################################################
##############################################################################
###
### Running command:
###
###   chmod a+r cummeRbund -R && D:\biocbuild\bbs-3.14-bioc\R\bin\R.exe CMD build --keep-empty-dirs --no-resave-data cummeRbund
###
##############################################################################
##############################################################################


* checking for file 'cummeRbund/DESCRIPTION' ... OK
* preparing 'cummeRbund':
* checking DESCRIPTION meta-information ... OK
* installing the package to build vignettes
* creating vignettes ... OK
* checking for LF line-endings in source and make files and shell scripts
* checking for empty or unneeded directories
* looking to see if a 'data/datalist' file should be added
* building 'cummeRbund_2.35.0.tar.gz'