Back to Multiple platform build/check report for BioC 3.14
AB[C]DEFGHIJKLMNOPQRSTUVWXYZ

All results for package cummeRbund

This page was generated on 2021-06-15 12:04:42 -0400 (Tue, 15 Jun 2021).

Package 412/1993HostnameOS / ArchINSTALLBUILDCHECKBUILD BIN
cummeRbund 2.35.0  (landing page)
Loyal A. Goff
Snapshot Date: 2021-06-14 14:50:10 -0400 (Mon, 14 Jun 2021)
URL: https://git.bioconductor.org/packages/cummeRbund
Branch: master
Last Commit: e18eb65
Last Changed Date: 2021-05-19 11:50:10 -0400 (Wed, 19 May 2021)
nebbiolo2Linux (Ubuntu 20.04.2 LTS) / x86_64  OK    OK    WARNINGS  UNNEEDED, same version is already published
riesling1Windows Server 2019 Standard / x64  OK    OK    WARNINGS    OK  UNNEEDED, same version is already published
merida1macOS 10.14.6 Mojave / x86_64  OK    OK    WARNINGS    OK  UNNEEDED, same version is already published

Results for Bioconductor software packages that depend directly on package cummeRbund

QUICK STATSOS / ArchINSTALLBUILDCHECKBUILD BIN
nebbiolo2Linux (Ubuntu 20.04.2 LTS) / x86_64
001
001
0001
riesling1Windows Server 2019 Standard / x64
001
001
0001
001
merida1macOS 10.14.6 Mojave / x86_64
001
001
0001
001
Package 1/1HostnameOS / ArchINSTALLBUILDCHECKBUILD BIN
meshr 1.29.0  (landing page)
Koki Tsuyuzaki
Last Commit: 67a0402
Last Changed Date: 2021-05-19 12:04:51 -0400
nebbiolo2Linux (Ubuntu 20.04.2 LTS) / x86_64  OK    OK    OK  UNNEEDED, same version is already published
riesling1Windows Server 2019 Standard / x64  OK    OK    OK    OK  UNNEEDED, same version is already published
merida1macOS 10.14.6 Mojave / x86_64  OK    OK    OK    OK  UNNEEDED, same version is already published