Back to Multiple platform build/check report for BioC 3.20:   simplified   long
AB[C]DEFGHIJKLMNOPQRSTUVWXYZ

This page was generated on 2024-06-18 11:51 -0400 (Tue, 18 Jun 2024).

HostnameOSArch (*)R versionInstalled pkgs
nebbiolo2Linux (Ubuntu 22.04.3 LTS)x86_644.4.0 RC (2024-04-16 r86468) -- "Puppy Cup" 4687
lconwaymacOS 12.7.1 Montereyx86_644.4.1 RC (2024-06-06 r86719) -- "Race for Your Life" 4402
Click on any hostname to see more info about the system (e.g. compilers)      (*) as reported by 'uname -p', except on Windows and Mac OS X

Package 461/2242HostnameOS / ArchINSTALLBUILDCHECKBUILD BIN
ctc 1.79.0  (landing page)
Antoine Lucas
Snapshot Date: 2024-06-17 14:00 -0400 (Mon, 17 Jun 2024)
git_url: https://git.bioconductor.org/packages/ctc
git_branch: devel
git_last_commit: 5a4349b
git_last_commit_date: 2024-04-30 10:10:59 -0400 (Tue, 30 Apr 2024)
nebbiolo2Linux (Ubuntu 22.04.3 LTS) / x86_64  OK    OK    OK  UNNEEDED, same version is already published
lconwaymacOS 12.7.1 Monterey / x86_64  OK    OK    OK    OK  UNNEEDED, same version is already published


INSTALL results for ctc on nebbiolo2

To the developers/maintainers of the ctc package:
- Allow up to 24 hours (and sometimes 48 hours) for your latest push to git@git.bioconductor.org:packages/ctc.git to reflect on this report. See Troubleshooting Build Report for more information.
- Use the following Renviron settings to reproduce errors and warnings.
- If 'R CMD check' started to fail recently on the Linux builder(s) over a missing dependency, add the missing dependency to 'Suggests:' in your DESCRIPTION file. See Renviron.bioc for more information.

raw results


Summary

Package: ctc
Version: 1.79.0
Command: /home/biocbuild/bbs-3.20-bioc/R/bin/R CMD INSTALL ctc
StartedAt: 2024-06-17 15:01:38 -0400 (Mon, 17 Jun 2024)
EndedAt: 2024-06-17 15:01:43 -0400 (Mon, 17 Jun 2024)
EllapsedTime: 4.9 seconds
RetCode: 0
Status:   OK  

Command output

##############################################################################
##############################################################################
###
### Running command:
###
###   /home/biocbuild/bbs-3.20-bioc/R/bin/R CMD INSTALL ctc
###
##############################################################################
##############################################################################


* installing to library ‘/home/biocbuild/bbs-3.20-bioc/R/site-library’
* installing *source* package ‘ctc’ ...
** using staged installation
** R
** demo
** exec
** byte-compile and prepare package for lazy loading
** help
*** installing help indices
** building package indices
** installing vignettes
** testing if installed package can be loaded from temporary location
** testing if installed package can be loaded from final location
** testing if installed package keeps a record of temporary installation path
* DONE (ctc)